BEGIN:VCALENDAR
VERSION:2.0
PRODID:-//First Missionary Baptist Church of Biloxi - ECPv6.15.20//NONSGML v1.0//EN
CALSCALE:GREGORIAN
METHOD:PUBLISH
X-ORIGINAL-URL:https://fmbcbiloxi.com
X-WR-CALDESC:Events for First Missionary Baptist Church of Biloxi
REFRESH-INTERVAL;VALUE=DURATION:PT1H
X-Robots-Tag:noindex
X-PUBLISHED-TTL:PT1H
BEGIN:VTIMEZONE
TZID:America/New_York
BEGIN:DAYLIGHT
TZOFFSETFROM:-0500
TZOFFSETTO:-0400
TZNAME:EDT
DTSTART:20210314T070000
END:DAYLIGHT
BEGIN:STANDARD
TZOFFSETFROM:-0400
TZOFFSETTO:-0500
TZNAME:EST
DTSTART:20211107T060000
END:STANDARD
BEGIN:DAYLIGHT
TZOFFSETFROM:-0500
TZOFFSETTO:-0400
TZNAME:EDT
DTSTART:20220313T070000
END:DAYLIGHT
BEGIN:STANDARD
TZOFFSETFROM:-0400
TZOFFSETTO:-0500
TZNAME:EST
DTSTART:20221106T060000
END:STANDARD
BEGIN:DAYLIGHT
TZOFFSETFROM:-0500
TZOFFSETTO:-0400
TZNAME:EDT
DTSTART:20230312T070000
END:DAYLIGHT
BEGIN:STANDARD
TZOFFSETFROM:-0400
TZOFFSETTO:-0500
TZNAME:EST
DTSTART:20231105T060000
END:STANDARD
BEGIN:DAYLIGHT
TZOFFSETFROM:-0500
TZOFFSETTO:-0400
TZNAME:EDT
DTSTART:20240310T070000
END:DAYLIGHT
BEGIN:STANDARD
TZOFFSETFROM:-0400
TZOFFSETTO:-0500
TZNAME:EST
DTSTART:20241103T060000
END:STANDARD
BEGIN:DAYLIGHT
TZOFFSETFROM:-0500
TZOFFSETTO:-0400
TZNAME:EDT
DTSTART:20250309T070000
END:DAYLIGHT
BEGIN:STANDARD
TZOFFSETFROM:-0400
TZOFFSETTO:-0500
TZNAME:EST
DTSTART:20251102T060000
END:STANDARD
BEGIN:DAYLIGHT
TZOFFSETFROM:-0500
TZOFFSETTO:-0400
TZNAME:EDT
DTSTART:20260308T070000
END:DAYLIGHT
BEGIN:STANDARD
TZOFFSETFROM:-0400
TZOFFSETTO:-0500
TZNAME:EST
DTSTART:20261101T060000
END:STANDARD
END:VTIMEZONE
BEGIN:VEVENT
DTSTART;TZID=America/New_York:20250420T090000
DTEND;TZID=America/New_York:20250420T090000
DTSTAMP:20260420T052427
CREATED:20210429T121201Z
LAST-MODIFIED:20210429T121201Z
UID:4009-1745139600-1745139600@fmbcbiloxi.com
SUMMARY:Birthday Celebration
DESCRIPTION:
URL:https://fmbcbiloxi.com/event/birthday-celebration-2025-04-20/
LOCATION:FMBC Fellowship Hall\, 658 Esters Boulevard Biloxi.\, Mississippi\, 39530\, United States
CATEGORIES:Birthday Celebration
ORGANIZER;CN="First Missionary Baptist Church":MAILTO:emaiil@fjchurch.com
END:VEVENT
BEGIN:VEVENT
DTSTART;TZID=America/New_York:20250316T090000
DTEND;TZID=America/New_York:20250316T090000
DTSTAMP:20260420T052427
CREATED:20210429T121201Z
LAST-MODIFIED:20210429T121201Z
UID:3972-1742115600-1742115600@fmbcbiloxi.com
SUMMARY:Birthday Celebration
DESCRIPTION:
URL:https://fmbcbiloxi.com/event/birthday-celebration-2025-03-16/
LOCATION:FMBC Fellowship Hall\, 658 Esters Boulevard Biloxi.\, Mississippi\, 39530\, United States
CATEGORIES:Birthday Celebration
ORGANIZER;CN="First Missionary Baptist Church":MAILTO:emaiil@fjchurch.com
END:VEVENT
BEGIN:VEVENT
DTSTART;TZID=America/New_York:20250216T090000
DTEND;TZID=America/New_York:20250216T090000
DTSTAMP:20260420T052427
CREATED:20210429T121201Z
LAST-MODIFIED:20210429T121201Z
UID:3918-1739696400-1739696400@fmbcbiloxi.com
SUMMARY:Birthday Celebration
DESCRIPTION:
URL:https://fmbcbiloxi.com/event/birthday-celebration-2025-02-16/
LOCATION:FMBC Fellowship Hall\, 658 Esters Boulevard Biloxi.\, Mississippi\, 39530\, United States
CATEGORIES:Birthday Celebration
ORGANIZER;CN="First Missionary Baptist Church":MAILTO:emaiil@fjchurch.com
END:VEVENT
BEGIN:VEVENT
DTSTART;TZID=America/New_York:20250119T090000
DTEND;TZID=America/New_York:20250119T090000
DTSTAMP:20260420T052427
CREATED:20210429T121201Z
LAST-MODIFIED:20210429T121201Z
UID:3865-1737277200-1737277200@fmbcbiloxi.com
SUMMARY:Birthday Celebration
DESCRIPTION:
URL:https://fmbcbiloxi.com/event/birthday-celebration-2025-01-19/
LOCATION:FMBC Fellowship Hall\, 658 Esters Boulevard Biloxi.\, Mississippi\, 39530\, United States
CATEGORIES:Birthday Celebration
ORGANIZER;CN="First Missionary Baptist Church":MAILTO:emaiil@fjchurch.com
END:VEVENT
BEGIN:VEVENT
DTSTART;TZID=America/New_York:20241215T090000
DTEND;TZID=America/New_York:20241215T090000
DTSTAMP:20260420T052427
CREATED:20210429T121201Z
LAST-MODIFIED:20210429T121201Z
UID:3839-1734253200-1734253200@fmbcbiloxi.com
SUMMARY:Birthday Celebration
DESCRIPTION:
URL:https://fmbcbiloxi.com/event/birthday-celebration-2024-12-15/
LOCATION:FMBC Fellowship Hall\, 658 Esters Boulevard Biloxi.\, Mississippi\, 39530\, United States
CATEGORIES:Birthday Celebration
ORGANIZER;CN="First Missionary Baptist Church":MAILTO:emaiil@fjchurch.com
END:VEVENT
BEGIN:VEVENT
DTSTART;TZID=America/New_York:20241117T090000
DTEND;TZID=America/New_York:20241117T090000
DTSTAMP:20260420T052427
CREATED:20210429T121201Z
LAST-MODIFIED:20210429T121201Z
UID:3817-1731834000-1731834000@fmbcbiloxi.com
SUMMARY:Birthday Celebration
DESCRIPTION:
URL:https://fmbcbiloxi.com/event/birthday-celebration-2024-11-17/
LOCATION:FMBC Fellowship Hall\, 658 Esters Boulevard Biloxi.\, Mississippi\, 39530\, United States
CATEGORIES:Birthday Celebration
ORGANIZER;CN="First Missionary Baptist Church":MAILTO:emaiil@fjchurch.com
END:VEVENT
BEGIN:VEVENT
DTSTART;TZID=America/New_York:20241020T090000
DTEND;TZID=America/New_York:20241020T090000
DTSTAMP:20260420T052427
CREATED:20210429T121201Z
LAST-MODIFIED:20210429T121201Z
UID:3794-1729414800-1729414800@fmbcbiloxi.com
SUMMARY:Birthday Celebration
DESCRIPTION:
URL:https://fmbcbiloxi.com/event/birthday-celebration-2024-10-20/
LOCATION:FMBC Fellowship Hall\, 658 Esters Boulevard Biloxi.\, Mississippi\, 39530\, United States
CATEGORIES:Birthday Celebration
ORGANIZER;CN="First Missionary Baptist Church":MAILTO:emaiil@fjchurch.com
END:VEVENT
BEGIN:VEVENT
DTSTART;TZID=America/New_York:20240915T090000
DTEND;TZID=America/New_York:20240915T090000
DTSTAMP:20260420T052427
CREATED:20210429T121201Z
LAST-MODIFIED:20210429T121201Z
UID:3723-1726390800-1726390800@fmbcbiloxi.com
SUMMARY:Birthday Celebration
DESCRIPTION:
URL:https://fmbcbiloxi.com/event/birthday-celebration-2024-09-15/
LOCATION:FMBC Fellowship Hall\, 658 Esters Boulevard Biloxi.\, Mississippi\, 39530\, United States
CATEGORIES:Birthday Celebration
ORGANIZER;CN="First Missionary Baptist Church":MAILTO:emaiil@fjchurch.com
END:VEVENT
BEGIN:VEVENT
DTSTART;TZID=America/New_York:20240818T090000
DTEND;TZID=America/New_York:20240818T090000
DTSTAMP:20260420T052427
CREATED:20210429T121201Z
LAST-MODIFIED:20210429T121201Z
UID:3615-1723971600-1723971600@fmbcbiloxi.com
SUMMARY:Birthday Celebration
DESCRIPTION:
URL:https://fmbcbiloxi.com/event/birthday-celebration-2024-08-18/
LOCATION:FMBC Fellowship Hall\, 658 Esters Boulevard Biloxi.\, Mississippi\, 39530\, United States
CATEGORIES:Birthday Celebration
ORGANIZER;CN="First Missionary Baptist Church":MAILTO:emaiil@fjchurch.com
END:VEVENT
BEGIN:VEVENT
DTSTART;TZID=America/New_York:20240721T090000
DTEND;TZID=America/New_York:20240721T090000
DTSTAMP:20260420T052427
CREATED:20210429T121201Z
LAST-MODIFIED:20210429T121201Z
UID:3571-1721552400-1721552400@fmbcbiloxi.com
SUMMARY:Birthday Celebration
DESCRIPTION:
URL:https://fmbcbiloxi.com/event/birthday-celebration-2024-07-21/
LOCATION:FMBC Fellowship Hall\, 658 Esters Boulevard Biloxi.\, Mississippi\, 39530\, United States
CATEGORIES:Birthday Celebration
ORGANIZER;CN="First Missionary Baptist Church":MAILTO:emaiil@fjchurch.com
END:VEVENT
BEGIN:VEVENT
DTSTART;TZID=America/New_York:20240616T090000
DTEND;TZID=America/New_York:20240616T090000
DTSTAMP:20260420T052427
CREATED:20210429T121201Z
LAST-MODIFIED:20210429T121201Z
UID:3493-1718528400-1718528400@fmbcbiloxi.com
SUMMARY:Birthday Celebration
DESCRIPTION:
URL:https://fmbcbiloxi.com/event/birthday-celebration-2024-06-16/
LOCATION:FMBC Fellowship Hall\, 658 Esters Boulevard Biloxi.\, Mississippi\, 39530\, United States
CATEGORIES:Birthday Celebration
ORGANIZER;CN="First Missionary Baptist Church":MAILTO:emaiil@fjchurch.com
END:VEVENT
BEGIN:VEVENT
DTSTART;TZID=America/New_York:20240519T090000
DTEND;TZID=America/New_York:20240519T090000
DTSTAMP:20260420T052427
CREATED:20210429T121201Z
LAST-MODIFIED:20210429T121201Z
UID:3380-1716109200-1716109200@fmbcbiloxi.com
SUMMARY:Birthday Celebration
DESCRIPTION:
URL:https://fmbcbiloxi.com/event/birthday-celebration-2024-05-19/
LOCATION:FMBC Fellowship Hall\, 658 Esters Boulevard Biloxi.\, Mississippi\, 39530\, United States
CATEGORIES:Birthday Celebration
ORGANIZER;CN="First Missionary Baptist Church":MAILTO:emaiil@fjchurch.com
END:VEVENT
BEGIN:VEVENT
DTSTART;TZID=America/New_York:20240421T090000
DTEND;TZID=America/New_York:20240421T090000
DTSTAMP:20260420T052427
CREATED:20210429T121201Z
LAST-MODIFIED:20210429T121201Z
UID:3289-1713690000-1713690000@fmbcbiloxi.com
SUMMARY:Birthday Celebration
DESCRIPTION:
URL:https://fmbcbiloxi.com/event/birthday-celebration-2024-04-21/
LOCATION:FMBC Fellowship Hall\, 658 Esters Boulevard Biloxi.\, Mississippi\, 39530\, United States
CATEGORIES:Birthday Celebration
ORGANIZER;CN="First Missionary Baptist Church":MAILTO:emaiil@fjchurch.com
END:VEVENT
BEGIN:VEVENT
DTSTART;TZID=America/New_York:20240317T090000
DTEND;TZID=America/New_York:20240317T090000
DTSTAMP:20260420T052427
CREATED:20210429T121201Z
LAST-MODIFIED:20210429T121201Z
UID:3138-1710666000-1710666000@fmbcbiloxi.com
SUMMARY:Birthday Celebration
DESCRIPTION:
URL:https://fmbcbiloxi.com/event/birthday-celebration-2024-03-17/
LOCATION:FMBC Fellowship Hall\, 658 Esters Boulevard Biloxi.\, Mississippi\, 39530\, United States
CATEGORIES:Birthday Celebration
ORGANIZER;CN="First Missionary Baptist Church":MAILTO:emaiil@fjchurch.com
END:VEVENT
BEGIN:VEVENT
DTSTART;TZID=America/New_York:20240218T090000
DTEND;TZID=America/New_York:20240218T090000
DTSTAMP:20260420T052427
CREATED:20210429T121201Z
LAST-MODIFIED:20210429T121201Z
UID:3007-1708246800-1708246800@fmbcbiloxi.com
SUMMARY:Birthday Celebration
DESCRIPTION:
URL:https://fmbcbiloxi.com/event/birthday-celebration-2024-02-18/
LOCATION:FMBC Fellowship Hall\, 658 Esters Boulevard Biloxi.\, Mississippi\, 39530\, United States
CATEGORIES:Birthday Celebration
ORGANIZER;CN="First Missionary Baptist Church":MAILTO:emaiil@fjchurch.com
END:VEVENT
BEGIN:VEVENT
DTSTART;TZID=America/New_York:20240121T090000
DTEND;TZID=America/New_York:20240121T090000
DTSTAMP:20260420T052427
CREATED:20210429T121201Z
LAST-MODIFIED:20210429T121201Z
UID:2893-1705827600-1705827600@fmbcbiloxi.com
SUMMARY:Birthday Celebration
DESCRIPTION:
URL:https://fmbcbiloxi.com/event/birthday-celebration-2024-01-21/
LOCATION:FMBC Fellowship Hall\, 658 Esters Boulevard Biloxi.\, Mississippi\, 39530\, United States
CATEGORIES:Birthday Celebration
ORGANIZER;CN="First Missionary Baptist Church":MAILTO:emaiil@fjchurch.com
END:VEVENT
BEGIN:VEVENT
DTSTART;TZID=America/New_York:20231217T090000
DTEND;TZID=America/New_York:20231217T090000
DTSTAMP:20260420T052427
CREATED:20210429T121201Z
LAST-MODIFIED:20210429T121201Z
UID:2712-1702803600-1702803600@fmbcbiloxi.com
SUMMARY:Birthday Celebration
DESCRIPTION:
URL:https://fmbcbiloxi.com/event/birthday-celebration-2023-12-17/
LOCATION:FMBC Fellowship Hall\, 658 Esters Boulevard Biloxi.\, Mississippi\, 39530\, United States
CATEGORIES:Birthday Celebration
ORGANIZER;CN="First Missionary Baptist Church":MAILTO:emaiil@fjchurch.com
END:VEVENT
BEGIN:VEVENT
DTSTART;TZID=America/New_York:20231119T090000
DTEND;TZID=America/New_York:20231119T090000
DTSTAMP:20260420T052427
CREATED:20210429T121201Z
LAST-MODIFIED:20210429T121201Z
UID:2353-1700384400-1700384400@fmbcbiloxi.com
SUMMARY:Birthday Celebration
DESCRIPTION:
URL:https://fmbcbiloxi.com/event/birthday-celebration-2023-11-19/
LOCATION:FMBC Fellowship Hall\, 658 Esters Boulevard Biloxi.\, Mississippi\, 39530\, United States
CATEGORIES:Birthday Celebration
ORGANIZER;CN="First Missionary Baptist Church":MAILTO:emaiil@fjchurch.com
END:VEVENT
BEGIN:VEVENT
DTSTART;TZID=America/New_York:20231015T090000
DTEND;TZID=America/New_York:20231015T090000
DTSTAMP:20260420T052427
CREATED:20210429T121201Z
LAST-MODIFIED:20210429T121201Z
UID:2161-1697360400-1697360400@fmbcbiloxi.com
SUMMARY:Birthday Celebration
DESCRIPTION:
URL:https://fmbcbiloxi.com/event/birthday-celebration-2023-10-15/
LOCATION:FMBC Fellowship Hall\, 658 Esters Boulevard Biloxi.\, Mississippi\, 39530\, United States
CATEGORIES:Birthday Celebration
ORGANIZER;CN="First Missionary Baptist Church":MAILTO:emaiil@fjchurch.com
END:VEVENT
BEGIN:VEVENT
DTSTART;TZID=America/New_York:20230917T090000
DTEND;TZID=America/New_York:20230917T090000
DTSTAMP:20260420T052427
CREATED:20210429T121201Z
LAST-MODIFIED:20210429T121201Z
UID:1663-1694941200-1694941200@fmbcbiloxi.com
SUMMARY:Birthday Celebration
DESCRIPTION:
URL:https://fmbcbiloxi.com/event/birthday-celebration-2023-09-17/
LOCATION:FMBC Fellowship Hall\, 658 Esters Boulevard Biloxi.\, Mississippi\, 39530\, United States
CATEGORIES:Birthday Celebration
ORGANIZER;CN="First Missionary Baptist Church":MAILTO:emaiil@fjchurch.com
END:VEVENT
BEGIN:VEVENT
DTSTART;TZID=America/New_York:20230820T090000
DTEND;TZID=America/New_York:20230820T090000
DTSTAMP:20260420T052427
CREATED:20210429T121201Z
LAST-MODIFIED:20210429T121201Z
UID:1560-1692522000-1692522000@fmbcbiloxi.com
SUMMARY:Birthday Celebration
DESCRIPTION:
URL:https://fmbcbiloxi.com/event/birthday-celebration-2023-08-20/
LOCATION:FMBC Fellowship Hall\, 658 Esters Boulevard Biloxi.\, Mississippi\, 39530\, United States
CATEGORIES:Birthday Celebration
ORGANIZER;CN="First Missionary Baptist Church":MAILTO:emaiil@fjchurch.com
END:VEVENT
BEGIN:VEVENT
DTSTART;TZID=America/New_York:20230716T090000
DTEND;TZID=America/New_York:20230716T090000
DTSTAMP:20260420T052427
CREATED:20210429T121201Z
LAST-MODIFIED:20210429T121201Z
UID:1322-1689498000-1689498000@fmbcbiloxi.com
SUMMARY:Birthday Celebration
DESCRIPTION:
URL:https://fmbcbiloxi.com/event/birthday-celebration-2023-07-16/
LOCATION:FMBC Fellowship Hall\, 658 Esters Boulevard Biloxi.\, Mississippi\, 39530\, United States
CATEGORIES:Birthday Celebration
ORGANIZER;CN="First Missionary Baptist Church":MAILTO:emaiil@fjchurch.com
END:VEVENT
BEGIN:VEVENT
DTSTART;TZID=America/New_York:20230618T090000
DTEND;TZID=America/New_York:20230618T090000
DTSTAMP:20260420T052427
CREATED:20210429T121201Z
LAST-MODIFIED:20210429T121201Z
UID:1286-1687078800-1687078800@fmbcbiloxi.com
SUMMARY:Birthday Celebration
DESCRIPTION:
URL:https://fmbcbiloxi.com/event/birthday-celebration-2023-06-18/
LOCATION:FMBC Fellowship Hall\, 658 Esters Boulevard Biloxi.\, Mississippi\, 39530\, United States
CATEGORIES:Birthday Celebration
ORGANIZER;CN="First Missionary Baptist Church":MAILTO:emaiil@fjchurch.com
END:VEVENT
BEGIN:VEVENT
DTSTART;TZID=America/New_York:20230521T090000
DTEND;TZID=America/New_York:20230521T090000
DTSTAMP:20260420T052427
CREATED:20210429T121201Z
LAST-MODIFIED:20210429T121201Z
UID:1235-1684659600-1684659600@fmbcbiloxi.com
SUMMARY:Birthday Celebration
DESCRIPTION:
URL:https://fmbcbiloxi.com/event/birthday-celebration-2023-05-21/
LOCATION:FMBC Fellowship Hall\, 658 Esters Boulevard Biloxi.\, Mississippi\, 39530\, United States
CATEGORIES:Birthday Celebration
ORGANIZER;CN="First Missionary Baptist Church":MAILTO:emaiil@fjchurch.com
END:VEVENT
BEGIN:VEVENT
DTSTART;TZID=America/New_York:20230416T090000
DTEND;TZID=America/New_York:20230416T090000
DTSTAMP:20260420T052427
CREATED:20210429T121201Z
LAST-MODIFIED:20210429T121201Z
UID:1006-1681635600-1681635600@fmbcbiloxi.com
SUMMARY:Birthday Celebration
DESCRIPTION:
URL:https://fmbcbiloxi.com/event/birthday-celebration-2023-04-16/
LOCATION:FMBC Fellowship Hall\, 658 Esters Boulevard Biloxi.\, Mississippi\, 39530\, United States
CATEGORIES:Birthday Celebration
ORGANIZER;CN="First Missionary Baptist Church":MAILTO:emaiil@fjchurch.com
END:VEVENT
BEGIN:VEVENT
DTSTART;TZID=America/New_York:20230319T090000
DTEND;TZID=America/New_York:20230319T090000
DTSTAMP:20260420T052427
CREATED:20210429T121201Z
LAST-MODIFIED:20210429T121201Z
UID:1005-1679216400-1679216400@fmbcbiloxi.com
SUMMARY:Birthday Celebration
DESCRIPTION:
URL:https://fmbcbiloxi.com/event/birthday-celebration-2023-03-19/
LOCATION:FMBC Fellowship Hall\, 658 Esters Boulevard Biloxi.\, Mississippi\, 39530\, United States
CATEGORIES:Birthday Celebration
ORGANIZER;CN="First Missionary Baptist Church":MAILTO:emaiil@fjchurch.com
END:VEVENT
BEGIN:VEVENT
DTSTART;TZID=America/New_York:20230219T090000
DTEND;TZID=America/New_York:20230219T090000
DTSTAMP:20260420T052427
CREATED:20210429T121201Z
LAST-MODIFIED:20210429T121201Z
UID:1004-1676797200-1676797200@fmbcbiloxi.com
SUMMARY:Birthday Celebration
DESCRIPTION:
URL:https://fmbcbiloxi.com/event/birthday-celebration-2023-02-19/
LOCATION:FMBC Fellowship Hall\, 658 Esters Boulevard Biloxi.\, Mississippi\, 39530\, United States
CATEGORIES:Birthday Celebration
ORGANIZER;CN="First Missionary Baptist Church":MAILTO:emaiil@fjchurch.com
END:VEVENT
BEGIN:VEVENT
DTSTART;TZID=America/New_York:20230115T090000
DTEND;TZID=America/New_York:20230115T090000
DTSTAMP:20260420T052427
CREATED:20210429T121201Z
LAST-MODIFIED:20210429T121201Z
UID:1003-1673773200-1673773200@fmbcbiloxi.com
SUMMARY:Birthday Celebration
DESCRIPTION:
URL:https://fmbcbiloxi.com/event/birthday-celebration-2023-01-15/
LOCATION:FMBC Fellowship Hall\, 658 Esters Boulevard Biloxi.\, Mississippi\, 39530\, United States
CATEGORIES:Birthday Celebration
ORGANIZER;CN="First Missionary Baptist Church":MAILTO:emaiil@fjchurch.com
END:VEVENT
BEGIN:VEVENT
DTSTART;TZID=America/New_York:20221218T090000
DTEND;TZID=America/New_York:20221218T090000
DTSTAMP:20260420T052427
CREATED:20210429T121201Z
LAST-MODIFIED:20210429T121201Z
UID:1002-1671354000-1671354000@fmbcbiloxi.com
SUMMARY:Birthday Celebration
DESCRIPTION:
URL:https://fmbcbiloxi.com/event/birthday-celebration-2022-12-18/
LOCATION:FMBC Fellowship Hall\, 658 Esters Boulevard Biloxi.\, Mississippi\, 39530\, United States
CATEGORIES:Birthday Celebration
ORGANIZER;CN="First Missionary Baptist Church":MAILTO:emaiil@fjchurch.com
END:VEVENT
BEGIN:VEVENT
DTSTART;TZID=America/New_York:20221120T090000
DTEND;TZID=America/New_York:20221120T090000
DTSTAMP:20260420T052427
CREATED:20210429T121201Z
LAST-MODIFIED:20210429T121201Z
UID:1001-1668934800-1668934800@fmbcbiloxi.com
SUMMARY:Birthday Celebration
DESCRIPTION:
URL:https://fmbcbiloxi.com/event/birthday-celebration-2022-11-20/
LOCATION:FMBC Fellowship Hall\, 658 Esters Boulevard Biloxi.\, Mississippi\, 39530\, United States
CATEGORIES:Birthday Celebration
ORGANIZER;CN="First Missionary Baptist Church":MAILTO:emaiil@fjchurch.com
END:VEVENT
END:VCALENDAR