BEGIN:VCALENDAR
VERSION:2.0
PRODID:-//First Missionary Baptist Church of Biloxi - ECPv6.15.20//NONSGML v1.0//EN
CALSCALE:GREGORIAN
METHOD:PUBLISH
X-ORIGINAL-URL:https://fmbcbiloxi.com
X-WR-CALDESC:Events for First Missionary Baptist Church of Biloxi
REFRESH-INTERVAL;VALUE=DURATION:PT1H
X-Robots-Tag:noindex
X-PUBLISHED-TTL:PT1H
BEGIN:VTIMEZONE
TZID:America/New_York
BEGIN:DAYLIGHT
TZOFFSETFROM:-0500
TZOFFSETTO:-0400
TZNAME:EDT
DTSTART:20200308T070000
END:DAYLIGHT
BEGIN:STANDARD
TZOFFSETFROM:-0400
TZOFFSETTO:-0500
TZNAME:EST
DTSTART:20201101T060000
END:STANDARD
BEGIN:DAYLIGHT
TZOFFSETFROM:-0500
TZOFFSETTO:-0400
TZNAME:EDT
DTSTART:20210314T070000
END:DAYLIGHT
BEGIN:STANDARD
TZOFFSETFROM:-0400
TZOFFSETTO:-0500
TZNAME:EST
DTSTART:20211107T060000
END:STANDARD
BEGIN:DAYLIGHT
TZOFFSETFROM:-0500
TZOFFSETTO:-0400
TZNAME:EDT
DTSTART:20220313T070000
END:DAYLIGHT
BEGIN:STANDARD
TZOFFSETFROM:-0400
TZOFFSETTO:-0500
TZNAME:EST
DTSTART:20221106T060000
END:STANDARD
BEGIN:DAYLIGHT
TZOFFSETFROM:-0500
TZOFFSETTO:-0400
TZNAME:EDT
DTSTART:20230312T070000
END:DAYLIGHT
BEGIN:STANDARD
TZOFFSETFROM:-0400
TZOFFSETTO:-0500
TZNAME:EST
DTSTART:20231105T060000
END:STANDARD
BEGIN:DAYLIGHT
TZOFFSETFROM:-0500
TZOFFSETTO:-0400
TZNAME:EDT
DTSTART:20240310T070000
END:DAYLIGHT
BEGIN:STANDARD
TZOFFSETFROM:-0400
TZOFFSETTO:-0500
TZNAME:EST
DTSTART:20241103T060000
END:STANDARD
END:VTIMEZONE
BEGIN:VEVENT
DTSTART;TZID=America/New_York:20230416T090000
DTEND;TZID=America/New_York:20230416T090000
DTSTAMP:20260422T065230
CREATED:20210429T121201Z
LAST-MODIFIED:20210429T121201Z
UID:1006-1681635600-1681635600@fmbcbiloxi.com
SUMMARY:Birthday Celebration
DESCRIPTION:
URL:https://fmbcbiloxi.com/event/birthday-celebration-2023-04-16/
LOCATION:FMBC Fellowship Hall\, 658 Esters Boulevard Biloxi.\, Mississippi\, 39530\, United States
CATEGORIES:Birthday Celebration
ORGANIZER;CN="First Missionary Baptist Church":MAILTO:emaiil@fjchurch.com
END:VEVENT
BEGIN:VEVENT
DTSTART;TZID=America/New_York:20230319T090000
DTEND;TZID=America/New_York:20230319T090000
DTSTAMP:20260422T065230
CREATED:20210429T121201Z
LAST-MODIFIED:20210429T121201Z
UID:1005-1679216400-1679216400@fmbcbiloxi.com
SUMMARY:Birthday Celebration
DESCRIPTION:
URL:https://fmbcbiloxi.com/event/birthday-celebration-2023-03-19/
LOCATION:FMBC Fellowship Hall\, 658 Esters Boulevard Biloxi.\, Mississippi\, 39530\, United States
CATEGORIES:Birthday Celebration
ORGANIZER;CN="First Missionary Baptist Church":MAILTO:emaiil@fjchurch.com
END:VEVENT
BEGIN:VEVENT
DTSTART;TZID=America/New_York:20230219T090000
DTEND;TZID=America/New_York:20230219T090000
DTSTAMP:20260422T065230
CREATED:20210429T121201Z
LAST-MODIFIED:20210429T121201Z
UID:1004-1676797200-1676797200@fmbcbiloxi.com
SUMMARY:Birthday Celebration
DESCRIPTION:
URL:https://fmbcbiloxi.com/event/birthday-celebration-2023-02-19/
LOCATION:FMBC Fellowship Hall\, 658 Esters Boulevard Biloxi.\, Mississippi\, 39530\, United States
CATEGORIES:Birthday Celebration
ORGANIZER;CN="First Missionary Baptist Church":MAILTO:emaiil@fjchurch.com
END:VEVENT
BEGIN:VEVENT
DTSTART;TZID=America/New_York:20230115T090000
DTEND;TZID=America/New_York:20230115T090000
DTSTAMP:20260422T065230
CREATED:20210429T121201Z
LAST-MODIFIED:20210429T121201Z
UID:1003-1673773200-1673773200@fmbcbiloxi.com
SUMMARY:Birthday Celebration
DESCRIPTION:
URL:https://fmbcbiloxi.com/event/birthday-celebration-2023-01-15/
LOCATION:FMBC Fellowship Hall\, 658 Esters Boulevard Biloxi.\, Mississippi\, 39530\, United States
CATEGORIES:Birthday Celebration
ORGANIZER;CN="First Missionary Baptist Church":MAILTO:emaiil@fjchurch.com
END:VEVENT
BEGIN:VEVENT
DTSTART;TZID=America/New_York:20221218T090000
DTEND;TZID=America/New_York:20221218T090000
DTSTAMP:20260422T065230
CREATED:20210429T121201Z
LAST-MODIFIED:20210429T121201Z
UID:1002-1671354000-1671354000@fmbcbiloxi.com
SUMMARY:Birthday Celebration
DESCRIPTION:
URL:https://fmbcbiloxi.com/event/birthday-celebration-2022-12-18/
LOCATION:FMBC Fellowship Hall\, 658 Esters Boulevard Biloxi.\, Mississippi\, 39530\, United States
CATEGORIES:Birthday Celebration
ORGANIZER;CN="First Missionary Baptist Church":MAILTO:emaiil@fjchurch.com
END:VEVENT
BEGIN:VEVENT
DTSTART;TZID=America/New_York:20221120T090000
DTEND;TZID=America/New_York:20221120T090000
DTSTAMP:20260422T065230
CREATED:20210429T121201Z
LAST-MODIFIED:20210429T121201Z
UID:1001-1668934800-1668934800@fmbcbiloxi.com
SUMMARY:Birthday Celebration
DESCRIPTION:
URL:https://fmbcbiloxi.com/event/birthday-celebration-2022-11-20/
LOCATION:FMBC Fellowship Hall\, 658 Esters Boulevard Biloxi.\, Mississippi\, 39530\, United States
CATEGORIES:Birthday Celebration
ORGANIZER;CN="First Missionary Baptist Church":MAILTO:emaiil@fjchurch.com
END:VEVENT
BEGIN:VEVENT
DTSTART;TZID=America/New_York:20221016T090000
DTEND;TZID=America/New_York:20221016T090000
DTSTAMP:20260422T065230
CREATED:20210429T121201Z
LAST-MODIFIED:20210429T121201Z
UID:1000-1665910800-1665910800@fmbcbiloxi.com
SUMMARY:Birthday Celebration
DESCRIPTION:
URL:https://fmbcbiloxi.com/event/birthday-celebration-2022-10-16/
LOCATION:FMBC Fellowship Hall\, 658 Esters Boulevard Biloxi.\, Mississippi\, 39530\, United States
CATEGORIES:Birthday Celebration
ORGANIZER;CN="First Missionary Baptist Church":MAILTO:emaiil@fjchurch.com
END:VEVENT
BEGIN:VEVENT
DTSTART;TZID=America/New_York:20220918T090000
DTEND;TZID=America/New_York:20220918T090000
DTSTAMP:20260422T065230
CREATED:20210429T121201Z
LAST-MODIFIED:20210429T121201Z
UID:999-1663491600-1663491600@fmbcbiloxi.com
SUMMARY:Birthday Celebration
DESCRIPTION:
URL:https://fmbcbiloxi.com/event/birthday-celebration-2022-09-18/
LOCATION:FMBC Fellowship Hall\, 658 Esters Boulevard Biloxi.\, Mississippi\, 39530\, United States
CATEGORIES:Birthday Celebration
ORGANIZER;CN="First Missionary Baptist Church":MAILTO:emaiil@fjchurch.com
END:VEVENT
BEGIN:VEVENT
DTSTART;TZID=America/New_York:20220821T090000
DTEND;TZID=America/New_York:20220821T090000
DTSTAMP:20260422T065230
CREATED:20210429T121201Z
LAST-MODIFIED:20210429T121201Z
UID:998-1661072400-1661072400@fmbcbiloxi.com
SUMMARY:Birthday Celebration
DESCRIPTION:
URL:https://fmbcbiloxi.com/event/birthday-celebration-2022-08-21/
LOCATION:FMBC Fellowship Hall\, 658 Esters Boulevard Biloxi.\, Mississippi\, 39530\, United States
CATEGORIES:Birthday Celebration
ORGANIZER;CN="First Missionary Baptist Church":MAILTO:emaiil@fjchurch.com
END:VEVENT
BEGIN:VEVENT
DTSTART;TZID=America/New_York:20220717T090000
DTEND;TZID=America/New_York:20220717T090000
DTSTAMP:20260422T065230
CREATED:20210429T121201Z
LAST-MODIFIED:20210429T121201Z
UID:997-1658048400-1658048400@fmbcbiloxi.com
SUMMARY:Birthday Celebration
DESCRIPTION:
URL:https://fmbcbiloxi.com/event/birthday-celebration-2022-07-17/
LOCATION:FMBC Fellowship Hall\, 658 Esters Boulevard Biloxi.\, Mississippi\, 39530\, United States
CATEGORIES:Birthday Celebration
ORGANIZER;CN="First Missionary Baptist Church":MAILTO:emaiil@fjchurch.com
END:VEVENT
BEGIN:VEVENT
DTSTART;TZID=America/New_York:20220619T090000
DTEND;TZID=America/New_York:20220619T090000
DTSTAMP:20260422T065230
CREATED:20210429T121201Z
LAST-MODIFIED:20210429T121201Z
UID:996-1655629200-1655629200@fmbcbiloxi.com
SUMMARY:Birthday Celebration
DESCRIPTION:
URL:https://fmbcbiloxi.com/event/birthday-celebration-2022-06-19/
LOCATION:FMBC Fellowship Hall\, 658 Esters Boulevard Biloxi.\, Mississippi\, 39530\, United States
CATEGORIES:Birthday Celebration
ORGANIZER;CN="First Missionary Baptist Church":MAILTO:emaiil@fjchurch.com
END:VEVENT
BEGIN:VEVENT
DTSTART;TZID=America/New_York:20220515T090000
DTEND;TZID=America/New_York:20220515T090000
DTSTAMP:20260422T065230
CREATED:20210429T121201Z
LAST-MODIFIED:20210429T121201Z
UID:995-1652605200-1652605200@fmbcbiloxi.com
SUMMARY:Birthday Celebration
DESCRIPTION:
URL:https://fmbcbiloxi.com/event/birthday-celebration-2022-05-15/
LOCATION:FMBC Fellowship Hall\, 658 Esters Boulevard Biloxi.\, Mississippi\, 39530\, United States
CATEGORIES:Birthday Celebration
ORGANIZER;CN="First Missionary Baptist Church":MAILTO:emaiil@fjchurch.com
END:VEVENT
BEGIN:VEVENT
DTSTART;TZID=America/New_York:20210418T090000
DTEND;TZID=America/New_York:20210418T090000
DTSTAMP:20260422T065230
CREATED:20210429T121201Z
LAST-MODIFIED:20210429T121201Z
UID:981-1618736400-1618736400@fmbcbiloxi.com
SUMMARY:Birthday Celebration
DESCRIPTION:
URL:https://fmbcbiloxi.com/event/birthday-celebration/
LOCATION:FMBC Fellowship Hall\, 658 Esters Boulevard Biloxi.\, Mississippi\, 39530\, United States
CATEGORIES:Birthday Celebration
ORGANIZER;CN="First Missionary Baptist Church":MAILTO:emaiil@fjchurch.com
END:VEVENT
END:VCALENDAR