BEGIN:VCALENDAR
VERSION:2.0
PRODID:-//First Missionary Baptist Church of Biloxi - ECPv6.15.20//NONSGML v1.0//EN
CALSCALE:GREGORIAN
METHOD:PUBLISH
X-WR-CALNAME:First Missionary Baptist Church of Biloxi
X-ORIGINAL-URL:https://fmbcbiloxi.com
X-WR-CALDESC:Events for First Missionary Baptist Church of Biloxi
REFRESH-INTERVAL;VALUE=DURATION:PT1H
X-Robots-Tag:noindex
X-PUBLISHED-TTL:PT1H
BEGIN:VTIMEZONE
TZID:America/New_York
BEGIN:DAYLIGHT
TZOFFSETFROM:-0500
TZOFFSETTO:-0400
TZNAME:EDT
DTSTART:20240310T070000
END:DAYLIGHT
BEGIN:STANDARD
TZOFFSETFROM:-0400
TZOFFSETTO:-0500
TZNAME:EST
DTSTART:20241103T060000
END:STANDARD
BEGIN:DAYLIGHT
TZOFFSETFROM:-0500
TZOFFSETTO:-0400
TZNAME:EDT
DTSTART:20250309T070000
END:DAYLIGHT
BEGIN:STANDARD
TZOFFSETFROM:-0400
TZOFFSETTO:-0500
TZNAME:EST
DTSTART:20251102T060000
END:STANDARD
BEGIN:DAYLIGHT
TZOFFSETFROM:-0500
TZOFFSETTO:-0400
TZNAME:EDT
DTSTART:20260308T070000
END:DAYLIGHT
BEGIN:STANDARD
TZOFFSETFROM:-0400
TZOFFSETTO:-0500
TZNAME:EST
DTSTART:20261101T060000
END:STANDARD
BEGIN:DAYLIGHT
TZOFFSETFROM:-0500
TZOFFSETTO:-0400
TZNAME:EDT
DTSTART:20270314T070000
END:DAYLIGHT
BEGIN:STANDARD
TZOFFSETFROM:-0400
TZOFFSETTO:-0500
TZNAME:EST
DTSTART:20271107T060000
END:STANDARD
END:VTIMEZONE
BEGIN:VEVENT
DTSTART;TZID=America/New_York:20260415T180000
DTEND;TZID=America/New_York:20260415T180000
DTSTAMP:20260419T203312
CREATED:20210405T175544Z
LAST-MODIFIED:20210405T175544Z
UID:4434-1776276000-1776276000@fmbcbiloxi.com
SUMMARY:Pastor’s Aide Meeting
DESCRIPTION:
URL:https://fmbcbiloxi.com/event/pastors-aide-meeting-2026-04-15/
LOCATION:FMBC Fellowship Hall\, 658 Esters Boulevard Biloxi.\, Mississippi\, 39530\, United States
CATEGORIES:Meeting
ORGANIZER;CN="First Missionary Baptist Church":MAILTO:emaiil@fjchurch.com
END:VEVENT
BEGIN:VEVENT
DTSTART;TZID=America/New_York:20260411T090000
DTEND;TZID=America/New_York:20260411T090000
DTSTAMP:20260419T203312
CREATED:20210405T175729Z
LAST-MODIFIED:20210405T175729Z
UID:4427-1775898000-1775898000@fmbcbiloxi.com
SUMMARY:Brotherhood Meeting
DESCRIPTION:
URL:https://fmbcbiloxi.com/event/brotherhood-meeting-2026-04-11/
LOCATION:First Missionary Baptist Church\, 658 Esters Blvd\, Biloxi\, MS 39530.\, Missouri\, 39530\, United States
CATEGORIES:Meeting
ORGANIZER;CN="First Missionary Baptist Church":MAILTO:emaiil@fjchurch.com
END:VEVENT
BEGIN:VEVENT
DTSTART;TZID=America/New_York:20260328T090000
DTEND;TZID=America/New_York:20260328T090000
DTSTAMP:20260419T203312
CREATED:20210405T175729Z
LAST-MODIFIED:20210405T175729Z
UID:4428-1774688400-1774688400@fmbcbiloxi.com
SUMMARY:Brotherhood Meeting
DESCRIPTION:
URL:https://fmbcbiloxi.com/event/brotherhood-meeting-2026-03-28/
LOCATION:First Missionary Baptist Church\, 658 Esters Blvd\, Biloxi\, MS 39530.\, Missouri\, 39530\, United States
CATEGORIES:Meeting
ORGANIZER;CN="First Missionary Baptist Church":MAILTO:emaiil@fjchurch.com
END:VEVENT
BEGIN:VEVENT
DTSTART;TZID=America/New_York:20260318T180000
DTEND;TZID=America/New_York:20260318T180000
DTSTAMP:20260419T203312
CREATED:20210405T175544Z
LAST-MODIFIED:20210405T175544Z
UID:4389-1773856800-1773856800@fmbcbiloxi.com
SUMMARY:Pastor’s Aide Meeting
DESCRIPTION:
URL:https://fmbcbiloxi.com/event/pastors-aide-meeting-2026-03-18/
LOCATION:FMBC Fellowship Hall\, 658 Esters Boulevard Biloxi.\, Mississippi\, 39530\, United States
CATEGORIES:Meeting
ORGANIZER;CN="First Missionary Baptist Church":MAILTO:emaiil@fjchurch.com
END:VEVENT
BEGIN:VEVENT
DTSTART;TZID=America/New_York:20260314T090000
DTEND;TZID=America/New_York:20260314T090000
DTSTAMP:20260419T203312
CREATED:20210405T175729Z
LAST-MODIFIED:20210405T175729Z
UID:4362-1773478800-1773478800@fmbcbiloxi.com
SUMMARY:Brotherhood Meeting
DESCRIPTION:
URL:https://fmbcbiloxi.com/event/brotherhood-meeting-2026-03-14/
LOCATION:First Missionary Baptist Church\, 658 Esters Blvd\, Biloxi\, MS 39530.\, Missouri\, 39530\, United States
CATEGORIES:Meeting
ORGANIZER;CN="First Missionary Baptist Church":MAILTO:emaiil@fjchurch.com
END:VEVENT
BEGIN:VEVENT
DTSTART;TZID=America/New_York:20260228T090000
DTEND;TZID=America/New_York:20260228T090000
DTSTAMP:20260419T203312
CREATED:20210405T175729Z
LAST-MODIFIED:20210405T175729Z
UID:4363-1772269200-1772269200@fmbcbiloxi.com
SUMMARY:Brotherhood Meeting
DESCRIPTION:
URL:https://fmbcbiloxi.com/event/brotherhood-meeting-2026-02-28/
LOCATION:First Missionary Baptist Church\, 658 Esters Blvd\, Biloxi\, MS 39530.\, Missouri\, 39530\, United States
CATEGORIES:Meeting
ORGANIZER;CN="First Missionary Baptist Church":MAILTO:emaiil@fjchurch.com
END:VEVENT
BEGIN:VEVENT
DTSTART;TZID=America/New_York:20260218T180000
DTEND;TZID=America/New_York:20260218T180000
DTSTAMP:20260419T203312
CREATED:20210405T175544Z
LAST-MODIFIED:20210405T175544Z
UID:4346-1771437600-1771437600@fmbcbiloxi.com
SUMMARY:Pastor’s Aide Meeting
DESCRIPTION:
URL:https://fmbcbiloxi.com/event/pastors-aide-meeting-2026-02-18/
LOCATION:FMBC Fellowship Hall\, 658 Esters Boulevard Biloxi.\, Mississippi\, 39530\, United States
CATEGORIES:Meeting
ORGANIZER;CN="First Missionary Baptist Church":MAILTO:emaiil@fjchurch.com
END:VEVENT
BEGIN:VEVENT
DTSTART;TZID=America/New_York:20260214T090000
DTEND;TZID=America/New_York:20260214T090000
DTSTAMP:20260419T203312
CREATED:20210405T175729Z
LAST-MODIFIED:20210405T175729Z
UID:4340-1771059600-1771059600@fmbcbiloxi.com
SUMMARY:Brotherhood Meeting
DESCRIPTION:
URL:https://fmbcbiloxi.com/event/brotherhood-meeting-2026-02-14/
LOCATION:First Missionary Baptist Church\, 658 Esters Blvd\, Biloxi\, MS 39530.\, Missouri\, 39530\, United States
CATEGORIES:Meeting
ORGANIZER;CN="First Missionary Baptist Church":MAILTO:emaiil@fjchurch.com
END:VEVENT
BEGIN:VEVENT
DTSTART;TZID=America/New_York:20260124T090000
DTEND;TZID=America/New_York:20260124T090000
DTSTAMP:20260419T203312
CREATED:20210405T175729Z
LAST-MODIFIED:20210405T175729Z
UID:4341-1769245200-1769245200@fmbcbiloxi.com
SUMMARY:Brotherhood Meeting
DESCRIPTION:
URL:https://fmbcbiloxi.com/event/brotherhood-meeting-2026-01-24/
LOCATION:First Missionary Baptist Church\, 658 Esters Blvd\, Biloxi\, MS 39530.\, Missouri\, 39530\, United States
CATEGORIES:Meeting
ORGANIZER;CN="First Missionary Baptist Church":MAILTO:emaiil@fjchurch.com
END:VEVENT
BEGIN:VEVENT
DTSTART;TZID=America/New_York:20260121T180000
DTEND;TZID=America/New_York:20260121T180000
DTSTAMP:20260419T203312
CREATED:20210405T175544Z
LAST-MODIFIED:20210405T175544Z
UID:4324-1769018400-1769018400@fmbcbiloxi.com
SUMMARY:Pastor’s Aide Meeting
DESCRIPTION:
URL:https://fmbcbiloxi.com/event/pastors-aide-meeting-2026-01-21/
LOCATION:FMBC Fellowship Hall\, 658 Esters Boulevard Biloxi.\, Mississippi\, 39530\, United States
CATEGORIES:Meeting
ORGANIZER;CN="First Missionary Baptist Church":MAILTO:emaiil@fjchurch.com
END:VEVENT
BEGIN:VEVENT
DTSTART;TZID=America/New_York:20260110T090000
DTEND;TZID=America/New_York:20260110T090000
DTSTAMP:20260419T203312
CREATED:20210405T175729Z
LAST-MODIFIED:20210405T175729Z
UID:4312-1768035600-1768035600@fmbcbiloxi.com
SUMMARY:Brotherhood Meeting
DESCRIPTION:
URL:https://fmbcbiloxi.com/event/brotherhood-meeting-2026-01-10/
LOCATION:First Missionary Baptist Church\, 658 Esters Blvd\, Biloxi\, MS 39530.\, Missouri\, 39530\, United States
CATEGORIES:Meeting
ORGANIZER;CN="First Missionary Baptist Church":MAILTO:emaiil@fjchurch.com
END:VEVENT
BEGIN:VEVENT
DTSTART;TZID=America/New_York:20251227T090000
DTEND;TZID=America/New_York:20251227T090000
DTSTAMP:20260419T203312
CREATED:20210405T175729Z
LAST-MODIFIED:20210405T175729Z
UID:4313-1766826000-1766826000@fmbcbiloxi.com
SUMMARY:Brotherhood Meeting
DESCRIPTION:
URL:https://fmbcbiloxi.com/event/brotherhood-meeting-2025-12-27/
LOCATION:First Missionary Baptist Church\, 658 Esters Blvd\, Biloxi\, MS 39530.\, Missouri\, 39530\, United States
CATEGORIES:Meeting
ORGANIZER;CN="First Missionary Baptist Church":MAILTO:emaiil@fjchurch.com
END:VEVENT
BEGIN:VEVENT
DTSTART;TZID=America/New_York:20251217T180000
DTEND;TZID=America/New_York:20251217T180000
DTSTAMP:20260419T203312
CREATED:20210405T175544Z
LAST-MODIFIED:20210405T175544Z
UID:4297-1765994400-1765994400@fmbcbiloxi.com
SUMMARY:Pastor’s Aide Meeting
DESCRIPTION:
URL:https://fmbcbiloxi.com/event/pastors-aide-meeting-2025-12-17/
LOCATION:FMBC Fellowship Hall\, 658 Esters Boulevard Biloxi.\, Mississippi\, 39530\, United States
CATEGORIES:Meeting
ORGANIZER;CN="First Missionary Baptist Church":MAILTO:emaiil@fjchurch.com
END:VEVENT
BEGIN:VEVENT
DTSTART;TZID=America/New_York:20251213T090000
DTEND;TZID=America/New_York:20251213T090000
DTSTAMP:20260419T203312
CREATED:20210405T175729Z
LAST-MODIFIED:20210405T175729Z
UID:4291-1765616400-1765616400@fmbcbiloxi.com
SUMMARY:Brotherhood Meeting
DESCRIPTION:
URL:https://fmbcbiloxi.com/event/brotherhood-meeting-2025-12-13/
LOCATION:First Missionary Baptist Church\, 658 Esters Blvd\, Biloxi\, MS 39530.\, Missouri\, 39530\, United States
CATEGORIES:Meeting
ORGANIZER;CN="First Missionary Baptist Church":MAILTO:emaiil@fjchurch.com
END:VEVENT
BEGIN:VEVENT
DTSTART;TZID=America/New_York:20251122T090000
DTEND;TZID=America/New_York:20251122T090000
DTSTAMP:20260419T203312
CREATED:20210405T175729Z
LAST-MODIFIED:20210405T175729Z
UID:4292-1763802000-1763802000@fmbcbiloxi.com
SUMMARY:Brotherhood Meeting
DESCRIPTION:
URL:https://fmbcbiloxi.com/event/brotherhood-meeting-2025-11-22/
LOCATION:First Missionary Baptist Church\, 658 Esters Blvd\, Biloxi\, MS 39530.\, Missouri\, 39530\, United States
CATEGORIES:Meeting
ORGANIZER;CN="First Missionary Baptist Church":MAILTO:emaiil@fjchurch.com
END:VEVENT
BEGIN:VEVENT
DTSTART;TZID=America/New_York:20251119T180000
DTEND;TZID=America/New_York:20251119T180000
DTSTAMP:20260419T203312
CREATED:20210405T175544Z
LAST-MODIFIED:20210405T175544Z
UID:4265-1763575200-1763575200@fmbcbiloxi.com
SUMMARY:Pastor’s Aide Meeting
DESCRIPTION:
URL:https://fmbcbiloxi.com/event/pastors-aide-meeting-2025-11-19/
LOCATION:FMBC Fellowship Hall\, 658 Esters Boulevard Biloxi.\, Mississippi\, 39530\, United States
CATEGORIES:Meeting
ORGANIZER;CN="First Missionary Baptist Church":MAILTO:emaiil@fjchurch.com
END:VEVENT
BEGIN:VEVENT
DTSTART;TZID=America/New_York:20251108T090000
DTEND;TZID=America/New_York:20251108T090000
DTSTAMP:20260419T203312
CREATED:20210405T175729Z
LAST-MODIFIED:20210405T175729Z
UID:4253-1762592400-1762592400@fmbcbiloxi.com
SUMMARY:Brotherhood Meeting
DESCRIPTION:
URL:https://fmbcbiloxi.com/event/brotherhood-meeting-2025-11-08/
LOCATION:First Missionary Baptist Church\, 658 Esters Blvd\, Biloxi\, MS 39530.\, Missouri\, 39530\, United States
CATEGORIES:Meeting
ORGANIZER;CN="First Missionary Baptist Church":MAILTO:emaiil@fjchurch.com
END:VEVENT
BEGIN:VEVENT
DTSTART;TZID=America/New_York:20251025T090000
DTEND;TZID=America/New_York:20251025T090000
DTSTAMP:20260419T203312
CREATED:20210405T175729Z
LAST-MODIFIED:20210405T175729Z
UID:4254-1761382800-1761382800@fmbcbiloxi.com
SUMMARY:Brotherhood Meeting
DESCRIPTION:
URL:https://fmbcbiloxi.com/event/brotherhood-meeting-2025-10-25/
LOCATION:First Missionary Baptist Church\, 658 Esters Blvd\, Biloxi\, MS 39530.\, Missouri\, 39530\, United States
CATEGORIES:Meeting
ORGANIZER;CN="First Missionary Baptist Church":MAILTO:emaiil@fjchurch.com
END:VEVENT
BEGIN:VEVENT
DTSTART;TZID=America/New_York:20251015T180000
DTEND;TZID=America/New_York:20251015T180000
DTSTAMP:20260419T203312
CREATED:20210405T175544Z
LAST-MODIFIED:20210405T175544Z
UID:4237-1760551200-1760551200@fmbcbiloxi.com
SUMMARY:Pastor’s Aide Meeting
DESCRIPTION:
URL:https://fmbcbiloxi.com/event/pastors-aide-meeting-2025-10-15/
LOCATION:FMBC Fellowship Hall\, 658 Esters Boulevard Biloxi.\, Mississippi\, 39530\, United States
CATEGORIES:Meeting
ORGANIZER;CN="First Missionary Baptist Church":MAILTO:emaiil@fjchurch.com
END:VEVENT
BEGIN:VEVENT
DTSTART;TZID=America/New_York:20251011T090000
DTEND;TZID=America/New_York:20251011T090000
DTSTAMP:20260419T203312
CREATED:20210405T175729Z
LAST-MODIFIED:20210405T175729Z
UID:4220-1760173200-1760173200@fmbcbiloxi.com
SUMMARY:Brotherhood Meeting
DESCRIPTION:
URL:https://fmbcbiloxi.com/event/brotherhood-meeting-2025-10-11/
LOCATION:First Missionary Baptist Church\, 658 Esters Blvd\, Biloxi\, MS 39530.\, Missouri\, 39530\, United States
CATEGORIES:Meeting
ORGANIZER;CN="First Missionary Baptist Church":MAILTO:emaiil@fjchurch.com
END:VEVENT
BEGIN:VEVENT
DTSTART;TZID=America/New_York:20250927T090000
DTEND;TZID=America/New_York:20250927T090000
DTSTAMP:20260419T203312
CREATED:20210405T175729Z
LAST-MODIFIED:20210405T175729Z
UID:4221-1758963600-1758963600@fmbcbiloxi.com
SUMMARY:Brotherhood Meeting
DESCRIPTION:
URL:https://fmbcbiloxi.com/event/brotherhood-meeting-2025-09-27/
LOCATION:First Missionary Baptist Church\, 658 Esters Blvd\, Biloxi\, MS 39530.\, Missouri\, 39530\, United States
CATEGORIES:Meeting
ORGANIZER;CN="First Missionary Baptist Church":MAILTO:emaiil@fjchurch.com
END:VEVENT
BEGIN:VEVENT
DTSTART;TZID=America/New_York:20250917T180000
DTEND;TZID=America/New_York:20250917T180000
DTSTAMP:20260419T203312
CREATED:20210405T175544Z
LAST-MODIFIED:20210405T175544Z
UID:4194-1758132000-1758132000@fmbcbiloxi.com
SUMMARY:Pastor’s Aide Meeting
DESCRIPTION:
URL:https://fmbcbiloxi.com/event/pastors-aide-meeting-2025-09-17/
LOCATION:FMBC Fellowship Hall\, 658 Esters Boulevard Biloxi.\, Mississippi\, 39530\, United States
CATEGORIES:Meeting
ORGANIZER;CN="First Missionary Baptist Church":MAILTO:emaiil@fjchurch.com
END:VEVENT
BEGIN:VEVENT
DTSTART;TZID=America/New_York:20250913T090000
DTEND;TZID=America/New_York:20250913T090000
DTSTAMP:20260419T203312
CREATED:20210405T175729Z
LAST-MODIFIED:20210405T175729Z
UID:4188-1757754000-1757754000@fmbcbiloxi.com
SUMMARY:Brotherhood Meeting
DESCRIPTION:
URL:https://fmbcbiloxi.com/event/brotherhood-meeting-2025-09-13/
LOCATION:First Missionary Baptist Church\, 658 Esters Blvd\, Biloxi\, MS 39530.\, Missouri\, 39530\, United States
CATEGORIES:Meeting
ORGANIZER;CN="First Missionary Baptist Church":MAILTO:emaiil@fjchurch.com
END:VEVENT
BEGIN:VEVENT
DTSTART;TZID=America/New_York:20250823T090000
DTEND;TZID=America/New_York:20250823T090000
DTSTAMP:20260419T203312
CREATED:20210405T175729Z
LAST-MODIFIED:20210405T175729Z
UID:4189-1755939600-1755939600@fmbcbiloxi.com
SUMMARY:Brotherhood Meeting
DESCRIPTION:
URL:https://fmbcbiloxi.com/event/brotherhood-meeting-2025-08-23/
LOCATION:First Missionary Baptist Church\, 658 Esters Blvd\, Biloxi\, MS 39530.\, Missouri\, 39530\, United States
CATEGORIES:Meeting
ORGANIZER;CN="First Missionary Baptist Church":MAILTO:emaiil@fjchurch.com
END:VEVENT
BEGIN:VEVENT
DTSTART;TZID=America/New_York:20250820T180000
DTEND;TZID=America/New_York:20250820T180000
DTSTAMP:20260419T203312
CREATED:20210405T175544Z
LAST-MODIFIED:20210405T175544Z
UID:4124-1755712800-1755712800@fmbcbiloxi.com
SUMMARY:Pastor’s Aide Meeting
DESCRIPTION:
URL:https://fmbcbiloxi.com/event/pastors-aide-meeting-2025-08-20/
LOCATION:FMBC Fellowship Hall\, 658 Esters Boulevard Biloxi.\, Mississippi\, 39530\, United States
CATEGORIES:Meeting
ORGANIZER;CN="First Missionary Baptist Church":MAILTO:emaiil@fjchurch.com
END:VEVENT
BEGIN:VEVENT
DTSTART;TZID=America/New_York:20250809T090000
DTEND;TZID=America/New_York:20250809T090000
DTSTAMP:20260419T203312
CREATED:20210405T175729Z
LAST-MODIFIED:20210405T175729Z
UID:4112-1754730000-1754730000@fmbcbiloxi.com
SUMMARY:Brotherhood Meeting
DESCRIPTION:
URL:https://fmbcbiloxi.com/event/brotherhood-meeting-2025-08-09/
LOCATION:First Missionary Baptist Church\, 658 Esters Blvd\, Biloxi\, MS 39530.\, Missouri\, 39530\, United States
CATEGORIES:Meeting
ORGANIZER;CN="First Missionary Baptist Church":MAILTO:emaiil@fjchurch.com
END:VEVENT
BEGIN:VEVENT
DTSTART;TZID=America/New_York:20250726T090000
DTEND;TZID=America/New_York:20250726T090000
DTSTAMP:20260419T203312
CREATED:20210405T175729Z
LAST-MODIFIED:20210405T175729Z
UID:4113-1753520400-1753520400@fmbcbiloxi.com
SUMMARY:Brotherhood Meeting
DESCRIPTION:
URL:https://fmbcbiloxi.com/event/brotherhood-meeting-2025-07-26/
LOCATION:First Missionary Baptist Church\, 658 Esters Blvd\, Biloxi\, MS 39530.\, Missouri\, 39530\, United States
CATEGORIES:Meeting
ORGANIZER;CN="First Missionary Baptist Church":MAILTO:emaiil@fjchurch.com
END:VEVENT
BEGIN:VEVENT
DTSTART;TZID=America/New_York:20250716T180000
DTEND;TZID=America/New_York:20250716T180000
DTSTAMP:20260419T203312
CREATED:20210405T175544Z
LAST-MODIFIED:20210405T175544Z
UID:4091-1752688800-1752688800@fmbcbiloxi.com
SUMMARY:Pastor’s Aide Meeting
DESCRIPTION:
URL:https://fmbcbiloxi.com/event/pastors-aide-meeting-2025-07-16/
LOCATION:FMBC Fellowship Hall\, 658 Esters Boulevard Biloxi.\, Mississippi\, 39530\, United States
CATEGORIES:Meeting
ORGANIZER;CN="First Missionary Baptist Church":MAILTO:emaiil@fjchurch.com
END:VEVENT
BEGIN:VEVENT
DTSTART;TZID=America/New_York:20250712T090000
DTEND;TZID=America/New_York:20250712T090000
DTSTAMP:20260419T203312
CREATED:20210405T175729Z
LAST-MODIFIED:20210405T175729Z
UID:4085-1752310800-1752310800@fmbcbiloxi.com
SUMMARY:Brotherhood Meeting
DESCRIPTION:
URL:https://fmbcbiloxi.com/event/brotherhood-meeting-2025-07-12/
LOCATION:First Missionary Baptist Church\, 658 Esters Blvd\, Biloxi\, MS 39530.\, Missouri\, 39530\, United States
CATEGORIES:Meeting
ORGANIZER;CN="First Missionary Baptist Church":MAILTO:emaiil@fjchurch.com
END:VEVENT
BEGIN:VEVENT
DTSTART;TZID=America/New_York:20250628T090000
DTEND;TZID=America/New_York:20250628T090000
DTSTAMP:20260419T203312
CREATED:20210405T175729Z
LAST-MODIFIED:20210405T175729Z
UID:4086-1751101200-1751101200@fmbcbiloxi.com
SUMMARY:Brotherhood Meeting
DESCRIPTION:
URL:https://fmbcbiloxi.com/event/brotherhood-meeting-2025-06-28/
LOCATION:First Missionary Baptist Church\, 658 Esters Blvd\, Biloxi\, MS 39530.\, Missouri\, 39530\, United States
CATEGORIES:Meeting
ORGANIZER;CN="First Missionary Baptist Church":MAILTO:emaiil@fjchurch.com
END:VEVENT
END:VCALENDAR