BEGIN:VCALENDAR
VERSION:2.0
PRODID:-//First Missionary Baptist Church of Biloxi - ECPv6.15.20//NONSGML v1.0//EN
CALSCALE:GREGORIAN
METHOD:PUBLISH
X-WR-CALNAME:First Missionary Baptist Church of Biloxi
X-ORIGINAL-URL:https://fmbcbiloxi.com
X-WR-CALDESC:Events for First Missionary Baptist Church of Biloxi
REFRESH-INTERVAL;VALUE=DURATION:PT1H
X-Robots-Tag:noindex
X-PUBLISHED-TTL:PT1H
BEGIN:VTIMEZONE
TZID:America/New_York
BEGIN:DAYLIGHT
TZOFFSETFROM:-0500
TZOFFSETTO:-0400
TZNAME:EDT
DTSTART:20230312T070000
END:DAYLIGHT
BEGIN:STANDARD
TZOFFSETFROM:-0400
TZOFFSETTO:-0500
TZNAME:EST
DTSTART:20231105T060000
END:STANDARD
BEGIN:DAYLIGHT
TZOFFSETFROM:-0500
TZOFFSETTO:-0400
TZNAME:EDT
DTSTART:20240310T070000
END:DAYLIGHT
BEGIN:STANDARD
TZOFFSETFROM:-0400
TZOFFSETTO:-0500
TZNAME:EST
DTSTART:20241103T060000
END:STANDARD
BEGIN:DAYLIGHT
TZOFFSETFROM:-0500
TZOFFSETTO:-0400
TZNAME:EDT
DTSTART:20250309T070000
END:DAYLIGHT
BEGIN:STANDARD
TZOFFSETFROM:-0400
TZOFFSETTO:-0500
TZNAME:EST
DTSTART:20251102T060000
END:STANDARD
END:VTIMEZONE
BEGIN:VEVENT
DTSTART;TZID=America/New_York:20241218T180000
DTEND;TZID=America/New_York:20241218T180000
DTSTAMP:20260420T022403
CREATED:20210405T175544Z
LAST-MODIFIED:20210405T175544Z
UID:3842-1734544800-1734544800@fmbcbiloxi.com
SUMMARY:Pastor’s Aide Meeting
DESCRIPTION:
URL:https://fmbcbiloxi.com/event/pastors-aide-meeting-2024-12-18/
LOCATION:FMBC Fellowship Hall\, 658 Esters Boulevard Biloxi.\, Mississippi\, 39530\, United States
CATEGORIES:Meeting
ORGANIZER;CN="First Missionary Baptist Church":MAILTO:emaiil@fjchurch.com
END:VEVENT
BEGIN:VEVENT
DTSTART;TZID=America/New_York:20241214T090000
DTEND;TZID=America/New_York:20241214T090000
DTSTAMP:20260420T022403
CREATED:20210405T175729Z
LAST-MODIFIED:20210405T175729Z
UID:3836-1734166800-1734166800@fmbcbiloxi.com
SUMMARY:Brotherhood Meeting
DESCRIPTION:
URL:https://fmbcbiloxi.com/event/brotherhood-meeting-2024-12-14/
LOCATION:First Missionary Baptist Church\, 658 Esters Blvd\, Biloxi\, MS 39530.\, Missouri\, 39530\, United States
CATEGORIES:Meeting
ORGANIZER;CN="First Missionary Baptist Church":MAILTO:emaiil@fjchurch.com
END:VEVENT
BEGIN:VEVENT
DTSTART;TZID=America/New_York:20241123T090000
DTEND;TZID=America/New_York:20241123T090000
DTSTAMP:20260420T022403
CREATED:20210405T175729Z
LAST-MODIFIED:20210405T175729Z
UID:3837-1732352400-1732352400@fmbcbiloxi.com
SUMMARY:Brotherhood Meeting
DESCRIPTION:
URL:https://fmbcbiloxi.com/event/brotherhood-meeting-2024-11-23/
LOCATION:First Missionary Baptist Church\, 658 Esters Blvd\, Biloxi\, MS 39530.\, Missouri\, 39530\, United States
CATEGORIES:Meeting
ORGANIZER;CN="First Missionary Baptist Church":MAILTO:emaiil@fjchurch.com
END:VEVENT
BEGIN:VEVENT
DTSTART;TZID=America/New_York:20241120T180000
DTEND;TZID=America/New_York:20241120T180000
DTSTAMP:20260420T022403
CREATED:20210405T175544Z
LAST-MODIFIED:20210405T175544Z
UID:3820-1732125600-1732125600@fmbcbiloxi.com
SUMMARY:Pastor’s Aide Meeting
DESCRIPTION:
URL:https://fmbcbiloxi.com/event/pastors-aide-meeting-2024-11-20/
LOCATION:FMBC Fellowship Hall\, 658 Esters Boulevard Biloxi.\, Mississippi\, 39530\, United States
CATEGORIES:Meeting
ORGANIZER;CN="First Missionary Baptist Church":MAILTO:emaiil@fjchurch.com
END:VEVENT
BEGIN:VEVENT
DTSTART;TZID=America/New_York:20241109T090000
DTEND;TZID=America/New_York:20241109T090000
DTSTAMP:20260420T022403
CREATED:20210405T175729Z
LAST-MODIFIED:20210405T175729Z
UID:3808-1731142800-1731142800@fmbcbiloxi.com
SUMMARY:Brotherhood Meeting
DESCRIPTION:
URL:https://fmbcbiloxi.com/event/brotherhood-meeting-2024-11-09/
LOCATION:First Missionary Baptist Church\, 658 Esters Blvd\, Biloxi\, MS 39530.\, Missouri\, 39530\, United States
CATEGORIES:Meeting
ORGANIZER;CN="First Missionary Baptist Church":MAILTO:emaiil@fjchurch.com
END:VEVENT
BEGIN:VEVENT
DTSTART;TZID=America/New_York:20241026T090000
DTEND;TZID=America/New_York:20241026T090000
DTSTAMP:20260420T022403
CREATED:20210405T175729Z
LAST-MODIFIED:20210405T175729Z
UID:3809-1729933200-1729933200@fmbcbiloxi.com
SUMMARY:Brotherhood Meeting
DESCRIPTION:
URL:https://fmbcbiloxi.com/event/brotherhood-meeting-2024-10-26/
LOCATION:First Missionary Baptist Church\, 658 Esters Blvd\, Biloxi\, MS 39530.\, Missouri\, 39530\, United States
CATEGORIES:Meeting
ORGANIZER;CN="First Missionary Baptist Church":MAILTO:emaiil@fjchurch.com
END:VEVENT
BEGIN:VEVENT
DTSTART;TZID=America/New_York:20241016T180000
DTEND;TZID=America/New_York:20241016T180000
DTSTAMP:20260420T022403
CREATED:20210405T175544Z
LAST-MODIFIED:20210405T175544Z
UID:3795-1729101600-1729101600@fmbcbiloxi.com
SUMMARY:Pastor’s Aide Meeting
DESCRIPTION:
URL:https://fmbcbiloxi.com/event/pastors-aide-meeting-2024-10-16/
LOCATION:FMBC Fellowship Hall\, 658 Esters Boulevard Biloxi.\, Mississippi\, 39530\, United States
CATEGORIES:Meeting
ORGANIZER;CN="First Missionary Baptist Church":MAILTO:emaiil@fjchurch.com
END:VEVENT
BEGIN:VEVENT
DTSTART;TZID=America/New_York:20241012T090000
DTEND;TZID=America/New_York:20241012T090000
DTSTAMP:20260420T022403
CREATED:20210405T175729Z
LAST-MODIFIED:20210405T175729Z
UID:3788-1728723600-1728723600@fmbcbiloxi.com
SUMMARY:Brotherhood Meeting
DESCRIPTION:
URL:https://fmbcbiloxi.com/event/brotherhood-meeting-2024-10-12/
LOCATION:First Missionary Baptist Church\, 658 Esters Blvd\, Biloxi\, MS 39530.\, Missouri\, 39530\, United States
CATEGORIES:Meeting
ORGANIZER;CN="First Missionary Baptist Church":MAILTO:emaiil@fjchurch.com
END:VEVENT
BEGIN:VEVENT
DTSTART;TZID=America/New_York:20240928T090000
DTEND;TZID=America/New_York:20240928T090000
DTSTAMP:20260420T022403
CREATED:20210405T175729Z
LAST-MODIFIED:20210405T175729Z
UID:3789-1727514000-1727514000@fmbcbiloxi.com
SUMMARY:Brotherhood Meeting
DESCRIPTION:
URL:https://fmbcbiloxi.com/event/brotherhood-meeting-2024-09-28/
LOCATION:First Missionary Baptist Church\, 658 Esters Blvd\, Biloxi\, MS 39530.\, Missouri\, 39530\, United States
CATEGORIES:Meeting
ORGANIZER;CN="First Missionary Baptist Church":MAILTO:emaiil@fjchurch.com
END:VEVENT
BEGIN:VEVENT
DTSTART;TZID=America/New_York:20240918T180000
DTEND;TZID=America/New_York:20240918T180000
DTSTAMP:20260420T022403
CREATED:20210405T175544Z
LAST-MODIFIED:20210405T175544Z
UID:3739-1726682400-1726682400@fmbcbiloxi.com
SUMMARY:Pastor’s Aide Meeting
DESCRIPTION:
URL:https://fmbcbiloxi.com/event/pastors-aide-meeting-2024-09-18/
LOCATION:FMBC Fellowship Hall\, 658 Esters Boulevard Biloxi.\, Mississippi\, 39530\, United States
CATEGORIES:Meeting
ORGANIZER;CN="First Missionary Baptist Church":MAILTO:emaiil@fjchurch.com
END:VEVENT
BEGIN:VEVENT
DTSTART;TZID=America/New_York:20240914T090000
DTEND;TZID=America/New_York:20240914T090000
DTSTAMP:20260420T022403
CREATED:20210405T175729Z
LAST-MODIFIED:20210405T175729Z
UID:3719-1726304400-1726304400@fmbcbiloxi.com
SUMMARY:Brotherhood Meeting
DESCRIPTION:
URL:https://fmbcbiloxi.com/event/brotherhood-meeting-2024-09-14/
LOCATION:First Missionary Baptist Church\, 658 Esters Blvd\, Biloxi\, MS 39530.\, Missouri\, 39530\, United States
CATEGORIES:Meeting
ORGANIZER;CN="First Missionary Baptist Church":MAILTO:emaiil@fjchurch.com
END:VEVENT
BEGIN:VEVENT
DTSTART;TZID=America/New_York:20240824T090000
DTEND;TZID=America/New_York:20240824T090000
DTSTAMP:20260420T022403
CREATED:20210405T175729Z
LAST-MODIFIED:20210405T175729Z
UID:3720-1724490000-1724490000@fmbcbiloxi.com
SUMMARY:Brotherhood Meeting
DESCRIPTION:
URL:https://fmbcbiloxi.com/event/brotherhood-meeting-2024-08-24/
LOCATION:First Missionary Baptist Church\, 658 Esters Blvd\, Biloxi\, MS 39530.\, Missouri\, 39530\, United States
CATEGORIES:Meeting
ORGANIZER;CN="First Missionary Baptist Church":MAILTO:emaiil@fjchurch.com
END:VEVENT
BEGIN:VEVENT
DTSTART;TZID=America/New_York:20240821T180000
DTEND;TZID=America/New_York:20240821T180000
DTSTAMP:20260420T022403
CREATED:20210405T175544Z
LAST-MODIFIED:20210405T175544Z
UID:3623-1724263200-1724263200@fmbcbiloxi.com
SUMMARY:Pastor’s Aide Meeting
DESCRIPTION:
URL:https://fmbcbiloxi.com/event/pastors-aide-meeting-2024-08-21/
LOCATION:FMBC Fellowship Hall\, 658 Esters Boulevard Biloxi.\, Mississippi\, 39530\, United States
CATEGORIES:Meeting
ORGANIZER;CN="First Missionary Baptist Church":MAILTO:emaiil@fjchurch.com
END:VEVENT
BEGIN:VEVENT
DTSTART;TZID=America/New_York:20240810T090000
DTEND;TZID=America/New_York:20240810T090000
DTSTAMP:20260420T022403
CREATED:20210405T175729Z
LAST-MODIFIED:20210405T175729Z
UID:3605-1723280400-1723280400@fmbcbiloxi.com
SUMMARY:Brotherhood Meeting
DESCRIPTION:
URL:https://fmbcbiloxi.com/event/brotherhood-meeting-2024-08-10/
LOCATION:First Missionary Baptist Church\, 658 Esters Blvd\, Biloxi\, MS 39530.\, Missouri\, 39530\, United States
CATEGORIES:Meeting
ORGANIZER;CN="First Missionary Baptist Church":MAILTO:emaiil@fjchurch.com
END:VEVENT
BEGIN:VEVENT
DTSTART;TZID=America/New_York:20240727T090000
DTEND;TZID=America/New_York:20240727T090000
DTSTAMP:20260420T022403
CREATED:20210405T175729Z
LAST-MODIFIED:20210405T175729Z
UID:3606-1722070800-1722070800@fmbcbiloxi.com
SUMMARY:Brotherhood Meeting
DESCRIPTION:
URL:https://fmbcbiloxi.com/event/brotherhood-meeting-2024-07-27/
LOCATION:First Missionary Baptist Church\, 658 Esters Blvd\, Biloxi\, MS 39530.\, Missouri\, 39530\, United States
CATEGORIES:Meeting
ORGANIZER;CN="First Missionary Baptist Church":MAILTO:emaiil@fjchurch.com
END:VEVENT
BEGIN:VEVENT
DTSTART;TZID=America/New_York:20240717T180000
DTEND;TZID=America/New_York:20240717T180000
DTSTAMP:20260420T022403
CREATED:20210405T175544Z
LAST-MODIFIED:20210405T175544Z
UID:3561-1721239200-1721239200@fmbcbiloxi.com
SUMMARY:Pastor’s Aide Meeting
DESCRIPTION:
URL:https://fmbcbiloxi.com/event/pastors-aide-meeting-2024-07-17/
LOCATION:FMBC Fellowship Hall\, 658 Esters Boulevard Biloxi.\, Mississippi\, 39530\, United States
CATEGORIES:Meeting
ORGANIZER;CN="First Missionary Baptist Church":MAILTO:emaiil@fjchurch.com
END:VEVENT
BEGIN:VEVENT
DTSTART;TZID=America/New_York:20240713T090000
DTEND;TZID=America/New_York:20240713T090000
DTSTAMP:20260420T022403
CREATED:20210405T175729Z
LAST-MODIFIED:20210405T175729Z
UID:3552-1720861200-1720861200@fmbcbiloxi.com
SUMMARY:Brotherhood Meeting
DESCRIPTION:
URL:https://fmbcbiloxi.com/event/brotherhood-meeting-2024-07-13/
LOCATION:First Missionary Baptist Church\, 658 Esters Blvd\, Biloxi\, MS 39530.\, Missouri\, 39530\, United States
CATEGORIES:Meeting
ORGANIZER;CN="First Missionary Baptist Church":MAILTO:emaiil@fjchurch.com
END:VEVENT
BEGIN:VEVENT
DTSTART;TZID=America/New_York:20240622T090000
DTEND;TZID=America/New_York:20240622T090000
DTSTAMP:20260420T022403
CREATED:20210405T175729Z
LAST-MODIFIED:20210405T175729Z
UID:3553-1719046800-1719046800@fmbcbiloxi.com
SUMMARY:Brotherhood Meeting
DESCRIPTION:
URL:https://fmbcbiloxi.com/event/brotherhood-meeting-2024-06-22/
LOCATION:First Missionary Baptist Church\, 658 Esters Blvd\, Biloxi\, MS 39530.\, Missouri\, 39530\, United States
CATEGORIES:Meeting
ORGANIZER;CN="First Missionary Baptist Church":MAILTO:emaiil@fjchurch.com
END:VEVENT
BEGIN:VEVENT
DTSTART;TZID=America/New_York:20240619T180000
DTEND;TZID=America/New_York:20240619T180000
DTSTAMP:20260420T022403
CREATED:20210405T175544Z
LAST-MODIFIED:20210405T175544Z
UID:3496-1718820000-1718820000@fmbcbiloxi.com
SUMMARY:Pastor’s Aide Meeting
DESCRIPTION:
URL:https://fmbcbiloxi.com/event/pastors-aide-meeting-2024-06-19/
LOCATION:FMBC Fellowship Hall\, 658 Esters Boulevard Biloxi.\, Mississippi\, 39530\, United States
CATEGORIES:Meeting
ORGANIZER;CN="First Missionary Baptist Church":MAILTO:emaiil@fjchurch.com
END:VEVENT
BEGIN:VEVENT
DTSTART;TZID=America/New_York:20240608T090000
DTEND;TZID=America/New_York:20240608T090000
DTSTAMP:20260420T022403
CREATED:20210405T175729Z
LAST-MODIFIED:20210405T175729Z
UID:3476-1717837200-1717837200@fmbcbiloxi.com
SUMMARY:Brotherhood Meeting
DESCRIPTION:
URL:https://fmbcbiloxi.com/event/brotherhood-meeting-2024-06-08/
LOCATION:First Missionary Baptist Church\, 658 Esters Blvd\, Biloxi\, MS 39530.\, Missouri\, 39530\, United States
CATEGORIES:Meeting
ORGANIZER;CN="First Missionary Baptist Church":MAILTO:emaiil@fjchurch.com
END:VEVENT
BEGIN:VEVENT
DTSTART;TZID=America/New_York:20240525T090000
DTEND;TZID=America/New_York:20240525T090000
DTSTAMP:20260420T022403
CREATED:20210405T175729Z
LAST-MODIFIED:20210405T175729Z
UID:3477-1716627600-1716627600@fmbcbiloxi.com
SUMMARY:Brotherhood Meeting
DESCRIPTION:
URL:https://fmbcbiloxi.com/event/brotherhood-meeting-2024-05-25/
LOCATION:First Missionary Baptist Church\, 658 Esters Blvd\, Biloxi\, MS 39530.\, Missouri\, 39530\, United States
CATEGORIES:Meeting
ORGANIZER;CN="First Missionary Baptist Church":MAILTO:emaiil@fjchurch.com
END:VEVENT
BEGIN:VEVENT
DTSTART;TZID=America/New_York:20240515T180000
DTEND;TZID=America/New_York:20240515T180000
DTSTAMP:20260420T022403
CREATED:20210405T175544Z
LAST-MODIFIED:20210405T175544Z
UID:3361-1715796000-1715796000@fmbcbiloxi.com
SUMMARY:Pastor’s Aide Meeting
DESCRIPTION:
URL:https://fmbcbiloxi.com/event/pastors-aide-meeting-2024-05-15/
LOCATION:FMBC Fellowship Hall\, 658 Esters Boulevard Biloxi.\, Mississippi\, 39530\, United States
CATEGORIES:Meeting
ORGANIZER;CN="First Missionary Baptist Church":MAILTO:emaiil@fjchurch.com
END:VEVENT
BEGIN:VEVENT
DTSTART;TZID=America/New_York:20240511T090000
DTEND;TZID=America/New_York:20240511T090000
DTSTAMP:20260420T022403
CREATED:20210405T175729Z
LAST-MODIFIED:20210405T175729Z
UID:3350-1715418000-1715418000@fmbcbiloxi.com
SUMMARY:Brotherhood Meeting
DESCRIPTION:
URL:https://fmbcbiloxi.com/event/brotherhood-meeting-2024-05-11/
LOCATION:First Missionary Baptist Church\, 658 Esters Blvd\, Biloxi\, MS 39530.\, Missouri\, 39530\, United States
CATEGORIES:Meeting
ORGANIZER;CN="First Missionary Baptist Church":MAILTO:emaiil@fjchurch.com
END:VEVENT
BEGIN:VEVENT
DTSTART;TZID=America/New_York:20240427T090000
DTEND;TZID=America/New_York:20240427T090000
DTSTAMP:20260420T022403
CREATED:20210405T175729Z
LAST-MODIFIED:20210405T175729Z
UID:3351-1714208400-1714208400@fmbcbiloxi.com
SUMMARY:Brotherhood Meeting
DESCRIPTION:
URL:https://fmbcbiloxi.com/event/brotherhood-meeting-2024-04-27/
LOCATION:First Missionary Baptist Church\, 658 Esters Blvd\, Biloxi\, MS 39530.\, Missouri\, 39530\, United States
CATEGORIES:Meeting
ORGANIZER;CN="First Missionary Baptist Church":MAILTO:emaiil@fjchurch.com
END:VEVENT
BEGIN:VEVENT
DTSTART;TZID=America/New_York:20240417T180000
DTEND;TZID=America/New_York:20240417T180000
DTSTAMP:20260420T022403
CREATED:20210405T175544Z
LAST-MODIFIED:20210405T175544Z
UID:3277-1713376800-1713376800@fmbcbiloxi.com
SUMMARY:Pastor’s Aide Meeting
DESCRIPTION:
URL:https://fmbcbiloxi.com/event/pastors-aide-meeting-2024-04-17/
LOCATION:FMBC Fellowship Hall\, 658 Esters Boulevard Biloxi.\, Mississippi\, 39530\, United States
CATEGORIES:Meeting
ORGANIZER;CN="First Missionary Baptist Church":MAILTO:emaiil@fjchurch.com
END:VEVENT
BEGIN:VEVENT
DTSTART;TZID=America/New_York:20240413T090000
DTEND;TZID=America/New_York:20240413T090000
DTSTAMP:20260420T022403
CREATED:20210405T175729Z
LAST-MODIFIED:20210405T175729Z
UID:3240-1712998800-1712998800@fmbcbiloxi.com
SUMMARY:Brotherhood Meeting
DESCRIPTION:
URL:https://fmbcbiloxi.com/event/brotherhood-meeting-2024-04-13/
LOCATION:First Missionary Baptist Church\, 658 Esters Blvd\, Biloxi\, MS 39530.\, Missouri\, 39530\, United States
CATEGORIES:Meeting
ORGANIZER;CN="First Missionary Baptist Church":MAILTO:emaiil@fjchurch.com
END:VEVENT
BEGIN:VEVENT
DTSTART;TZID=America/New_York:20240323T090000
DTEND;TZID=America/New_York:20240323T090000
DTSTAMP:20260420T022403
CREATED:20210405T175729Z
LAST-MODIFIED:20210405T175729Z
UID:3241-1711184400-1711184400@fmbcbiloxi.com
SUMMARY:Brotherhood Meeting
DESCRIPTION:
URL:https://fmbcbiloxi.com/event/brotherhood-meeting-2024-03-23/
LOCATION:First Missionary Baptist Church\, 658 Esters Blvd\, Biloxi\, MS 39530.\, Missouri\, 39530\, United States
CATEGORIES:Meeting
ORGANIZER;CN="First Missionary Baptist Church":MAILTO:emaiil@fjchurch.com
END:VEVENT
BEGIN:VEVENT
DTSTART;TZID=America/New_York:20240320T180000
DTEND;TZID=America/New_York:20240320T180000
DTSTAMP:20260420T022403
CREATED:20210405T175544Z
LAST-MODIFIED:20210405T175544Z
UID:3165-1710957600-1710957600@fmbcbiloxi.com
SUMMARY:Pastor’s Aide Meeting
DESCRIPTION:
URL:https://fmbcbiloxi.com/event/pastors-aide-meeting-2024-03-20/
LOCATION:FMBC Fellowship Hall\, 658 Esters Boulevard Biloxi.\, Mississippi\, 39530\, United States
CATEGORIES:Meeting
ORGANIZER;CN="First Missionary Baptist Church":MAILTO:emaiil@fjchurch.com
END:VEVENT
BEGIN:VEVENT
DTSTART;TZID=America/New_York:20240309T090000
DTEND;TZID=America/New_York:20240309T090000
DTSTAMP:20260420T022403
CREATED:20210405T175729Z
LAST-MODIFIED:20210405T175729Z
UID:3097-1709974800-1709974800@fmbcbiloxi.com
SUMMARY:Brotherhood Meeting
DESCRIPTION:
URL:https://fmbcbiloxi.com/event/brotherhood-meeting-2024-03-09/
LOCATION:First Missionary Baptist Church\, 658 Esters Blvd\, Biloxi\, MS 39530.\, Missouri\, 39530\, United States
CATEGORIES:Meeting
ORGANIZER;CN="First Missionary Baptist Church":MAILTO:emaiil@fjchurch.com
END:VEVENT
BEGIN:VEVENT
DTSTART;TZID=America/New_York:20240224T090000
DTEND;TZID=America/New_York:20240224T090000
DTSTAMP:20260420T022403
CREATED:20210405T175729Z
LAST-MODIFIED:20210405T175729Z
UID:3098-1708765200-1708765200@fmbcbiloxi.com
SUMMARY:Brotherhood Meeting
DESCRIPTION:
URL:https://fmbcbiloxi.com/event/brotherhood-meeting-2024-02-24/
LOCATION:First Missionary Baptist Church\, 658 Esters Blvd\, Biloxi\, MS 39530.\, Missouri\, 39530\, United States
CATEGORIES:Meeting
ORGANIZER;CN="First Missionary Baptist Church":MAILTO:emaiil@fjchurch.com
END:VEVENT
END:VCALENDAR