BEGIN:VCALENDAR
VERSION:2.0
PRODID:-//First Missionary Baptist Church of Biloxi - ECPv6.15.20//NONSGML v1.0//EN
CALSCALE:GREGORIAN
METHOD:PUBLISH
X-ORIGINAL-URL:https://fmbcbiloxi.com
X-WR-CALDESC:Events for First Missionary Baptist Church of Biloxi
REFRESH-INTERVAL;VALUE=DURATION:PT1H
X-Robots-Tag:noindex
X-PUBLISHED-TTL:PT1H
BEGIN:VTIMEZONE
TZID:America/New_York
BEGIN:DAYLIGHT
TZOFFSETFROM:-0500
TZOFFSETTO:-0400
TZNAME:EDT
DTSTART:20220313T070000
END:DAYLIGHT
BEGIN:STANDARD
TZOFFSETFROM:-0400
TZOFFSETTO:-0500
TZNAME:EST
DTSTART:20221106T060000
END:STANDARD
BEGIN:DAYLIGHT
TZOFFSETFROM:-0500
TZOFFSETTO:-0400
TZNAME:EDT
DTSTART:20230312T070000
END:DAYLIGHT
BEGIN:STANDARD
TZOFFSETFROM:-0400
TZOFFSETTO:-0500
TZNAME:EST
DTSTART:20231105T060000
END:STANDARD
BEGIN:DAYLIGHT
TZOFFSETFROM:-0500
TZOFFSETTO:-0400
TZNAME:EDT
DTSTART:20240310T070000
END:DAYLIGHT
BEGIN:STANDARD
TZOFFSETFROM:-0400
TZOFFSETTO:-0500
TZNAME:EST
DTSTART:20241103T060000
END:STANDARD
END:VTIMEZONE
BEGIN:VEVENT
DTSTART;TZID=America/New_York:20231220T180000
DTEND;TZID=America/New_York:20231220T180000
DTSTAMP:20260422T051300
CREATED:20210405T175544Z
LAST-MODIFIED:20210405T175544Z
UID:2710-1703095200-1703095200@fmbcbiloxi.com
SUMMARY:Pastor’s Aide Meeting
DESCRIPTION:
URL:https://fmbcbiloxi.com/event/pastors-aide-meeting-2023-12-20/
LOCATION:FMBC Fellowship Hall\, 658 Esters Boulevard Biloxi.\, Mississippi\, 39530\, United States
CATEGORIES:Meeting
ORGANIZER;CN="First Missionary Baptist Church":MAILTO:emaiil@fjchurch.com
END:VEVENT
BEGIN:VEVENT
DTSTART;TZID=America/New_York:20231209T090000
DTEND;TZID=America/New_York:20231209T090000
DTSTAMP:20260422T051300
CREATED:20210405T175729Z
LAST-MODIFIED:20210405T175729Z
UID:2643-1702112400-1702112400@fmbcbiloxi.com
SUMMARY:Brotherhood Meeting
DESCRIPTION:
URL:https://fmbcbiloxi.com/event/brotherhood-meeting-2023-12-09/
LOCATION:First Missionary Baptist Church\, 658 Esters Blvd\, Biloxi\, MS 39530.\, Missouri\, 39530\, United States
CATEGORIES:Meeting
ORGANIZER;CN="First Missionary Baptist Church":MAILTO:emaiil@fjchurch.com
END:VEVENT
BEGIN:VEVENT
DTSTART;TZID=America/New_York:20231125T090000
DTEND;TZID=America/New_York:20231125T090000
DTSTAMP:20260422T051300
CREATED:20210405T175729Z
LAST-MODIFIED:20210405T175729Z
UID:2644-1700902800-1700902800@fmbcbiloxi.com
SUMMARY:Brotherhood Meeting
DESCRIPTION:
URL:https://fmbcbiloxi.com/event/brotherhood-meeting-2023-11-25/
LOCATION:First Missionary Baptist Church\, 658 Esters Blvd\, Biloxi\, MS 39530.\, Missouri\, 39530\, United States
CATEGORIES:Meeting
ORGANIZER;CN="First Missionary Baptist Church":MAILTO:emaiil@fjchurch.com
END:VEVENT
BEGIN:VEVENT
DTSTART;TZID=America/New_York:20231115T180000
DTEND;TZID=America/New_York:20231115T180000
DTSTAMP:20260422T051300
CREATED:20210405T175544Z
LAST-MODIFIED:20210405T175544Z
UID:2351-1700071200-1700071200@fmbcbiloxi.com
SUMMARY:Pastor’s Aide Meeting
DESCRIPTION:
URL:https://fmbcbiloxi.com/event/pastors-aide-meeting-2023-11-15/
LOCATION:FMBC Fellowship Hall\, 658 Esters Boulevard Biloxi.\, Mississippi\, 39530\, United States
CATEGORIES:Meeting
ORGANIZER;CN="First Missionary Baptist Church":MAILTO:emaiil@fjchurch.com
END:VEVENT
BEGIN:VEVENT
DTSTART;TZID=America/New_York:20231028T090000
DTEND;TZID=America/New_York:20231028T090000
DTSTAMP:20260422T051300
CREATED:20210405T175729Z
LAST-MODIFIED:20210405T175729Z
UID:2157-1698483600-1698483600@fmbcbiloxi.com
SUMMARY:Brotherhood Meeting
DESCRIPTION:
URL:https://fmbcbiloxi.com/event/brotherhood-meeting-2023-10-28/
LOCATION:First Missionary Baptist Church\, 658 Esters Blvd\, Biloxi\, MS 39530.\, Missouri\, 39530\, United States
CATEGORIES:Meeting
ORGANIZER;CN="First Missionary Baptist Church":MAILTO:emaiil@fjchurch.com
END:VEVENT
BEGIN:VEVENT
DTSTART;TZID=America/New_York:20231018T180000
DTEND;TZID=America/New_York:20231018T180000
DTSTAMP:20260422T051300
CREATED:20210405T175544Z
LAST-MODIFIED:20210405T175544Z
UID:2159-1697652000-1697652000@fmbcbiloxi.com
SUMMARY:Pastor’s Aide Meeting
DESCRIPTION:
URL:https://fmbcbiloxi.com/event/pastors-aide-meeting-2023-10-18/
LOCATION:FMBC Fellowship Hall\, 658 Esters Boulevard Biloxi.\, Mississippi\, 39530\, United States
CATEGORIES:Meeting
ORGANIZER;CN="First Missionary Baptist Church":MAILTO:emaiil@fjchurch.com
END:VEVENT
BEGIN:VEVENT
DTSTART;TZID=America/New_York:20231014T090000
DTEND;TZID=America/New_York:20231014T090000
DTSTAMP:20260422T051300
CREATED:20210405T175729Z
LAST-MODIFIED:20210405T175729Z
UID:2155-1697274000-1697274000@fmbcbiloxi.com
SUMMARY:Brotherhood Meeting
DESCRIPTION:
URL:https://fmbcbiloxi.com/event/brotherhood-meeting-2023-10-14/
LOCATION:First Missionary Baptist Church\, 658 Esters Blvd\, Biloxi\, MS 39530.\, Missouri\, 39530\, United States
CATEGORIES:Meeting
ORGANIZER;CN="First Missionary Baptist Church":MAILTO:emaiil@fjchurch.com
END:VEVENT
BEGIN:VEVENT
DTSTART;TZID=America/New_York:20230923T090000
DTEND;TZID=America/New_York:20230923T090000
DTSTAMP:20260422T051300
CREATED:20210405T175729Z
LAST-MODIFIED:20210405T175729Z
UID:2156-1695459600-1695459600@fmbcbiloxi.com
SUMMARY:Brotherhood Meeting
DESCRIPTION:
URL:https://fmbcbiloxi.com/event/brotherhood-meeting-2023-09-23/
LOCATION:First Missionary Baptist Church\, 658 Esters Blvd\, Biloxi\, MS 39530.\, Missouri\, 39530\, United States
CATEGORIES:Meeting
ORGANIZER;CN="First Missionary Baptist Church":MAILTO:emaiil@fjchurch.com
END:VEVENT
BEGIN:VEVENT
DTSTART;TZID=America/New_York:20230920T180000
DTEND;TZID=America/New_York:20230920T180000
DTSTAMP:20260422T051300
CREATED:20210405T175544Z
LAST-MODIFIED:20210405T175544Z
UID:1661-1695232800-1695232800@fmbcbiloxi.com
SUMMARY:Pastor’s Aide Meeting
DESCRIPTION:
URL:https://fmbcbiloxi.com/event/pastors-aide-meeting-2023-09-20/
LOCATION:FMBC Fellowship Hall\, 658 Esters Boulevard Biloxi.\, Mississippi\, 39530\, United States
CATEGORIES:Meeting
ORGANIZER;CN="First Missionary Baptist Church":MAILTO:emaiil@fjchurch.com
END:VEVENT
BEGIN:VEVENT
DTSTART;TZID=America/New_York:20230909T090000
DTEND;TZID=America/New_York:20230909T090000
DTSTAMP:20260422T051300
CREATED:20210405T175729Z
LAST-MODIFIED:20210405T175729Z
UID:1589-1694250000-1694250000@fmbcbiloxi.com
SUMMARY:Brotherhood Meeting
DESCRIPTION:
URL:https://fmbcbiloxi.com/event/brotherhood-meeting-2023-09-09/
LOCATION:First Missionary Baptist Church\, 658 Esters Blvd\, Biloxi\, MS 39530.\, Missouri\, 39530\, United States
CATEGORIES:Meeting
ORGANIZER;CN="First Missionary Baptist Church":MAILTO:emaiil@fjchurch.com
END:VEVENT
BEGIN:VEVENT
DTSTART;TZID=America/New_York:20230826T090000
DTEND;TZID=America/New_York:20230826T090000
DTSTAMP:20260422T051300
CREATED:20210405T175729Z
LAST-MODIFIED:20210405T175729Z
UID:1590-1693040400-1693040400@fmbcbiloxi.com
SUMMARY:Brotherhood Meeting
DESCRIPTION:
URL:https://fmbcbiloxi.com/event/brotherhood-meeting-2023-08-26/
LOCATION:First Missionary Baptist Church\, 658 Esters Blvd\, Biloxi\, MS 39530.\, Missouri\, 39530\, United States
CATEGORIES:Meeting
ORGANIZER;CN="First Missionary Baptist Church":MAILTO:emaiil@fjchurch.com
END:VEVENT
BEGIN:VEVENT
DTSTART;TZID=America/New_York:20230816T180000
DTEND;TZID=America/New_York:20230816T180000
DTSTAMP:20260422T051300
CREATED:20210405T175544Z
LAST-MODIFIED:20210405T175544Z
UID:1551-1692208800-1692208800@fmbcbiloxi.com
SUMMARY:Pastor’s Aide Meeting
DESCRIPTION:
URL:https://fmbcbiloxi.com/event/pastors-aide-meeting-2023-08-16/
LOCATION:FMBC Fellowship Hall\, 658 Esters Boulevard Biloxi.\, Mississippi\, 39530\, United States
CATEGORIES:Meeting
ORGANIZER;CN="First Missionary Baptist Church":MAILTO:emaiil@fjchurch.com
END:VEVENT
BEGIN:VEVENT
DTSTART;TZID=America/New_York:20230812T090000
DTEND;TZID=America/New_York:20230812T090000
DTSTAMP:20260422T051300
CREATED:20210405T175729Z
LAST-MODIFIED:20210405T175729Z
UID:1546-1691830800-1691830800@fmbcbiloxi.com
SUMMARY:Brotherhood Meeting
DESCRIPTION:
URL:https://fmbcbiloxi.com/event/brotherhood-meeting-2023-08-12/
LOCATION:First Missionary Baptist Church\, 658 Esters Blvd\, Biloxi\, MS 39530.\, Missouri\, 39530\, United States
CATEGORIES:Meeting
ORGANIZER;CN="First Missionary Baptist Church":MAILTO:emaiil@fjchurch.com
END:VEVENT
BEGIN:VEVENT
DTSTART;TZID=America/New_York:20230722T090000
DTEND;TZID=America/New_York:20230722T090000
DTSTAMP:20260422T051300
CREATED:20210405T175729Z
LAST-MODIFIED:20210405T175729Z
UID:1547-1690016400-1690016400@fmbcbiloxi.com
SUMMARY:Brotherhood Meeting
DESCRIPTION:
URL:https://fmbcbiloxi.com/event/brotherhood-meeting-2023-07-22/
LOCATION:First Missionary Baptist Church\, 658 Esters Blvd\, Biloxi\, MS 39530.\, Missouri\, 39530\, United States
CATEGORIES:Meeting
ORGANIZER;CN="First Missionary Baptist Church":MAILTO:emaiil@fjchurch.com
END:VEVENT
BEGIN:VEVENT
DTSTART;TZID=America/New_York:20230719T180000
DTEND;TZID=America/New_York:20230719T180000
DTSTAMP:20260422T051300
CREATED:20210405T175544Z
LAST-MODIFIED:20210405T175544Z
UID:1345-1689789600-1689789600@fmbcbiloxi.com
SUMMARY:Pastor’s Aide Meeting
DESCRIPTION:
URL:https://fmbcbiloxi.com/event/pastors-aide-meeting-2023-07-19/
LOCATION:FMBC Fellowship Hall\, 658 Esters Boulevard Biloxi.\, Mississippi\, 39530\, United States
CATEGORIES:Meeting
ORGANIZER;CN="First Missionary Baptist Church":MAILTO:emaiil@fjchurch.com
END:VEVENT
BEGIN:VEVENT
DTSTART;TZID=America/New_York:20230708T090000
DTEND;TZID=America/New_York:20230708T090000
DTSTAMP:20260422T051300
CREATED:20210405T175729Z
LAST-MODIFIED:20210405T175729Z
UID:1319-1688806800-1688806800@fmbcbiloxi.com
SUMMARY:Brotherhood Meeting
DESCRIPTION:
URL:https://fmbcbiloxi.com/event/brotherhood-meeting-2023-07-08/
LOCATION:First Missionary Baptist Church\, 658 Esters Blvd\, Biloxi\, MS 39530.\, Missouri\, 39530\, United States
CATEGORIES:Meeting
ORGANIZER;CN="First Missionary Baptist Church":MAILTO:emaiil@fjchurch.com
END:VEVENT
BEGIN:VEVENT
DTSTART;TZID=America/New_York:20230624T090000
DTEND;TZID=America/New_York:20230624T090000
DTSTAMP:20260422T051300
CREATED:20210405T175729Z
LAST-MODIFIED:20210405T175729Z
UID:1320-1687597200-1687597200@fmbcbiloxi.com
SUMMARY:Brotherhood Meeting
DESCRIPTION:
URL:https://fmbcbiloxi.com/event/brotherhood-meeting-2023-06-24/
LOCATION:First Missionary Baptist Church\, 658 Esters Blvd\, Biloxi\, MS 39530.\, Missouri\, 39530\, United States
CATEGORIES:Meeting
ORGANIZER;CN="First Missionary Baptist Church":MAILTO:emaiil@fjchurch.com
END:VEVENT
BEGIN:VEVENT
DTSTART;TZID=America/New_York:20230621T180000
DTEND;TZID=America/New_York:20230621T180000
DTSTAMP:20260422T051300
CREATED:20210405T175544Z
LAST-MODIFIED:20210405T175544Z
UID:1289-1687370400-1687370400@fmbcbiloxi.com
SUMMARY:Pastor’s Aide Meeting
DESCRIPTION:
URL:https://fmbcbiloxi.com/event/pastors-aide-meeting-2023-06-21/
LOCATION:FMBC Fellowship Hall\, 658 Esters Boulevard Biloxi.\, Mississippi\, 39530\, United States
CATEGORIES:Meeting
ORGANIZER;CN="First Missionary Baptist Church":MAILTO:emaiil@fjchurch.com
END:VEVENT
BEGIN:VEVENT
DTSTART;TZID=America/New_York:20230527T090000
DTEND;TZID=America/New_York:20230527T090000
DTSTAMP:20260422T051300
CREATED:20210405T175729Z
LAST-MODIFIED:20210405T175729Z
UID:1234-1685178000-1685178000@fmbcbiloxi.com
SUMMARY:Brotherhood Meeting
DESCRIPTION:
URL:https://fmbcbiloxi.com/event/brotherhood-meeting-2023-05-27/
LOCATION:First Missionary Baptist Church\, 658 Esters Blvd\, Biloxi\, MS 39530.\, Missouri\, 39530\, United States
CATEGORIES:Meeting
ORGANIZER;CN="First Missionary Baptist Church":MAILTO:emaiil@fjchurch.com
END:VEVENT
BEGIN:VEVENT
DTSTART;TZID=America/New_York:20230517T180000
DTEND;TZID=America/New_York:20230517T180000
DTSTAMP:20260422T051300
CREATED:20210405T175544Z
LAST-MODIFIED:20210405T175544Z
UID:1213-1684346400-1684346400@fmbcbiloxi.com
SUMMARY:Pastor’s Aide Meeting
DESCRIPTION:
URL:https://fmbcbiloxi.com/event/pastors-aide-meeting-2023-05-17/
LOCATION:FMBC Fellowship Hall\, 658 Esters Boulevard Biloxi.\, Mississippi\, 39530\, United States
CATEGORIES:Meeting
ORGANIZER;CN="First Missionary Baptist Church":MAILTO:emaiil@fjchurch.com
END:VEVENT
BEGIN:VEVENT
DTSTART;TZID=America/New_York:20230513T090000
DTEND;TZID=America/New_York:20230513T090000
DTSTAMP:20260422T051300
CREATED:20210405T175729Z
LAST-MODIFIED:20210405T175729Z
UID:1233-1683968400-1683968400@fmbcbiloxi.com
SUMMARY:Brotherhood Meeting
DESCRIPTION:
URL:https://fmbcbiloxi.com/event/brotherhood-meeting-2023-05-13/
LOCATION:First Missionary Baptist Church\, 658 Esters Blvd\, Biloxi\, MS 39530.\, Missouri\, 39530\, United States
CATEGORIES:Meeting
ORGANIZER;CN="First Missionary Baptist Church":MAILTO:emaiil@fjchurch.com
END:VEVENT
BEGIN:VEVENT
DTSTART;TZID=America/New_York:20230422T090000
DTEND;TZID=America/New_York:20230422T090000
DTSTAMP:20260422T051300
CREATED:20210405T175729Z
LAST-MODIFIED:20210405T175729Z
UID:1031-1682154000-1682154000@fmbcbiloxi.com
SUMMARY:Brotherhood Meeting
DESCRIPTION:
URL:https://fmbcbiloxi.com/event/brotherhood-meeting-2023-04-22/
LOCATION:First Missionary Baptist Church\, 658 Esters Blvd\, Biloxi\, MS 39530.\, Missouri\, 39530\, United States
CATEGORIES:Meeting
ORGANIZER;CN="First Missionary Baptist Church":MAILTO:emaiil@fjchurch.com
END:VEVENT
BEGIN:VEVENT
DTSTART;TZID=America/New_York:20230419T180000
DTEND;TZID=America/New_York:20230419T180000
DTSTAMP:20260422T051300
CREATED:20210405T175544Z
LAST-MODIFIED:20210429T115014Z
UID:484-1681927200-1681927200@fmbcbiloxi.com
SUMMARY:Pastor’s Aide Meeting
DESCRIPTION:
URL:https://fmbcbiloxi.com/event/pastors-aide-meeting-2023-04-19/
LOCATION:FMBC Fellowship Hall\, 658 Esters Boulevard Biloxi.\, Mississippi\, 39530\, United States
CATEGORIES:Meeting
ORGANIZER;CN="First Missionary Baptist Church":MAILTO:emaiil@fjchurch.com
END:VEVENT
BEGIN:VEVENT
DTSTART;TZID=America/New_York:20230408T090000
DTEND;TZID=America/New_York:20230408T090000
DTSTAMP:20260422T051300
CREATED:20210405T175729Z
LAST-MODIFIED:20210429T121331Z
UID:979-1680944400-1680944400@fmbcbiloxi.com
SUMMARY:Brotherhood Meeting
DESCRIPTION:
URL:https://fmbcbiloxi.com/event/brotherhood-meeting-2023-04-08/
LOCATION:First Missionary Baptist Church\, 658 Esters Blvd\, Biloxi\, MS 39530.\, Missouri\, 39530\, United States
CATEGORIES:Meeting
ORGANIZER;CN="First Missionary Baptist Church":MAILTO:emaiil@fjchurch.com
END:VEVENT
BEGIN:VEVENT
DTSTART;TZID=America/New_York:20230325T090000
DTEND;TZID=America/New_York:20230325T090000
DTSTAMP:20260422T051300
CREATED:20210405T175729Z
LAST-MODIFIED:20210405T175729Z
UID:1030-1679734800-1679734800@fmbcbiloxi.com
SUMMARY:Brotherhood Meeting
DESCRIPTION:
URL:https://fmbcbiloxi.com/event/brotherhood-meeting-2023-03-25/
LOCATION:First Missionary Baptist Church\, 658 Esters Blvd\, Biloxi\, MS 39530.\, Missouri\, 39530\, United States
CATEGORIES:Meeting
ORGANIZER;CN="First Missionary Baptist Church":MAILTO:emaiil@fjchurch.com
END:VEVENT
BEGIN:VEVENT
DTSTART;TZID=America/New_York:20230315T180000
DTEND;TZID=America/New_York:20230315T180000
DTSTAMP:20260422T051300
CREATED:20210405T175544Z
LAST-MODIFIED:20210429T115014Z
UID:585-1678903200-1678903200@fmbcbiloxi.com
SUMMARY:Pastor’s Aide Meeting
DESCRIPTION:
URL:https://fmbcbiloxi.com/event/pastors-aide-meeting-2023-03-15/
LOCATION:FMBC Fellowship Hall\, 658 Esters Boulevard Biloxi.\, Mississippi\, 39530\, United States
CATEGORIES:Meeting
ORGANIZER;CN="First Missionary Baptist Church":MAILTO:emaiil@fjchurch.com
END:VEVENT
BEGIN:VEVENT
DTSTART;TZID=America/New_York:20230311T090000
DTEND;TZID=America/New_York:20230311T090000
DTSTAMP:20260422T051300
CREATED:20210405T175729Z
LAST-MODIFIED:20210429T121331Z
UID:977-1678525200-1678525200@fmbcbiloxi.com
SUMMARY:Brotherhood Meeting
DESCRIPTION:
URL:https://fmbcbiloxi.com/event/brotherhood-meeting-2023-03-11/
LOCATION:First Missionary Baptist Church\, 658 Esters Blvd\, Biloxi\, MS 39530.\, Missouri\, 39530\, United States
CATEGORIES:Meeting
ORGANIZER;CN="First Missionary Baptist Church":MAILTO:emaiil@fjchurch.com
END:VEVENT
BEGIN:VEVENT
DTSTART;TZID=America/New_York:20230225T090000
DTEND;TZID=America/New_York:20230225T090000
DTSTAMP:20260422T051300
CREATED:20210405T175729Z
LAST-MODIFIED:20210405T175729Z
UID:1029-1677315600-1677315600@fmbcbiloxi.com
SUMMARY:Brotherhood Meeting
DESCRIPTION:
URL:https://fmbcbiloxi.com/event/brotherhood-meeting-2023-02-25/
LOCATION:First Missionary Baptist Church\, 658 Esters Blvd\, Biloxi\, MS 39530.\, Missouri\, 39530\, United States
CATEGORIES:Meeting
ORGANIZER;CN="First Missionary Baptist Church":MAILTO:emaiil@fjchurch.com
END:VEVENT
BEGIN:VEVENT
DTSTART;TZID=America/New_York:20230215T180000
DTEND;TZID=America/New_York:20230215T180000
DTSTAMP:20260422T051300
CREATED:20210405T175544Z
LAST-MODIFIED:20210429T115014Z
UID:584-1676484000-1676484000@fmbcbiloxi.com
SUMMARY:Pastor’s Aide Meeting
DESCRIPTION:
URL:https://fmbcbiloxi.com/event/pastors-aide-meeting-2023-02-15/
LOCATION:FMBC Fellowship Hall\, 658 Esters Boulevard Biloxi.\, Mississippi\, 39530\, United States
CATEGORIES:Meeting
ORGANIZER;CN="First Missionary Baptist Church":MAILTO:emaiil@fjchurch.com
END:VEVENT
BEGIN:VEVENT
DTSTART;TZID=America/New_York:20230211T090000
DTEND;TZID=America/New_York:20230211T090000
DTSTAMP:20260422T051300
CREATED:20210405T175729Z
LAST-MODIFIED:20210429T121329Z
UID:975-1676106000-1676106000@fmbcbiloxi.com
SUMMARY:Brotherhood Meeting
DESCRIPTION:
URL:https://fmbcbiloxi.com/event/brotherhood-meeting-2023-02-11/
LOCATION:First Missionary Baptist Church\, 658 Esters Blvd\, Biloxi\, MS 39530.\, Missouri\, 39530\, United States
CATEGORIES:Meeting
ORGANIZER;CN="First Missionary Baptist Church":MAILTO:emaiil@fjchurch.com
END:VEVENT
END:VCALENDAR