BEGIN:VCALENDAR
VERSION:2.0
PRODID:-//First Missionary Baptist Church of Biloxi - ECPv6.15.20//NONSGML v1.0//EN
CALSCALE:GREGORIAN
METHOD:PUBLISH
X-WR-CALNAME:First Missionary Baptist Church of Biloxi
X-ORIGINAL-URL:https://fmbcbiloxi.com
X-WR-CALDESC:Events for First Missionary Baptist Church of Biloxi
REFRESH-INTERVAL;VALUE=DURATION:PT1H
X-Robots-Tag:noindex
X-PUBLISHED-TTL:PT1H
BEGIN:VTIMEZONE
TZID:America/New_York
BEGIN:DAYLIGHT
TZOFFSETFROM:-0500
TZOFFSETTO:-0400
TZNAME:EDT
DTSTART:20250309T070000
END:DAYLIGHT
BEGIN:STANDARD
TZOFFSETFROM:-0400
TZOFFSETTO:-0500
TZNAME:EST
DTSTART:20251102T060000
END:STANDARD
BEGIN:DAYLIGHT
TZOFFSETFROM:-0500
TZOFFSETTO:-0400
TZNAME:EDT
DTSTART:20260308T070000
END:DAYLIGHT
BEGIN:STANDARD
TZOFFSETFROM:-0400
TZOFFSETTO:-0500
TZNAME:EST
DTSTART:20261101T060000
END:STANDARD
BEGIN:DAYLIGHT
TZOFFSETFROM:-0500
TZOFFSETTO:-0400
TZNAME:EDT
DTSTART:20270314T070000
END:DAYLIGHT
BEGIN:STANDARD
TZOFFSETFROM:-0400
TZOFFSETTO:-0500
TZNAME:EST
DTSTART:20271107T060000
END:STANDARD
END:VTIMEZONE
BEGIN:VEVENT
DTSTART;TZID=America/New_York:20260421T180000
DTEND;TZID=America/New_York:20260421T180000
DTSTAMP:20260419T202849
CREATED:20210405T175001Z
LAST-MODIFIED:20210405T175001Z
UID:4439-1776794400-1776794400@fmbcbiloxi.com
SUMMARY:Usher’s Ministry
DESCRIPTION:
URL:https://fmbcbiloxi.com/event/ushers-ministry-2026-04-21/
LOCATION:FMBC Fellowship Hall\, 658 Esters Boulevard Biloxi.\, Mississippi\, 39530\, United States
CATEGORIES:Ministry
ORGANIZER;CN="First Missionary Baptist Church":MAILTO:emaiil@fjchurch.com
END:VEVENT
BEGIN:VEVENT
DTSTART;TZID=America/New_York:20260428T180000
DTEND;TZID=America/New_York:20260428T180000
DTSTAMP:20260419T202849
CREATED:20210405T174910Z
LAST-MODIFIED:20210405T174910Z
UID:4465-1777399200-1777399200@fmbcbiloxi.com
SUMMARY:Married Couples Ministry
DESCRIPTION:
URL:https://fmbcbiloxi.com/event/married-couples-ministry-2026-04-28/
LOCATION:FMBC Fellowship Hall\, 658 Esters Boulevard Biloxi.\, Mississippi\, 39530\, United States
CATEGORIES:Ministry
ORGANIZER;CN="First Missionary Baptist Church":MAILTO:emaiil@fjchurch.com
END:VEVENT
BEGIN:VEVENT
DTSTART;TZID=America/New_York:20260505T180000
DTEND;TZID=America/New_York:20260505T180000
DTSTAMP:20260419T202849
CREATED:20210405T174800Z
LAST-MODIFIED:20210405T174800Z
UID:4456-1778004000-1778004000@fmbcbiloxi.com
SUMMARY:Julia Moore Women’s Ministry
DESCRIPTION:
URL:https://fmbcbiloxi.com/event/julia-moore-womens-ministry-2026-05-05/
LOCATION:FMBC Fellowship Hall\, 658 Esters Boulevard Biloxi.\, Mississippi\, 39530\, United States
CATEGORIES:Ministry
ORGANIZER;CN="First Missionary Baptist Church":MAILTO:emaiil@fjchurch.com
END:VEVENT
BEGIN:VEVENT
DTSTART;TZID=America/New_York:20260512T180000
DTEND;TZID=America/New_York:20260512T180000
DTSTAMP:20260419T202849
CREATED:20210405T174910Z
LAST-MODIFIED:20210405T174910Z
UID:4464-1778608800-1778608800@fmbcbiloxi.com
SUMMARY:Married Couples Ministry
DESCRIPTION:
URL:https://fmbcbiloxi.com/event/married-couples-ministry-2026-05-12/
LOCATION:FMBC Fellowship Hall\, 658 Esters Boulevard Biloxi.\, Mississippi\, 39530\, United States
CATEGORIES:Ministry
ORGANIZER;CN="First Missionary Baptist Church":MAILTO:emaiil@fjchurch.com
END:VEVENT
END:VCALENDAR