BEGIN:VCALENDAR
VERSION:2.0
PRODID:-//First Missionary Baptist Church of Biloxi - ECPv6.15.20//NONSGML v1.0//EN
CALSCALE:GREGORIAN
METHOD:PUBLISH
X-WR-CALNAME:First Missionary Baptist Church of Biloxi
X-ORIGINAL-URL:https://fmbcbiloxi.com
X-WR-CALDESC:Events for First Missionary Baptist Church of Biloxi
REFRESH-INTERVAL;VALUE=DURATION:PT1H
X-Robots-Tag:noindex
X-PUBLISHED-TTL:PT1H
BEGIN:VTIMEZONE
TZID:America/New_York
BEGIN:DAYLIGHT
TZOFFSETFROM:-0500
TZOFFSETTO:-0400
TZNAME:EDT
DTSTART:20210314T070000
END:DAYLIGHT
BEGIN:STANDARD
TZOFFSETFROM:-0400
TZOFFSETTO:-0500
TZNAME:EST
DTSTART:20211107T060000
END:STANDARD
BEGIN:DAYLIGHT
TZOFFSETFROM:-0500
TZOFFSETTO:-0400
TZNAME:EDT
DTSTART:20220313T070000
END:DAYLIGHT
BEGIN:STANDARD
TZOFFSETFROM:-0400
TZOFFSETTO:-0500
TZNAME:EST
DTSTART:20221106T060000
END:STANDARD
BEGIN:DAYLIGHT
TZOFFSETFROM:-0500
TZOFFSETTO:-0400
TZNAME:EDT
DTSTART:20230312T070000
END:DAYLIGHT
BEGIN:STANDARD
TZOFFSETFROM:-0400
TZOFFSETTO:-0500
TZNAME:EST
DTSTART:20231105T060000
END:STANDARD
BEGIN:DAYLIGHT
TZOFFSETFROM:-0500
TZOFFSETTO:-0400
TZNAME:EDT
DTSTART:20240310T070000
END:DAYLIGHT
BEGIN:STANDARD
TZOFFSETFROM:-0400
TZOFFSETTO:-0500
TZNAME:EST
DTSTART:20241103T060000
END:STANDARD
END:VTIMEZONE
BEGIN:VEVENT
DTSTART;TZID=America/New_York:20230110T180000
DTEND;TZID=America/New_York:20230110T180000
DTSTAMP:20260422T143633
CREATED:20210405T174910Z
LAST-MODIFIED:20210405T174910Z
UID:652-1673373600-1673373600@fmbcbiloxi.com
SUMMARY:Married Couples Ministry
DESCRIPTION:
URL:https://fmbcbiloxi.com/event/married-couples-ministry-2023-01-10/
LOCATION:FMBC Fellowship Hall\, 658 Esters Boulevard Biloxi.\, Mississippi\, 39530\, United States
CATEGORIES:Ministry
ORGANIZER;CN="First Missionary Baptist Church":MAILTO:emaiil@fjchurch.com
END:VEVENT
BEGIN:VEVENT
DTSTART;TZID=America/New_York:20230103T180000
DTEND;TZID=America/New_York:20230103T180000
DTSTAMP:20260422T143633
CREATED:20210405T174800Z
LAST-MODIFIED:20210405T174800Z
UID:560-1672768800-1672768800@fmbcbiloxi.com
SUMMARY:Julia Moore Women’s Ministry
DESCRIPTION:
URL:https://fmbcbiloxi.com/event/julia-moore-womens-ministry-2023-01-03/
LOCATION:FMBC Fellowship Hall\, 658 Esters Boulevard Biloxi.\, Mississippi\, 39530\, United States
CATEGORIES:Ministry
ORGANIZER;CN="First Missionary Baptist Church":MAILTO:emaiil@fjchurch.com
END:VEVENT
BEGIN:VEVENT
DTSTART;TZID=America/New_York:20221227T180000
DTEND;TZID=America/New_York:20221227T180000
DTSTAMP:20260422T143633
CREATED:20210405T174910Z
LAST-MODIFIED:20210405T174910Z
UID:651-1672164000-1672164000@fmbcbiloxi.com
SUMMARY:Married Couples Ministry
DESCRIPTION:
URL:https://fmbcbiloxi.com/event/married-couples-ministry-2022-12-27/
LOCATION:FMBC Fellowship Hall\, 658 Esters Boulevard Biloxi.\, Mississippi\, 39530\, United States
CATEGORIES:Ministry
ORGANIZER;CN="First Missionary Baptist Church":MAILTO:emaiil@fjchurch.com
END:VEVENT
BEGIN:VEVENT
DTSTART;TZID=America/New_York:20221220T180000
DTEND;TZID=America/New_York:20221220T180000
DTSTAMP:20260422T143633
CREATED:20210405T175001Z
LAST-MODIFIED:20210405T175001Z
UID:680-1671559200-1671559200@fmbcbiloxi.com
SUMMARY:Usher’s Ministry
DESCRIPTION:
URL:https://fmbcbiloxi.com/event/ushers-ministry-2022-12-20/
LOCATION:FMBC Fellowship Hall\, 658 Esters Boulevard Biloxi.\, Mississippi\, 39530\, United States
CATEGORIES:Ministry
ORGANIZER;CN="First Missionary Baptist Church":MAILTO:emaiil@fjchurch.com
END:VEVENT
BEGIN:VEVENT
DTSTART;TZID=America/New_York:20221213T180000
DTEND;TZID=America/New_York:20221213T180000
DTSTAMP:20260422T143633
CREATED:20210405T174910Z
LAST-MODIFIED:20210405T174910Z
UID:650-1670954400-1670954400@fmbcbiloxi.com
SUMMARY:Married Couples Ministry
DESCRIPTION:
URL:https://fmbcbiloxi.com/event/married-couples-ministry-2022-12-13/
LOCATION:FMBC Fellowship Hall\, 658 Esters Boulevard Biloxi.\, Mississippi\, 39530\, United States
CATEGORIES:Ministry
ORGANIZER;CN="First Missionary Baptist Church":MAILTO:emaiil@fjchurch.com
END:VEVENT
BEGIN:VEVENT
DTSTART;TZID=America/New_York:20221206T180000
DTEND;TZID=America/New_York:20221206T180000
DTSTAMP:20260422T143633
CREATED:20210405T174800Z
LAST-MODIFIED:20210405T174800Z
UID:559-1670349600-1670349600@fmbcbiloxi.com
SUMMARY:Julia Moore Women’s Ministry
DESCRIPTION:
URL:https://fmbcbiloxi.com/event/julia-moore-womens-ministry-2022-12-06/
LOCATION:FMBC Fellowship Hall\, 658 Esters Boulevard Biloxi.\, Mississippi\, 39530\, United States
CATEGORIES:Ministry
ORGANIZER;CN="First Missionary Baptist Church":MAILTO:emaiil@fjchurch.com
END:VEVENT
BEGIN:VEVENT
DTSTART;TZID=America/New_York:20221122T180000
DTEND;TZID=America/New_York:20221122T180000
DTSTAMP:20260422T143633
CREATED:20210405T174910Z
LAST-MODIFIED:20210405T174910Z
UID:649-1669140000-1669140000@fmbcbiloxi.com
SUMMARY:Married Couples Ministry
DESCRIPTION:
URL:https://fmbcbiloxi.com/event/married-couples-ministry-2022-11-22/
LOCATION:FMBC Fellowship Hall\, 658 Esters Boulevard Biloxi.\, Mississippi\, 39530\, United States
CATEGORIES:Ministry
ORGANIZER;CN="First Missionary Baptist Church":MAILTO:emaiil@fjchurch.com
END:VEVENT
BEGIN:VEVENT
DTSTART;TZID=America/New_York:20221115T180000
DTEND;TZID=America/New_York:20221115T180000
DTSTAMP:20260422T143633
CREATED:20210405T175001Z
LAST-MODIFIED:20210405T175001Z
UID:679-1668535200-1668535200@fmbcbiloxi.com
SUMMARY:Usher’s Ministry
DESCRIPTION:
URL:https://fmbcbiloxi.com/event/ushers-ministry-2022-11-15/
LOCATION:FMBC Fellowship Hall\, 658 Esters Boulevard Biloxi.\, Mississippi\, 39530\, United States
CATEGORIES:Ministry
ORGANIZER;CN="First Missionary Baptist Church":MAILTO:emaiil@fjchurch.com
END:VEVENT
BEGIN:VEVENT
DTSTART;TZID=America/New_York:20221108T180000
DTEND;TZID=America/New_York:20221108T180000
DTSTAMP:20260422T143633
CREATED:20210405T174910Z
LAST-MODIFIED:20210405T174910Z
UID:648-1667930400-1667930400@fmbcbiloxi.com
SUMMARY:Married Couples Ministry
DESCRIPTION:
URL:https://fmbcbiloxi.com/event/married-couples-ministry-2022-11-08/
LOCATION:FMBC Fellowship Hall\, 658 Esters Boulevard Biloxi.\, Mississippi\, 39530\, United States
CATEGORIES:Ministry
ORGANIZER;CN="First Missionary Baptist Church":MAILTO:emaiil@fjchurch.com
END:VEVENT
BEGIN:VEVENT
DTSTART;TZID=America/New_York:20221101T180000
DTEND;TZID=America/New_York:20221101T180000
DTSTAMP:20260422T143633
CREATED:20210405T174800Z
LAST-MODIFIED:20210405T174800Z
UID:558-1667325600-1667325600@fmbcbiloxi.com
SUMMARY:Julia Moore Women’s Ministry
DESCRIPTION:
URL:https://fmbcbiloxi.com/event/julia-moore-womens-ministry-2022-11-01/
LOCATION:FMBC Fellowship Hall\, 658 Esters Boulevard Biloxi.\, Mississippi\, 39530\, United States
CATEGORIES:Ministry
ORGANIZER;CN="First Missionary Baptist Church":MAILTO:emaiil@fjchurch.com
END:VEVENT
BEGIN:VEVENT
DTSTART;TZID=America/New_York:20221025T180000
DTEND;TZID=America/New_York:20221025T180000
DTSTAMP:20260422T143633
CREATED:20210405T174910Z
LAST-MODIFIED:20210405T174910Z
UID:647-1666720800-1666720800@fmbcbiloxi.com
SUMMARY:Married Couples Ministry
DESCRIPTION:
URL:https://fmbcbiloxi.com/event/married-couples-ministry-2022-10-25/
LOCATION:FMBC Fellowship Hall\, 658 Esters Boulevard Biloxi.\, Mississippi\, 39530\, United States
CATEGORIES:Ministry
ORGANIZER;CN="First Missionary Baptist Church":MAILTO:emaiil@fjchurch.com
END:VEVENT
BEGIN:VEVENT
DTSTART;TZID=America/New_York:20221018T180000
DTEND;TZID=America/New_York:20221018T180000
DTSTAMP:20260422T143633
CREATED:20210405T175001Z
LAST-MODIFIED:20210405T175001Z
UID:678-1666116000-1666116000@fmbcbiloxi.com
SUMMARY:Usher’s Ministry
DESCRIPTION:
URL:https://fmbcbiloxi.com/event/ushers-ministry-2022-10-18/
LOCATION:FMBC Fellowship Hall\, 658 Esters Boulevard Biloxi.\, Mississippi\, 39530\, United States
CATEGORIES:Ministry
ORGANIZER;CN="First Missionary Baptist Church":MAILTO:emaiil@fjchurch.com
END:VEVENT
BEGIN:VEVENT
DTSTART;TZID=America/New_York:20221011T180000
DTEND;TZID=America/New_York:20221011T180000
DTSTAMP:20260422T143633
CREATED:20210405T174910Z
LAST-MODIFIED:20210405T174910Z
UID:646-1665511200-1665511200@fmbcbiloxi.com
SUMMARY:Married Couples Ministry
DESCRIPTION:
URL:https://fmbcbiloxi.com/event/married-couples-ministry-2022-10-11/
LOCATION:FMBC Fellowship Hall\, 658 Esters Boulevard Biloxi.\, Mississippi\, 39530\, United States
CATEGORIES:Ministry
ORGANIZER;CN="First Missionary Baptist Church":MAILTO:emaiil@fjchurch.com
END:VEVENT
BEGIN:VEVENT
DTSTART;TZID=America/New_York:20221004T180000
DTEND;TZID=America/New_York:20221004T180000
DTSTAMP:20260422T143633
CREATED:20210405T174800Z
LAST-MODIFIED:20210405T174800Z
UID:557-1664906400-1664906400@fmbcbiloxi.com
SUMMARY:Julia Moore Women’s Ministry
DESCRIPTION:
URL:https://fmbcbiloxi.com/event/julia-moore-womens-ministry-2022-10-04/
LOCATION:FMBC Fellowship Hall\, 658 Esters Boulevard Biloxi.\, Mississippi\, 39530\, United States
CATEGORIES:Ministry
ORGANIZER;CN="First Missionary Baptist Church":MAILTO:emaiil@fjchurch.com
END:VEVENT
BEGIN:VEVENT
DTSTART;TZID=America/New_York:20220927T180000
DTEND;TZID=America/New_York:20220927T180000
DTSTAMP:20260422T143633
CREATED:20210405T174910Z
LAST-MODIFIED:20210405T174910Z
UID:645-1664301600-1664301600@fmbcbiloxi.com
SUMMARY:Married Couples Ministry
DESCRIPTION:
URL:https://fmbcbiloxi.com/event/married-couples-ministry-2022-09-27/
LOCATION:FMBC Fellowship Hall\, 658 Esters Boulevard Biloxi.\, Mississippi\, 39530\, United States
CATEGORIES:Ministry
ORGANIZER;CN="First Missionary Baptist Church":MAILTO:emaiil@fjchurch.com
END:VEVENT
BEGIN:VEVENT
DTSTART;TZID=America/New_York:20220920T180000
DTEND;TZID=America/New_York:20220920T180000
DTSTAMP:20260422T143633
CREATED:20210405T175001Z
LAST-MODIFIED:20210405T175001Z
UID:677-1663696800-1663696800@fmbcbiloxi.com
SUMMARY:Usher’s Ministry
DESCRIPTION:
URL:https://fmbcbiloxi.com/event/ushers-ministry-2022-09-20/
LOCATION:FMBC Fellowship Hall\, 658 Esters Boulevard Biloxi.\, Mississippi\, 39530\, United States
CATEGORIES:Ministry
ORGANIZER;CN="First Missionary Baptist Church":MAILTO:emaiil@fjchurch.com
END:VEVENT
BEGIN:VEVENT
DTSTART;TZID=America/New_York:20220913T180000
DTEND;TZID=America/New_York:20220913T180000
DTSTAMP:20260422T143633
CREATED:20210405T174910Z
LAST-MODIFIED:20210405T174910Z
UID:644-1663092000-1663092000@fmbcbiloxi.com
SUMMARY:Married Couples Ministry
DESCRIPTION:
URL:https://fmbcbiloxi.com/event/married-couples-ministry-2022-09-13/
LOCATION:FMBC Fellowship Hall\, 658 Esters Boulevard Biloxi.\, Mississippi\, 39530\, United States
CATEGORIES:Ministry
ORGANIZER;CN="First Missionary Baptist Church":MAILTO:emaiil@fjchurch.com
END:VEVENT
BEGIN:VEVENT
DTSTART;TZID=America/New_York:20220906T180000
DTEND;TZID=America/New_York:20220906T180000
DTSTAMP:20260422T143633
CREATED:20210405T174800Z
LAST-MODIFIED:20210405T174800Z
UID:556-1662487200-1662487200@fmbcbiloxi.com
SUMMARY:Julia Moore Women’s Ministry
DESCRIPTION:
URL:https://fmbcbiloxi.com/event/julia-moore-womens-ministry-2022-09-06/
LOCATION:FMBC Fellowship Hall\, 658 Esters Boulevard Biloxi.\, Mississippi\, 39530\, United States
CATEGORIES:Ministry
ORGANIZER;CN="First Missionary Baptist Church":MAILTO:emaiil@fjchurch.com
END:VEVENT
BEGIN:VEVENT
DTSTART;TZID=America/New_York:20220823T180000
DTEND;TZID=America/New_York:20220823T180000
DTSTAMP:20260422T143633
CREATED:20210405T174910Z
LAST-MODIFIED:20210405T174910Z
UID:643-1661277600-1661277600@fmbcbiloxi.com
SUMMARY:Married Couples Ministry
DESCRIPTION:
URL:https://fmbcbiloxi.com/event/married-couples-ministry-2022-08-23/
LOCATION:FMBC Fellowship Hall\, 658 Esters Boulevard Biloxi.\, Mississippi\, 39530\, United States
CATEGORIES:Ministry
ORGANIZER;CN="First Missionary Baptist Church":MAILTO:emaiil@fjchurch.com
END:VEVENT
BEGIN:VEVENT
DTSTART;TZID=America/New_York:20220816T180000
DTEND;TZID=America/New_York:20220816T180000
DTSTAMP:20260422T143633
CREATED:20210405T175001Z
LAST-MODIFIED:20210405T175001Z
UID:676-1660672800-1660672800@fmbcbiloxi.com
SUMMARY:Usher’s Ministry
DESCRIPTION:
URL:https://fmbcbiloxi.com/event/ushers-ministry-2022-08-16/
LOCATION:FMBC Fellowship Hall\, 658 Esters Boulevard Biloxi.\, Mississippi\, 39530\, United States
CATEGORIES:Ministry
ORGANIZER;CN="First Missionary Baptist Church":MAILTO:emaiil@fjchurch.com
END:VEVENT
BEGIN:VEVENT
DTSTART;TZID=America/New_York:20220809T180000
DTEND;TZID=America/New_York:20220809T180000
DTSTAMP:20260422T143633
CREATED:20210405T174910Z
LAST-MODIFIED:20210405T174910Z
UID:642-1660068000-1660068000@fmbcbiloxi.com
SUMMARY:Married Couples Ministry
DESCRIPTION:
URL:https://fmbcbiloxi.com/event/married-couples-ministry-2022-08-09/
LOCATION:FMBC Fellowship Hall\, 658 Esters Boulevard Biloxi.\, Mississippi\, 39530\, United States
CATEGORIES:Ministry
ORGANIZER;CN="First Missionary Baptist Church":MAILTO:emaiil@fjchurch.com
END:VEVENT
BEGIN:VEVENT
DTSTART;TZID=America/New_York:20220802T180000
DTEND;TZID=America/New_York:20220802T180000
DTSTAMP:20260422T143633
CREATED:20210405T174800Z
LAST-MODIFIED:20210405T174800Z
UID:555-1659463200-1659463200@fmbcbiloxi.com
SUMMARY:Julia Moore Women’s Ministry
DESCRIPTION:
URL:https://fmbcbiloxi.com/event/julia-moore-womens-ministry-2022-08-02/
LOCATION:FMBC Fellowship Hall\, 658 Esters Boulevard Biloxi.\, Mississippi\, 39530\, United States
CATEGORIES:Ministry
ORGANIZER;CN="First Missionary Baptist Church":MAILTO:emaiil@fjchurch.com
END:VEVENT
BEGIN:VEVENT
DTSTART;TZID=America/New_York:20220726T180000
DTEND;TZID=America/New_York:20220726T180000
DTSTAMP:20260422T143633
CREATED:20210405T174910Z
LAST-MODIFIED:20210405T174910Z
UID:641-1658858400-1658858400@fmbcbiloxi.com
SUMMARY:Married Couples Ministry
DESCRIPTION:
URL:https://fmbcbiloxi.com/event/married-couples-ministry-2022-07-26/
LOCATION:FMBC Fellowship Hall\, 658 Esters Boulevard Biloxi.\, Mississippi\, 39530\, United States
CATEGORIES:Ministry
ORGANIZER;CN="First Missionary Baptist Church":MAILTO:emaiil@fjchurch.com
END:VEVENT
BEGIN:VEVENT
DTSTART;TZID=America/New_York:20220719T180000
DTEND;TZID=America/New_York:20220719T180000
DTSTAMP:20260422T143633
CREATED:20210405T175001Z
LAST-MODIFIED:20210405T175001Z
UID:675-1658253600-1658253600@fmbcbiloxi.com
SUMMARY:Usher’s Ministry
DESCRIPTION:
URL:https://fmbcbiloxi.com/event/ushers-ministry-2022-07-19/
LOCATION:FMBC Fellowship Hall\, 658 Esters Boulevard Biloxi.\, Mississippi\, 39530\, United States
CATEGORIES:Ministry
ORGANIZER;CN="First Missionary Baptist Church":MAILTO:emaiil@fjchurch.com
END:VEVENT
BEGIN:VEVENT
DTSTART;TZID=America/New_York:20220712T180000
DTEND;TZID=America/New_York:20220712T180000
DTSTAMP:20260422T143633
CREATED:20210405T174910Z
LAST-MODIFIED:20210405T174910Z
UID:640-1657648800-1657648800@fmbcbiloxi.com
SUMMARY:Married Couples Ministry
DESCRIPTION:
URL:https://fmbcbiloxi.com/event/married-couples-ministry-2022-07-12/
LOCATION:FMBC Fellowship Hall\, 658 Esters Boulevard Biloxi.\, Mississippi\, 39530\, United States
CATEGORIES:Ministry
ORGANIZER;CN="First Missionary Baptist Church":MAILTO:emaiil@fjchurch.com
END:VEVENT
BEGIN:VEVENT
DTSTART;TZID=America/New_York:20220705T180000
DTEND;TZID=America/New_York:20220705T180000
DTSTAMP:20260422T143633
CREATED:20210405T174800Z
LAST-MODIFIED:20210405T174800Z
UID:554-1657044000-1657044000@fmbcbiloxi.com
SUMMARY:Julia Moore Women’s Ministry
DESCRIPTION:
URL:https://fmbcbiloxi.com/event/julia-moore-womens-ministry-2022-07-05/
LOCATION:FMBC Fellowship Hall\, 658 Esters Boulevard Biloxi.\, Mississippi\, 39530\, United States
CATEGORIES:Ministry
ORGANIZER;CN="First Missionary Baptist Church":MAILTO:emaiil@fjchurch.com
END:VEVENT
BEGIN:VEVENT
DTSTART;TZID=America/New_York:20220628T180000
DTEND;TZID=America/New_York:20220628T180000
DTSTAMP:20260422T143633
CREATED:20210405T174910Z
LAST-MODIFIED:20210405T174910Z
UID:639-1656439200-1656439200@fmbcbiloxi.com
SUMMARY:Married Couples Ministry
DESCRIPTION:
URL:https://fmbcbiloxi.com/event/married-couples-ministry-2022-06-28/
LOCATION:FMBC Fellowship Hall\, 658 Esters Boulevard Biloxi.\, Mississippi\, 39530\, United States
CATEGORIES:Ministry
ORGANIZER;CN="First Missionary Baptist Church":MAILTO:emaiil@fjchurch.com
END:VEVENT
BEGIN:VEVENT
DTSTART;TZID=America/New_York:20220621T180000
DTEND;TZID=America/New_York:20220621T180000
DTSTAMP:20260422T143633
CREATED:20210405T175001Z
LAST-MODIFIED:20210405T175001Z
UID:674-1655834400-1655834400@fmbcbiloxi.com
SUMMARY:Usher’s Ministry
DESCRIPTION:
URL:https://fmbcbiloxi.com/event/ushers-ministry-2022-06-21/
LOCATION:FMBC Fellowship Hall\, 658 Esters Boulevard Biloxi.\, Mississippi\, 39530\, United States
CATEGORIES:Ministry
ORGANIZER;CN="First Missionary Baptist Church":MAILTO:emaiil@fjchurch.com
END:VEVENT
BEGIN:VEVENT
DTSTART;TZID=America/New_York:20220614T180000
DTEND;TZID=America/New_York:20220614T180000
DTSTAMP:20260422T143633
CREATED:20210405T174910Z
LAST-MODIFIED:20210405T174910Z
UID:638-1655229600-1655229600@fmbcbiloxi.com
SUMMARY:Married Couples Ministry
DESCRIPTION:
URL:https://fmbcbiloxi.com/event/married-couples-ministry-2022-06-14/
LOCATION:FMBC Fellowship Hall\, 658 Esters Boulevard Biloxi.\, Mississippi\, 39530\, United States
CATEGORIES:Ministry
ORGANIZER;CN="First Missionary Baptist Church":MAILTO:emaiil@fjchurch.com
END:VEVENT
BEGIN:VEVENT
DTSTART;TZID=America/New_York:20220607T180000
DTEND;TZID=America/New_York:20220607T180000
DTSTAMP:20260422T143633
CREATED:20210405T174800Z
LAST-MODIFIED:20210405T174800Z
UID:553-1654624800-1654624800@fmbcbiloxi.com
SUMMARY:Julia Moore Women’s Ministry
DESCRIPTION:
URL:https://fmbcbiloxi.com/event/julia-moore-womens-ministry-2022-06-07/
LOCATION:FMBC Fellowship Hall\, 658 Esters Boulevard Biloxi.\, Mississippi\, 39530\, United States
CATEGORIES:Ministry
ORGANIZER;CN="First Missionary Baptist Church":MAILTO:emaiil@fjchurch.com
END:VEVENT
END:VCALENDAR