BEGIN:VCALENDAR
VERSION:2.0
PRODID:-//First Missionary Baptist Church of Biloxi - ECPv6.15.20//NONSGML v1.0//EN
CALSCALE:GREGORIAN
METHOD:PUBLISH
X-WR-CALNAME:First Missionary Baptist Church of Biloxi
X-ORIGINAL-URL:https://fmbcbiloxi.com
X-WR-CALDESC:Events for First Missionary Baptist Church of Biloxi
REFRESH-INTERVAL;VALUE=DURATION:PT1H
X-Robots-Tag:noindex
X-PUBLISHED-TTL:PT1H
BEGIN:VTIMEZONE
TZID:America/New_York
BEGIN:DAYLIGHT
TZOFFSETFROM:-0500
TZOFFSETTO:-0400
TZNAME:EDT
DTSTART:20240310T070000
END:DAYLIGHT
BEGIN:STANDARD
TZOFFSETFROM:-0400
TZOFFSETTO:-0500
TZNAME:EST
DTSTART:20241103T060000
END:STANDARD
BEGIN:DAYLIGHT
TZOFFSETFROM:-0500
TZOFFSETTO:-0400
TZNAME:EDT
DTSTART:20250309T070000
END:DAYLIGHT
BEGIN:STANDARD
TZOFFSETFROM:-0400
TZOFFSETTO:-0500
TZNAME:EST
DTSTART:20251102T060000
END:STANDARD
BEGIN:DAYLIGHT
TZOFFSETFROM:-0500
TZOFFSETTO:-0400
TZNAME:EDT
DTSTART:20260308T070000
END:DAYLIGHT
BEGIN:STANDARD
TZOFFSETFROM:-0400
TZOFFSETTO:-0500
TZNAME:EST
DTSTART:20261101T060000
END:STANDARD
BEGIN:DAYLIGHT
TZOFFSETFROM:-0500
TZOFFSETTO:-0400
TZNAME:EDT
DTSTART:20270314T070000
END:DAYLIGHT
BEGIN:STANDARD
TZOFFSETFROM:-0400
TZOFFSETTO:-0500
TZNAME:EST
DTSTART:20271107T060000
END:STANDARD
END:VTIMEZONE
BEGIN:VEVENT
DTSTART;TZID=America/New_York:20250715T180000
DTEND;TZID=America/New_York:20250715T180000
DTSTAMP:20260422T181655
CREATED:20210405T175001Z
LAST-MODIFIED:20210405T175001Z
UID:4090-1752602400-1752602400@fmbcbiloxi.com
SUMMARY:Usher’s Ministry
DESCRIPTION:
URL:https://fmbcbiloxi.com/event/ushers-ministry-2025-07-15/
LOCATION:FMBC Fellowship Hall\, 658 Esters Boulevard Biloxi.\, Mississippi\, 39530\, United States
CATEGORIES:Ministry
ORGANIZER;CN="First Missionary Baptist Church":MAILTO:emaiil@fjchurch.com
END:VEVENT
BEGIN:VEVENT
DTSTART;TZID=America/New_York:20250722T180000
DTEND;TZID=America/New_York:20250722T180000
DTSTAMP:20260422T181655
CREATED:20210405T174910Z
LAST-MODIFIED:20210405T174910Z
UID:4118-1753207200-1753207200@fmbcbiloxi.com
SUMMARY:Married Couples Ministry
DESCRIPTION:
URL:https://fmbcbiloxi.com/event/married-couples-ministry-2025-07-22/
LOCATION:FMBC Fellowship Hall\, 658 Esters Boulevard Biloxi.\, Mississippi\, 39530\, United States
CATEGORIES:Ministry
ORGANIZER;CN="First Missionary Baptist Church":MAILTO:emaiil@fjchurch.com
END:VEVENT
BEGIN:VEVENT
DTSTART;TZID=America/New_York:20250805T180000
DTEND;TZID=America/New_York:20250805T180000
DTSTAMP:20260422T181655
CREATED:20210405T174800Z
LAST-MODIFIED:20210405T174800Z
UID:4109-1754416800-1754416800@fmbcbiloxi.com
SUMMARY:Julia Moore Women’s Ministry
DESCRIPTION:
URL:https://fmbcbiloxi.com/event/julia-moore-womens-ministry-2025-08-05/
LOCATION:FMBC Fellowship Hall\, 658 Esters Boulevard Biloxi.\, Mississippi\, 39530\, United States
CATEGORIES:Ministry
ORGANIZER;CN="First Missionary Baptist Church":MAILTO:emaiil@fjchurch.com
END:VEVENT
BEGIN:VEVENT
DTSTART;TZID=America/New_York:20250812T180000
DTEND;TZID=America/New_York:20250812T180000
DTSTAMP:20260422T181655
CREATED:20210405T174910Z
LAST-MODIFIED:20210405T174910Z
UID:4117-1755021600-1755021600@fmbcbiloxi.com
SUMMARY:Married Couples Ministry
DESCRIPTION:
URL:https://fmbcbiloxi.com/event/married-couples-ministry-2025-08-12/
LOCATION:FMBC Fellowship Hall\, 658 Esters Boulevard Biloxi.\, Mississippi\, 39530\, United States
CATEGORIES:Ministry
ORGANIZER;CN="First Missionary Baptist Church":MAILTO:emaiil@fjchurch.com
END:VEVENT
BEGIN:VEVENT
DTSTART;TZID=America/New_York:20250819T180000
DTEND;TZID=America/New_York:20250819T180000
DTSTAMP:20260422T181655
CREATED:20210405T175001Z
LAST-MODIFIED:20210405T175001Z
UID:4122-1755626400-1755626400@fmbcbiloxi.com
SUMMARY:Usher’s Ministry
DESCRIPTION:
URL:https://fmbcbiloxi.com/event/ushers-ministry-2025-08-19/
LOCATION:FMBC Fellowship Hall\, 658 Esters Boulevard Biloxi.\, Mississippi\, 39530\, United States
CATEGORIES:Ministry
ORGANIZER;CN="First Missionary Baptist Church":MAILTO:emaiil@fjchurch.com
END:VEVENT
BEGIN:VEVENT
DTSTART;TZID=America/New_York:20250826T180000
DTEND;TZID=America/New_York:20250826T180000
DTSTAMP:20260422T181655
CREATED:20210405T174910Z
LAST-MODIFIED:20210405T174910Z
UID:4185-1756231200-1756231200@fmbcbiloxi.com
SUMMARY:Married Couples Ministry
DESCRIPTION:
URL:https://fmbcbiloxi.com/event/married-couples-ministry-2025-08-26/
LOCATION:FMBC Fellowship Hall\, 658 Esters Boulevard Biloxi.\, Mississippi\, 39530\, United States
CATEGORIES:Ministry
ORGANIZER;CN="First Missionary Baptist Church":MAILTO:emaiil@fjchurch.com
END:VEVENT
BEGIN:VEVENT
DTSTART;TZID=America/New_York:20250902T180000
DTEND;TZID=America/New_York:20250902T180000
DTSTAMP:20260422T181655
CREATED:20210405T174800Z
LAST-MODIFIED:20210405T174800Z
UID:4180-1756836000-1756836000@fmbcbiloxi.com
SUMMARY:Julia Moore Women’s Ministry
DESCRIPTION:
URL:https://fmbcbiloxi.com/event/julia-moore-womens-ministry-2025-09-02/
LOCATION:FMBC Fellowship Hall\, 658 Esters Boulevard Biloxi.\, Mississippi\, 39530\, United States
CATEGORIES:Ministry
ORGANIZER;CN="First Missionary Baptist Church":MAILTO:emaiil@fjchurch.com
END:VEVENT
BEGIN:VEVENT
DTSTART;TZID=America/New_York:20250909T180000
DTEND;TZID=America/New_York:20250909T180000
DTSTAMP:20260422T181655
CREATED:20210405T174910Z
LAST-MODIFIED:20210405T174910Z
UID:4184-1757440800-1757440800@fmbcbiloxi.com
SUMMARY:Married Couples Ministry
DESCRIPTION:
URL:https://fmbcbiloxi.com/event/married-couples-ministry-2025-09-09/
LOCATION:FMBC Fellowship Hall\, 658 Esters Boulevard Biloxi.\, Mississippi\, 39530\, United States
CATEGORIES:Ministry
ORGANIZER;CN="First Missionary Baptist Church":MAILTO:emaiil@fjchurch.com
END:VEVENT
BEGIN:VEVENT
DTSTART;TZID=America/New_York:20250916T180000
DTEND;TZID=America/New_York:20250916T180000
DTSTAMP:20260422T181655
CREATED:20210405T175001Z
LAST-MODIFIED:20210405T175001Z
UID:4193-1758045600-1758045600@fmbcbiloxi.com
SUMMARY:Usher’s Ministry
DESCRIPTION:
URL:https://fmbcbiloxi.com/event/ushers-ministry-2025-09-16/
LOCATION:FMBC Fellowship Hall\, 658 Esters Boulevard Biloxi.\, Mississippi\, 39530\, United States
CATEGORIES:Ministry
ORGANIZER;CN="First Missionary Baptist Church":MAILTO:emaiil@fjchurch.com
END:VEVENT
BEGIN:VEVENT
DTSTART;TZID=America/New_York:20250923T180000
DTEND;TZID=America/New_York:20250923T180000
DTSTAMP:20260422T181655
CREATED:20210405T174910Z
LAST-MODIFIED:20210405T174910Z
UID:4233-1758650400-1758650400@fmbcbiloxi.com
SUMMARY:Married Couples Ministry
DESCRIPTION:
URL:https://fmbcbiloxi.com/event/married-couples-ministry-2025-09-23/
LOCATION:FMBC Fellowship Hall\, 658 Esters Boulevard Biloxi.\, Mississippi\, 39530\, United States
CATEGORIES:Ministry
ORGANIZER;CN="First Missionary Baptist Church":MAILTO:emaiil@fjchurch.com
END:VEVENT
BEGIN:VEVENT
DTSTART;TZID=America/New_York:20251007T180000
DTEND;TZID=America/New_York:20251007T180000
DTSTAMP:20260422T181655
CREATED:20210405T174800Z
LAST-MODIFIED:20210405T174800Z
UID:4217-1759860000-1759860000@fmbcbiloxi.com
SUMMARY:Julia Moore Women’s Ministry
DESCRIPTION:
URL:https://fmbcbiloxi.com/event/julia-moore-womens-ministry-2025-10-07/
LOCATION:FMBC Fellowship Hall\, 658 Esters Boulevard Biloxi.\, Mississippi\, 39530\, United States
CATEGORIES:Ministry
ORGANIZER;CN="First Missionary Baptist Church":MAILTO:emaiil@fjchurch.com
END:VEVENT
BEGIN:VEVENT
DTSTART;TZID=America/New_York:20251014T180000
DTEND;TZID=America/New_York:20251014T180000
DTSTAMP:20260422T181655
CREATED:20210405T174910Z
LAST-MODIFIED:20210405T174910Z
UID:4232-1760464800-1760464800@fmbcbiloxi.com
SUMMARY:Married Couples Ministry
DESCRIPTION:
URL:https://fmbcbiloxi.com/event/married-couples-ministry-2025-10-14/
LOCATION:FMBC Fellowship Hall\, 658 Esters Boulevard Biloxi.\, Mississippi\, 39530\, United States
CATEGORIES:Ministry
ORGANIZER;CN="First Missionary Baptist Church":MAILTO:emaiil@fjchurch.com
END:VEVENT
BEGIN:VEVENT
DTSTART;TZID=America/New_York:20251021T180000
DTEND;TZID=America/New_York:20251021T180000
DTSTAMP:20260422T181655
CREATED:20210405T175001Z
LAST-MODIFIED:20210405T175001Z
UID:4242-1761069600-1761069600@fmbcbiloxi.com
SUMMARY:Usher’s Ministry
DESCRIPTION:
URL:https://fmbcbiloxi.com/event/ushers-ministry-2025-10-21/
LOCATION:FMBC Fellowship Hall\, 658 Esters Boulevard Biloxi.\, Mississippi\, 39530\, United States
CATEGORIES:Ministry
ORGANIZER;CN="First Missionary Baptist Church":MAILTO:emaiil@fjchurch.com
END:VEVENT
BEGIN:VEVENT
DTSTART;TZID=America/New_York:20251028T180000
DTEND;TZID=America/New_York:20251028T180000
DTSTAMP:20260422T181655
CREATED:20210405T174910Z
LAST-MODIFIED:20210405T174910Z
UID:4259-1761674400-1761674400@fmbcbiloxi.com
SUMMARY:Married Couples Ministry
DESCRIPTION:
URL:https://fmbcbiloxi.com/event/married-couples-ministry-2025-10-28/
LOCATION:FMBC Fellowship Hall\, 658 Esters Boulevard Biloxi.\, Mississippi\, 39530\, United States
CATEGORIES:Ministry
ORGANIZER;CN="First Missionary Baptist Church":MAILTO:emaiil@fjchurch.com
END:VEVENT
BEGIN:VEVENT
DTSTART;TZID=America/New_York:20251104T180000
DTEND;TZID=America/New_York:20251104T180000
DTSTAMP:20260422T181655
CREATED:20210405T174800Z
LAST-MODIFIED:20210405T174800Z
UID:4249-1762279200-1762279200@fmbcbiloxi.com
SUMMARY:Julia Moore Women’s Ministry
DESCRIPTION:
URL:https://fmbcbiloxi.com/event/julia-moore-womens-ministry-2025-11-04/
LOCATION:FMBC Fellowship Hall\, 658 Esters Boulevard Biloxi.\, Mississippi\, 39530\, United States
CATEGORIES:Ministry
ORGANIZER;CN="First Missionary Baptist Church":MAILTO:emaiil@fjchurch.com
END:VEVENT
BEGIN:VEVENT
DTSTART;TZID=America/New_York:20251111T180000
DTEND;TZID=America/New_York:20251111T180000
DTSTAMP:20260422T181655
CREATED:20210405T174910Z
LAST-MODIFIED:20210405T174910Z
UID:4258-1762884000-1762884000@fmbcbiloxi.com
SUMMARY:Married Couples Ministry
DESCRIPTION:
URL:https://fmbcbiloxi.com/event/married-couples-ministry-2025-11-11/
LOCATION:FMBC Fellowship Hall\, 658 Esters Boulevard Biloxi.\, Mississippi\, 39530\, United States
CATEGORIES:Ministry
ORGANIZER;CN="First Missionary Baptist Church":MAILTO:emaiil@fjchurch.com
END:VEVENT
BEGIN:VEVENT
DTSTART;TZID=America/New_York:20251118T180000
DTEND;TZID=America/New_York:20251118T180000
DTSTAMP:20260422T181655
CREATED:20210405T175001Z
LAST-MODIFIED:20210405T175001Z
UID:4264-1763488800-1763488800@fmbcbiloxi.com
SUMMARY:Usher’s Ministry
DESCRIPTION:
URL:https://fmbcbiloxi.com/event/ushers-ministry-2025-11-18/
LOCATION:FMBC Fellowship Hall\, 658 Esters Boulevard Biloxi.\, Mississippi\, 39530\, United States
CATEGORIES:Ministry
ORGANIZER;CN="First Missionary Baptist Church":MAILTO:emaiil@fjchurch.com
END:VEVENT
BEGIN:VEVENT
DTSTART;TZID=America/New_York:20251125T180000
DTEND;TZID=America/New_York:20251125T180000
DTSTAMP:20260422T181655
CREATED:20210405T174910Z
LAST-MODIFIED:20210405T174910Z
UID:4288-1764093600-1764093600@fmbcbiloxi.com
SUMMARY:Married Couples Ministry
DESCRIPTION:
URL:https://fmbcbiloxi.com/event/married-couples-ministry-2025-11-25/
LOCATION:FMBC Fellowship Hall\, 658 Esters Boulevard Biloxi.\, Mississippi\, 39530\, United States
CATEGORIES:Ministry
ORGANIZER;CN="First Missionary Baptist Church":MAILTO:emaiil@fjchurch.com
END:VEVENT
BEGIN:VEVENT
DTSTART;TZID=America/New_York:20251202T180000
DTEND;TZID=America/New_York:20251202T180000
DTSTAMP:20260422T181655
CREATED:20210405T174800Z
LAST-MODIFIED:20210405T174800Z
UID:4283-1764698400-1764698400@fmbcbiloxi.com
SUMMARY:Julia Moore Women’s Ministry
DESCRIPTION:
URL:https://fmbcbiloxi.com/event/julia-moore-womens-ministry-2025-12-02/
LOCATION:FMBC Fellowship Hall\, 658 Esters Boulevard Biloxi.\, Mississippi\, 39530\, United States
CATEGORIES:Ministry
ORGANIZER;CN="First Missionary Baptist Church":MAILTO:emaiil@fjchurch.com
END:VEVENT
BEGIN:VEVENT
DTSTART;TZID=America/New_York:20251209T180000
DTEND;TZID=America/New_York:20251209T180000
DTSTAMP:20260422T181655
CREATED:20210405T174910Z
LAST-MODIFIED:20210405T174910Z
UID:4287-1765303200-1765303200@fmbcbiloxi.com
SUMMARY:Married Couples Ministry
DESCRIPTION:
URL:https://fmbcbiloxi.com/event/married-couples-ministry-2025-12-09/
LOCATION:FMBC Fellowship Hall\, 658 Esters Boulevard Biloxi.\, Mississippi\, 39530\, United States
CATEGORIES:Ministry
ORGANIZER;CN="First Missionary Baptist Church":MAILTO:emaiil@fjchurch.com
END:VEVENT
BEGIN:VEVENT
DTSTART;TZID=America/New_York:20251216T180000
DTEND;TZID=America/New_York:20251216T180000
DTSTAMP:20260422T181655
CREATED:20210405T175001Z
LAST-MODIFIED:20210405T175001Z
UID:4296-1765908000-1765908000@fmbcbiloxi.com
SUMMARY:Usher’s Ministry
DESCRIPTION:
URL:https://fmbcbiloxi.com/event/ushers-ministry-2025-12-16/
LOCATION:FMBC Fellowship Hall\, 658 Esters Boulevard Biloxi.\, Mississippi\, 39530\, United States
CATEGORIES:Ministry
ORGANIZER;CN="First Missionary Baptist Church":MAILTO:emaiil@fjchurch.com
END:VEVENT
BEGIN:VEVENT
DTSTART;TZID=America/New_York:20251223T180000
DTEND;TZID=America/New_York:20251223T180000
DTSTAMP:20260422T181655
CREATED:20210405T174910Z
LAST-MODIFIED:20210405T174910Z
UID:4318-1766512800-1766512800@fmbcbiloxi.com
SUMMARY:Married Couples Ministry
DESCRIPTION:
URL:https://fmbcbiloxi.com/event/married-couples-ministry-2025-12-23/
LOCATION:FMBC Fellowship Hall\, 658 Esters Boulevard Biloxi.\, Mississippi\, 39530\, United States
CATEGORIES:Ministry
ORGANIZER;CN="First Missionary Baptist Church":MAILTO:emaiil@fjchurch.com
END:VEVENT
BEGIN:VEVENT
DTSTART;TZID=America/New_York:20260106T180000
DTEND;TZID=America/New_York:20260106T180000
DTSTAMP:20260422T181655
CREATED:20210405T174800Z
LAST-MODIFIED:20210405T174800Z
UID:4309-1767722400-1767722400@fmbcbiloxi.com
SUMMARY:Julia Moore Women’s Ministry
DESCRIPTION:
URL:https://fmbcbiloxi.com/event/julia-moore-womens-ministry-2026-01-06/
LOCATION:FMBC Fellowship Hall\, 658 Esters Boulevard Biloxi.\, Mississippi\, 39530\, United States
CATEGORIES:Ministry
ORGANIZER;CN="First Missionary Baptist Church":MAILTO:emaiil@fjchurch.com
END:VEVENT
BEGIN:VEVENT
DTSTART;TZID=America/New_York:20260113T180000
DTEND;TZID=America/New_York:20260113T180000
DTSTAMP:20260422T181655
CREATED:20210405T174910Z
LAST-MODIFIED:20210405T174910Z
UID:4317-1768327200-1768327200@fmbcbiloxi.com
SUMMARY:Married Couples Ministry
DESCRIPTION:
URL:https://fmbcbiloxi.com/event/married-couples-ministry-2026-01-13/
LOCATION:FMBC Fellowship Hall\, 658 Esters Boulevard Biloxi.\, Mississippi\, 39530\, United States
CATEGORIES:Ministry
ORGANIZER;CN="First Missionary Baptist Church":MAILTO:emaiil@fjchurch.com
END:VEVENT
BEGIN:VEVENT
DTSTART;TZID=America/New_York:20260120T180000
DTEND;TZID=America/New_York:20260120T180000
DTSTAMP:20260422T181655
CREATED:20210405T175001Z
LAST-MODIFIED:20210405T175001Z
UID:4323-1768932000-1768932000@fmbcbiloxi.com
SUMMARY:Usher’s Ministry
DESCRIPTION:
URL:https://fmbcbiloxi.com/event/ushers-ministry-2026-01-20/
LOCATION:FMBC Fellowship Hall\, 658 Esters Boulevard Biloxi.\, Mississippi\, 39530\, United States
CATEGORIES:Ministry
ORGANIZER;CN="First Missionary Baptist Church":MAILTO:emaiil@fjchurch.com
END:VEVENT
BEGIN:VEVENT
DTSTART;TZID=America/New_York:20260127T180000
DTEND;TZID=America/New_York:20260127T180000
DTSTAMP:20260422T181655
CREATED:20210405T174910Z
LAST-MODIFIED:20210405T174910Z
UID:4337-1769536800-1769536800@fmbcbiloxi.com
SUMMARY:Married Couples Ministry
DESCRIPTION:
URL:https://fmbcbiloxi.com/event/married-couples-ministry-2026-01-27/
LOCATION:FMBC Fellowship Hall\, 658 Esters Boulevard Biloxi.\, Mississippi\, 39530\, United States
CATEGORIES:Ministry
ORGANIZER;CN="First Missionary Baptist Church":MAILTO:emaiil@fjchurch.com
END:VEVENT
BEGIN:VEVENT
DTSTART;TZID=America/New_York:20260203T180000
DTEND;TZID=America/New_York:20260203T180000
DTSTAMP:20260422T181655
CREATED:20210405T174800Z
LAST-MODIFIED:20210405T174800Z
UID:4331-1770141600-1770141600@fmbcbiloxi.com
SUMMARY:Julia Moore Women’s Ministry
DESCRIPTION:
URL:https://fmbcbiloxi.com/event/julia-moore-womens-ministry-2026-02-03/
LOCATION:FMBC Fellowship Hall\, 658 Esters Boulevard Biloxi.\, Mississippi\, 39530\, United States
CATEGORIES:Ministry
ORGANIZER;CN="First Missionary Baptist Church":MAILTO:emaiil@fjchurch.com
END:VEVENT
BEGIN:VEVENT
DTSTART;TZID=America/New_York:20260210T180000
DTEND;TZID=America/New_York:20260210T180000
DTSTAMP:20260422T181655
CREATED:20210405T174910Z
LAST-MODIFIED:20210405T174910Z
UID:4336-1770746400-1770746400@fmbcbiloxi.com
SUMMARY:Married Couples Ministry
DESCRIPTION:
URL:https://fmbcbiloxi.com/event/married-couples-ministry-2026-02-10/
LOCATION:FMBC Fellowship Hall\, 658 Esters Boulevard Biloxi.\, Mississippi\, 39530\, United States
CATEGORIES:Ministry
ORGANIZER;CN="First Missionary Baptist Church":MAILTO:emaiil@fjchurch.com
END:VEVENT
BEGIN:VEVENT
DTSTART;TZID=America/New_York:20260217T180000
DTEND;TZID=America/New_York:20260217T180000
DTSTAMP:20260422T181655
CREATED:20210405T175001Z
LAST-MODIFIED:20210405T175001Z
UID:4345-1771351200-1771351200@fmbcbiloxi.com
SUMMARY:Usher’s Ministry
DESCRIPTION:
URL:https://fmbcbiloxi.com/event/ushers-ministry-2026-02-17/
LOCATION:FMBC Fellowship Hall\, 658 Esters Boulevard Biloxi.\, Mississippi\, 39530\, United States
CATEGORIES:Ministry
ORGANIZER;CN="First Missionary Baptist Church":MAILTO:emaiil@fjchurch.com
END:VEVENT
BEGIN:VEVENT
DTSTART;TZID=America/New_York:20260224T180000
DTEND;TZID=America/New_York:20260224T180000
DTSTAMP:20260422T181655
CREATED:20210405T174910Z
LAST-MODIFIED:20210405T174910Z
UID:4359-1771956000-1771956000@fmbcbiloxi.com
SUMMARY:Married Couples Ministry
DESCRIPTION:
URL:https://fmbcbiloxi.com/event/married-couples-ministry-2026-02-24/
LOCATION:FMBC Fellowship Hall\, 658 Esters Boulevard Biloxi.\, Mississippi\, 39530\, United States
CATEGORIES:Ministry
ORGANIZER;CN="First Missionary Baptist Church":MAILTO:emaiil@fjchurch.com
END:VEVENT
END:VCALENDAR