BEGIN:VCALENDAR
VERSION:2.0
PRODID:-//First Missionary Baptist Church of Biloxi - ECPv6.15.20//NONSGML v1.0//EN
CALSCALE:GREGORIAN
METHOD:PUBLISH
X-WR-CALNAME:First Missionary Baptist Church of Biloxi
X-ORIGINAL-URL:https://fmbcbiloxi.com
X-WR-CALDESC:Events for First Missionary Baptist Church of Biloxi
REFRESH-INTERVAL;VALUE=DURATION:PT1H
X-Robots-Tag:noindex
X-PUBLISHED-TTL:PT1H
BEGIN:VTIMEZONE
TZID:America/New_York
BEGIN:DAYLIGHT
TZOFFSETFROM:-0500
TZOFFSETTO:-0400
TZNAME:EDT
DTSTART:20240310T070000
END:DAYLIGHT
BEGIN:STANDARD
TZOFFSETFROM:-0400
TZOFFSETTO:-0500
TZNAME:EST
DTSTART:20241103T060000
END:STANDARD
BEGIN:DAYLIGHT
TZOFFSETFROM:-0500
TZOFFSETTO:-0400
TZNAME:EDT
DTSTART:20250309T070000
END:DAYLIGHT
BEGIN:STANDARD
TZOFFSETFROM:-0400
TZOFFSETTO:-0500
TZNAME:EST
DTSTART:20251102T060000
END:STANDARD
BEGIN:DAYLIGHT
TZOFFSETFROM:-0500
TZOFFSETTO:-0400
TZNAME:EDT
DTSTART:20260308T070000
END:DAYLIGHT
BEGIN:STANDARD
TZOFFSETFROM:-0400
TZOFFSETTO:-0500
TZNAME:EST
DTSTART:20261101T060000
END:STANDARD
END:VTIMEZONE
BEGIN:VEVENT
DTSTART;TZID=America/New_York:20251014T180000
DTEND;TZID=America/New_York:20251014T180000
DTSTAMP:20260420T010317
CREATED:20210405T174910Z
LAST-MODIFIED:20210405T174910Z
UID:4232-1760464800-1760464800@fmbcbiloxi.com
SUMMARY:Married Couples Ministry
DESCRIPTION:
URL:https://fmbcbiloxi.com/event/married-couples-ministry-2025-10-14/
LOCATION:FMBC Fellowship Hall\, 658 Esters Boulevard Biloxi.\, Mississippi\, 39530\, United States
CATEGORIES:Ministry
ORGANIZER;CN="First Missionary Baptist Church":MAILTO:emaiil@fjchurch.com
END:VEVENT
BEGIN:VEVENT
DTSTART;TZID=America/New_York:20251007T180000
DTEND;TZID=America/New_York:20251007T180000
DTSTAMP:20260420T010317
CREATED:20210405T174800Z
LAST-MODIFIED:20210405T174800Z
UID:4217-1759860000-1759860000@fmbcbiloxi.com
SUMMARY:Julia Moore Women’s Ministry
DESCRIPTION:
URL:https://fmbcbiloxi.com/event/julia-moore-womens-ministry-2025-10-07/
LOCATION:FMBC Fellowship Hall\, 658 Esters Boulevard Biloxi.\, Mississippi\, 39530\, United States
CATEGORIES:Ministry
ORGANIZER;CN="First Missionary Baptist Church":MAILTO:emaiil@fjchurch.com
END:VEVENT
BEGIN:VEVENT
DTSTART;TZID=America/New_York:20250923T180000
DTEND;TZID=America/New_York:20250923T180000
DTSTAMP:20260420T010317
CREATED:20210405T174910Z
LAST-MODIFIED:20210405T174910Z
UID:4233-1758650400-1758650400@fmbcbiloxi.com
SUMMARY:Married Couples Ministry
DESCRIPTION:
URL:https://fmbcbiloxi.com/event/married-couples-ministry-2025-09-23/
LOCATION:FMBC Fellowship Hall\, 658 Esters Boulevard Biloxi.\, Mississippi\, 39530\, United States
CATEGORIES:Ministry
ORGANIZER;CN="First Missionary Baptist Church":MAILTO:emaiil@fjchurch.com
END:VEVENT
BEGIN:VEVENT
DTSTART;TZID=America/New_York:20250916T180000
DTEND;TZID=America/New_York:20250916T180000
DTSTAMP:20260420T010317
CREATED:20210405T175001Z
LAST-MODIFIED:20210405T175001Z
UID:4193-1758045600-1758045600@fmbcbiloxi.com
SUMMARY:Usher’s Ministry
DESCRIPTION:
URL:https://fmbcbiloxi.com/event/ushers-ministry-2025-09-16/
LOCATION:FMBC Fellowship Hall\, 658 Esters Boulevard Biloxi.\, Mississippi\, 39530\, United States
CATEGORIES:Ministry
ORGANIZER;CN="First Missionary Baptist Church":MAILTO:emaiil@fjchurch.com
END:VEVENT
BEGIN:VEVENT
DTSTART;TZID=America/New_York:20250909T180000
DTEND;TZID=America/New_York:20250909T180000
DTSTAMP:20260420T010317
CREATED:20210405T174910Z
LAST-MODIFIED:20210405T174910Z
UID:4184-1757440800-1757440800@fmbcbiloxi.com
SUMMARY:Married Couples Ministry
DESCRIPTION:
URL:https://fmbcbiloxi.com/event/married-couples-ministry-2025-09-09/
LOCATION:FMBC Fellowship Hall\, 658 Esters Boulevard Biloxi.\, Mississippi\, 39530\, United States
CATEGORIES:Ministry
ORGANIZER;CN="First Missionary Baptist Church":MAILTO:emaiil@fjchurch.com
END:VEVENT
BEGIN:VEVENT
DTSTART;TZID=America/New_York:20250902T180000
DTEND;TZID=America/New_York:20250902T180000
DTSTAMP:20260420T010317
CREATED:20210405T174800Z
LAST-MODIFIED:20210405T174800Z
UID:4180-1756836000-1756836000@fmbcbiloxi.com
SUMMARY:Julia Moore Women’s Ministry
DESCRIPTION:
URL:https://fmbcbiloxi.com/event/julia-moore-womens-ministry-2025-09-02/
LOCATION:FMBC Fellowship Hall\, 658 Esters Boulevard Biloxi.\, Mississippi\, 39530\, United States
CATEGORIES:Ministry
ORGANIZER;CN="First Missionary Baptist Church":MAILTO:emaiil@fjchurch.com
END:VEVENT
BEGIN:VEVENT
DTSTART;TZID=America/New_York:20250826T180000
DTEND;TZID=America/New_York:20250826T180000
DTSTAMP:20260420T010317
CREATED:20210405T174910Z
LAST-MODIFIED:20210405T174910Z
UID:4185-1756231200-1756231200@fmbcbiloxi.com
SUMMARY:Married Couples Ministry
DESCRIPTION:
URL:https://fmbcbiloxi.com/event/married-couples-ministry-2025-08-26/
LOCATION:FMBC Fellowship Hall\, 658 Esters Boulevard Biloxi.\, Mississippi\, 39530\, United States
CATEGORIES:Ministry
ORGANIZER;CN="First Missionary Baptist Church":MAILTO:emaiil@fjchurch.com
END:VEVENT
BEGIN:VEVENT
DTSTART;TZID=America/New_York:20250819T180000
DTEND;TZID=America/New_York:20250819T180000
DTSTAMP:20260420T010317
CREATED:20210405T175001Z
LAST-MODIFIED:20210405T175001Z
UID:4122-1755626400-1755626400@fmbcbiloxi.com
SUMMARY:Usher’s Ministry
DESCRIPTION:
URL:https://fmbcbiloxi.com/event/ushers-ministry-2025-08-19/
LOCATION:FMBC Fellowship Hall\, 658 Esters Boulevard Biloxi.\, Mississippi\, 39530\, United States
CATEGORIES:Ministry
ORGANIZER;CN="First Missionary Baptist Church":MAILTO:emaiil@fjchurch.com
END:VEVENT
BEGIN:VEVENT
DTSTART;TZID=America/New_York:20250812T180000
DTEND;TZID=America/New_York:20250812T180000
DTSTAMP:20260420T010317
CREATED:20210405T174910Z
LAST-MODIFIED:20210405T174910Z
UID:4117-1755021600-1755021600@fmbcbiloxi.com
SUMMARY:Married Couples Ministry
DESCRIPTION:
URL:https://fmbcbiloxi.com/event/married-couples-ministry-2025-08-12/
LOCATION:FMBC Fellowship Hall\, 658 Esters Boulevard Biloxi.\, Mississippi\, 39530\, United States
CATEGORIES:Ministry
ORGANIZER;CN="First Missionary Baptist Church":MAILTO:emaiil@fjchurch.com
END:VEVENT
BEGIN:VEVENT
DTSTART;TZID=America/New_York:20250805T180000
DTEND;TZID=America/New_York:20250805T180000
DTSTAMP:20260420T010317
CREATED:20210405T174800Z
LAST-MODIFIED:20210405T174800Z
UID:4109-1754416800-1754416800@fmbcbiloxi.com
SUMMARY:Julia Moore Women’s Ministry
DESCRIPTION:
URL:https://fmbcbiloxi.com/event/julia-moore-womens-ministry-2025-08-05/
LOCATION:FMBC Fellowship Hall\, 658 Esters Boulevard Biloxi.\, Mississippi\, 39530\, United States
CATEGORIES:Ministry
ORGANIZER;CN="First Missionary Baptist Church":MAILTO:emaiil@fjchurch.com
END:VEVENT
BEGIN:VEVENT
DTSTART;TZID=America/New_York:20250722T180000
DTEND;TZID=America/New_York:20250722T180000
DTSTAMP:20260420T010317
CREATED:20210405T174910Z
LAST-MODIFIED:20210405T174910Z
UID:4118-1753207200-1753207200@fmbcbiloxi.com
SUMMARY:Married Couples Ministry
DESCRIPTION:
URL:https://fmbcbiloxi.com/event/married-couples-ministry-2025-07-22/
LOCATION:FMBC Fellowship Hall\, 658 Esters Boulevard Biloxi.\, Mississippi\, 39530\, United States
CATEGORIES:Ministry
ORGANIZER;CN="First Missionary Baptist Church":MAILTO:emaiil@fjchurch.com
END:VEVENT
BEGIN:VEVENT
DTSTART;TZID=America/New_York:20250715T180000
DTEND;TZID=America/New_York:20250715T180000
DTSTAMP:20260420T010317
CREATED:20210405T175001Z
LAST-MODIFIED:20210405T175001Z
UID:4090-1752602400-1752602400@fmbcbiloxi.com
SUMMARY:Usher’s Ministry
DESCRIPTION:
URL:https://fmbcbiloxi.com/event/ushers-ministry-2025-07-15/
LOCATION:FMBC Fellowship Hall\, 658 Esters Boulevard Biloxi.\, Mississippi\, 39530\, United States
CATEGORIES:Ministry
ORGANIZER;CN="First Missionary Baptist Church":MAILTO:emaiil@fjchurch.com
END:VEVENT
BEGIN:VEVENT
DTSTART;TZID=America/New_York:20250708T180000
DTEND;TZID=America/New_York:20250708T180000
DTSTAMP:20260420T010317
CREATED:20210405T174910Z
LAST-MODIFIED:20210405T174910Z
UID:4081-1751997600-1751997600@fmbcbiloxi.com
SUMMARY:Married Couples Ministry
DESCRIPTION:
URL:https://fmbcbiloxi.com/event/married-couples-ministry-2025-07-08/
LOCATION:FMBC Fellowship Hall\, 658 Esters Boulevard Biloxi.\, Mississippi\, 39530\, United States
CATEGORIES:Ministry
ORGANIZER;CN="First Missionary Baptist Church":MAILTO:emaiil@fjchurch.com
END:VEVENT
BEGIN:VEVENT
DTSTART;TZID=America/New_York:20250701T180000
DTEND;TZID=America/New_York:20250701T180000
DTSTAMP:20260420T010317
CREATED:20210405T174800Z
LAST-MODIFIED:20210405T174800Z
UID:4069-1751392800-1751392800@fmbcbiloxi.com
SUMMARY:Julia Moore Women’s Ministry
DESCRIPTION:
URL:https://fmbcbiloxi.com/event/julia-moore-womens-ministry-2025-07-01/
LOCATION:FMBC Fellowship Hall\, 658 Esters Boulevard Biloxi.\, Mississippi\, 39530\, United States
CATEGORIES:Ministry
ORGANIZER;CN="First Missionary Baptist Church":MAILTO:emaiil@fjchurch.com
END:VEVENT
BEGIN:VEVENT
DTSTART;TZID=America/New_York:20250624T180000
DTEND;TZID=America/New_York:20250624T180000
DTSTAMP:20260420T010317
CREATED:20210405T174910Z
LAST-MODIFIED:20210405T174910Z
UID:4082-1750788000-1750788000@fmbcbiloxi.com
SUMMARY:Married Couples Ministry
DESCRIPTION:
URL:https://fmbcbiloxi.com/event/married-couples-ministry-2025-06-24/
LOCATION:FMBC Fellowship Hall\, 658 Esters Boulevard Biloxi.\, Mississippi\, 39530\, United States
CATEGORIES:Ministry
ORGANIZER;CN="First Missionary Baptist Church":MAILTO:emaiil@fjchurch.com
END:VEVENT
BEGIN:VEVENT
DTSTART;TZID=America/New_York:20250617T180000
DTEND;TZID=America/New_York:20250617T180000
DTSTAMP:20260420T010317
CREATED:20210405T175001Z
LAST-MODIFIED:20210405T175001Z
UID:4061-1750183200-1750183200@fmbcbiloxi.com
SUMMARY:Usher’s Ministry
DESCRIPTION:
URL:https://fmbcbiloxi.com/event/ushers-ministry-2025-06-17/
LOCATION:FMBC Fellowship Hall\, 658 Esters Boulevard Biloxi.\, Mississippi\, 39530\, United States
CATEGORIES:Ministry
ORGANIZER;CN="First Missionary Baptist Church":MAILTO:emaiil@fjchurch.com
END:VEVENT
BEGIN:VEVENT
DTSTART;TZID=America/New_York:20250610T180000
DTEND;TZID=America/New_York:20250610T180000
DTSTAMP:20260420T010317
CREATED:20210405T174910Z
LAST-MODIFIED:20210405T174910Z
UID:4052-1749578400-1749578400@fmbcbiloxi.com
SUMMARY:Married Couples Ministry
DESCRIPTION:
URL:https://fmbcbiloxi.com/event/married-couples-ministry-2025-06-10/
LOCATION:FMBC Fellowship Hall\, 658 Esters Boulevard Biloxi.\, Mississippi\, 39530\, United States
CATEGORIES:Ministry
ORGANIZER;CN="First Missionary Baptist Church":MAILTO:emaiil@fjchurch.com
END:VEVENT
BEGIN:VEVENT
DTSTART;TZID=America/New_York:20250603T180000
DTEND;TZID=America/New_York:20250603T180000
DTSTAMP:20260420T010317
CREATED:20210405T174800Z
LAST-MODIFIED:20210405T174800Z
UID:4043-1748973600-1748973600@fmbcbiloxi.com
SUMMARY:Julia Moore Women’s Ministry
DESCRIPTION:
URL:https://fmbcbiloxi.com/event/julia-moore-womens-ministry-2025-06-03/
LOCATION:FMBC Fellowship Hall\, 658 Esters Boulevard Biloxi.\, Mississippi\, 39530\, United States
CATEGORIES:Ministry
ORGANIZER;CN="First Missionary Baptist Church":MAILTO:emaiil@fjchurch.com
END:VEVENT
BEGIN:VEVENT
DTSTART;TZID=America/New_York:20250527T180000
DTEND;TZID=America/New_York:20250527T180000
DTSTAMP:20260420T010317
CREATED:20210405T174910Z
LAST-MODIFIED:20210405T174910Z
UID:4053-1748368800-1748368800@fmbcbiloxi.com
SUMMARY:Married Couples Ministry
DESCRIPTION:
URL:https://fmbcbiloxi.com/event/married-couples-ministry-2025-05-27/
LOCATION:FMBC Fellowship Hall\, 658 Esters Boulevard Biloxi.\, Mississippi\, 39530\, United States
CATEGORIES:Ministry
ORGANIZER;CN="First Missionary Baptist Church":MAILTO:emaiil@fjchurch.com
END:VEVENT
BEGIN:VEVENT
DTSTART;TZID=America/New_York:20250520T180000
DTEND;TZID=America/New_York:20250520T180000
DTSTAMP:20260420T010317
CREATED:20210405T175001Z
LAST-MODIFIED:20210405T175001Z
UID:4034-1747764000-1747764000@fmbcbiloxi.com
SUMMARY:Usher’s Ministry
DESCRIPTION:
URL:https://fmbcbiloxi.com/event/ushers-ministry-2025-05-20/
LOCATION:FMBC Fellowship Hall\, 658 Esters Boulevard Biloxi.\, Mississippi\, 39530\, United States
CATEGORIES:Ministry
ORGANIZER;CN="First Missionary Baptist Church":MAILTO:emaiil@fjchurch.com
END:VEVENT
BEGIN:VEVENT
DTSTART;TZID=America/New_York:20250513T180000
DTEND;TZID=America/New_York:20250513T180000
DTSTAMP:20260420T010317
CREATED:20210405T174910Z
LAST-MODIFIED:20210405T174910Z
UID:4028-1747159200-1747159200@fmbcbiloxi.com
SUMMARY:Married Couples Ministry
DESCRIPTION:
URL:https://fmbcbiloxi.com/event/married-couples-ministry-2025-05-13/
LOCATION:FMBC Fellowship Hall\, 658 Esters Boulevard Biloxi.\, Mississippi\, 39530\, United States
CATEGORIES:Ministry
ORGANIZER;CN="First Missionary Baptist Church":MAILTO:emaiil@fjchurch.com
END:VEVENT
BEGIN:VEVENT
DTSTART;TZID=America/New_York:20250506T180000
DTEND;TZID=America/New_York:20250506T180000
DTSTAMP:20260420T010317
CREATED:20210405T174800Z
LAST-MODIFIED:20210405T174800Z
UID:4020-1746554400-1746554400@fmbcbiloxi.com
SUMMARY:Julia Moore Women’s Ministry
DESCRIPTION:
URL:https://fmbcbiloxi.com/event/julia-moore-womens-ministry-2025-05-06/
LOCATION:FMBC Fellowship Hall\, 658 Esters Boulevard Biloxi.\, Mississippi\, 39530\, United States
CATEGORIES:Ministry
ORGANIZER;CN="First Missionary Baptist Church":MAILTO:emaiil@fjchurch.com
END:VEVENT
BEGIN:VEVENT
DTSTART;TZID=America/New_York:20250422T180000
DTEND;TZID=America/New_York:20250422T180000
DTSTAMP:20260420T010317
CREATED:20210405T174910Z
LAST-MODIFIED:20210405T174910Z
UID:4029-1745344800-1745344800@fmbcbiloxi.com
SUMMARY:Married Couples Ministry
DESCRIPTION:
URL:https://fmbcbiloxi.com/event/married-couples-ministry-2025-04-22/
LOCATION:FMBC Fellowship Hall\, 658 Esters Boulevard Biloxi.\, Mississippi\, 39530\, United States
CATEGORIES:Ministry
ORGANIZER;CN="First Missionary Baptist Church":MAILTO:emaiil@fjchurch.com
END:VEVENT
BEGIN:VEVENT
DTSTART;TZID=America/New_York:20250415T180000
DTEND;TZID=America/New_York:20250415T180000
DTSTAMP:20260420T010317
CREATED:20210405T175001Z
LAST-MODIFIED:20210405T175001Z
UID:4002-1744740000-1744740000@fmbcbiloxi.com
SUMMARY:Usher’s Ministry
DESCRIPTION:
URL:https://fmbcbiloxi.com/event/ushers-ministry-2025-04-15/
LOCATION:FMBC Fellowship Hall\, 658 Esters Boulevard Biloxi.\, Mississippi\, 39530\, United States
CATEGORIES:Ministry
ORGANIZER;CN="First Missionary Baptist Church":MAILTO:emaiil@fjchurch.com
END:VEVENT
BEGIN:VEVENT
DTSTART;TZID=America/New_York:20250408T180000
DTEND;TZID=America/New_York:20250408T180000
DTSTAMP:20260420T010317
CREATED:20210405T174910Z
LAST-MODIFIED:20210405T174910Z
UID:3986-1744135200-1744135200@fmbcbiloxi.com
SUMMARY:Married Couples Ministry
DESCRIPTION:
URL:https://fmbcbiloxi.com/event/married-couples-ministry-2025-04-08/
LOCATION:FMBC Fellowship Hall\, 658 Esters Boulevard Biloxi.\, Mississippi\, 39530\, United States
CATEGORIES:Ministry
ORGANIZER;CN="First Missionary Baptist Church":MAILTO:emaiil@fjchurch.com
END:VEVENT
BEGIN:VEVENT
DTSTART;TZID=America/New_York:20250401T180000
DTEND;TZID=America/New_York:20250401T180000
DTSTAMP:20260420T010317
CREATED:20210405T174800Z
LAST-MODIFIED:20210405T174800Z
UID:3982-1743530400-1743530400@fmbcbiloxi.com
SUMMARY:Julia Moore Women’s Ministry
DESCRIPTION:
URL:https://fmbcbiloxi.com/event/julia-moore-womens-ministry-2025-04-01/
LOCATION:FMBC Fellowship Hall\, 658 Esters Boulevard Biloxi.\, Mississippi\, 39530\, United States
CATEGORIES:Ministry
ORGANIZER;CN="First Missionary Baptist Church":MAILTO:emaiil@fjchurch.com
END:VEVENT
BEGIN:VEVENT
DTSTART;TZID=America/New_York:20250325T180000
DTEND;TZID=America/New_York:20250325T180000
DTSTAMP:20260420T010317
CREATED:20210405T174910Z
LAST-MODIFIED:20210405T174910Z
UID:3987-1742925600-1742925600@fmbcbiloxi.com
SUMMARY:Married Couples Ministry
DESCRIPTION:
URL:https://fmbcbiloxi.com/event/married-couples-ministry-2025-03-25/
LOCATION:FMBC Fellowship Hall\, 658 Esters Boulevard Biloxi.\, Mississippi\, 39530\, United States
CATEGORIES:Ministry
ORGANIZER;CN="First Missionary Baptist Church":MAILTO:emaiil@fjchurch.com
END:VEVENT
BEGIN:VEVENT
DTSTART;TZID=America/New_York:20250318T180000
DTEND;TZID=America/New_York:20250318T180000
DTSTAMP:20260420T010317
CREATED:20210405T175001Z
LAST-MODIFIED:20210405T175001Z
UID:3974-1742320800-1742320800@fmbcbiloxi.com
SUMMARY:Usher’s Ministry
DESCRIPTION:
URL:https://fmbcbiloxi.com/event/ushers-ministry-2025-03-18/
LOCATION:FMBC Fellowship Hall\, 658 Esters Boulevard Biloxi.\, Mississippi\, 39530\, United States
CATEGORIES:Ministry
ORGANIZER;CN="First Missionary Baptist Church":MAILTO:emaiil@fjchurch.com
END:VEVENT
BEGIN:VEVENT
DTSTART;TZID=America/New_York:20250311T180000
DTEND;TZID=America/New_York:20250311T180000
DTSTAMP:20260420T010317
CREATED:20210405T174910Z
LAST-MODIFIED:20210405T174910Z
UID:3968-1741716000-1741716000@fmbcbiloxi.com
SUMMARY:Married Couples Ministry
DESCRIPTION:
URL:https://fmbcbiloxi.com/event/married-couples-ministry-2025-03-11/
LOCATION:FMBC Fellowship Hall\, 658 Esters Boulevard Biloxi.\, Mississippi\, 39530\, United States
CATEGORIES:Ministry
ORGANIZER;CN="First Missionary Baptist Church":MAILTO:emaiil@fjchurch.com
END:VEVENT
BEGIN:VEVENT
DTSTART;TZID=America/New_York:20250304T180000
DTEND;TZID=America/New_York:20250304T180000
DTSTAMP:20260420T010317
CREATED:20210405T174800Z
LAST-MODIFIED:20210405T174800Z
UID:3937-1741111200-1741111200@fmbcbiloxi.com
SUMMARY:Julia Moore Women’s Ministry
DESCRIPTION:
URL:https://fmbcbiloxi.com/event/julia-moore-womens-ministry-2025-03-04/
LOCATION:FMBC Fellowship Hall\, 658 Esters Boulevard Biloxi.\, Mississippi\, 39530\, United States
CATEGORIES:Ministry
ORGANIZER;CN="First Missionary Baptist Church":MAILTO:emaiil@fjchurch.com
END:VEVENT
END:VCALENDAR