BEGIN:VCALENDAR
VERSION:2.0
PRODID:-//First Missionary Baptist Church of Biloxi - ECPv6.15.20//NONSGML v1.0//EN
CALSCALE:GREGORIAN
METHOD:PUBLISH
X-ORIGINAL-URL:https://fmbcbiloxi.com
X-WR-CALDESC:Events for First Missionary Baptist Church of Biloxi
REFRESH-INTERVAL;VALUE=DURATION:PT1H
X-Robots-Tag:noindex
X-PUBLISHED-TTL:PT1H
BEGIN:VTIMEZONE
TZID:America/New_York
BEGIN:DAYLIGHT
TZOFFSETFROM:-0500
TZOFFSETTO:-0400
TZNAME:EDT
DTSTART:20220313T070000
END:DAYLIGHT
BEGIN:STANDARD
TZOFFSETFROM:-0400
TZOFFSETTO:-0500
TZNAME:EST
DTSTART:20221106T060000
END:STANDARD
BEGIN:DAYLIGHT
TZOFFSETFROM:-0500
TZOFFSETTO:-0400
TZNAME:EDT
DTSTART:20230312T070000
END:DAYLIGHT
BEGIN:STANDARD
TZOFFSETFROM:-0400
TZOFFSETTO:-0500
TZNAME:EST
DTSTART:20231105T060000
END:STANDARD
BEGIN:DAYLIGHT
TZOFFSETFROM:-0500
TZOFFSETTO:-0400
TZNAME:EDT
DTSTART:20240310T070000
END:DAYLIGHT
BEGIN:STANDARD
TZOFFSETFROM:-0400
TZOFFSETTO:-0500
TZNAME:EST
DTSTART:20241103T060000
END:STANDARD
BEGIN:DAYLIGHT
TZOFFSETFROM:-0500
TZOFFSETTO:-0400
TZNAME:EDT
DTSTART:20250309T070000
END:DAYLIGHT
BEGIN:STANDARD
TZOFFSETFROM:-0400
TZOFFSETTO:-0500
TZNAME:EST
DTSTART:20251102T060000
END:STANDARD
END:VTIMEZONE
BEGIN:VEVENT
DTSTART;TZID=America/New_York:20240416T180000
DTEND;TZID=America/New_York:20240416T180000
DTSTAMP:20260422T072940
CREATED:20210405T175001Z
LAST-MODIFIED:20210405T175001Z
UID:3276-1713290400-1713290400@fmbcbiloxi.com
SUMMARY:Usher’s Ministry
DESCRIPTION:
URL:https://fmbcbiloxi.com/event/ushers-ministry-2024-04-16/
LOCATION:FMBC Fellowship Hall\, 658 Esters Boulevard Biloxi.\, Mississippi\, 39530\, United States
CATEGORIES:Ministry
ORGANIZER;CN="First Missionary Baptist Church":MAILTO:emaiil@fjchurch.com
END:VEVENT
BEGIN:VEVENT
DTSTART;TZID=America/New_York:20240409T180000
DTEND;TZID=America/New_York:20240409T180000
DTSTAMP:20260422T072940
CREATED:20210405T174910Z
LAST-MODIFIED:20210405T174910Z
UID:3226-1712685600-1712685600@fmbcbiloxi.com
SUMMARY:Married Couples Ministry
DESCRIPTION:
URL:https://fmbcbiloxi.com/event/married-couples-ministry-2024-04-09/
LOCATION:FMBC Fellowship Hall\, 658 Esters Boulevard Biloxi.\, Mississippi\, 39530\, United States
CATEGORIES:Ministry
ORGANIZER;CN="First Missionary Baptist Church":MAILTO:emaiil@fjchurch.com
END:VEVENT
BEGIN:VEVENT
DTSTART;TZID=America/New_York:20240402T180000
DTEND;TZID=America/New_York:20240402T180000
DTSTAMP:20260422T072940
CREATED:20210405T174800Z
LAST-MODIFIED:20210405T174800Z
UID:3196-1712080800-1712080800@fmbcbiloxi.com
SUMMARY:Julia Moore Women’s Ministry
DESCRIPTION:
URL:https://fmbcbiloxi.com/event/julia-moore-womens-ministry-2024-04-02/
LOCATION:FMBC Fellowship Hall\, 658 Esters Boulevard Biloxi.\, Mississippi\, 39530\, United States
CATEGORIES:Ministry
ORGANIZER;CN="First Missionary Baptist Church":MAILTO:emaiil@fjchurch.com
END:VEVENT
BEGIN:VEVENT
DTSTART;TZID=America/New_York:20240326T180000
DTEND;TZID=America/New_York:20240326T180000
DTSTAMP:20260422T072940
CREATED:20210405T174910Z
LAST-MODIFIED:20210405T174910Z
UID:3227-1711476000-1711476000@fmbcbiloxi.com
SUMMARY:Married Couples Ministry
DESCRIPTION:
URL:https://fmbcbiloxi.com/event/married-couples-ministry-2024-03-26/
LOCATION:FMBC Fellowship Hall\, 658 Esters Boulevard Biloxi.\, Mississippi\, 39530\, United States
CATEGORIES:Ministry
ORGANIZER;CN="First Missionary Baptist Church":MAILTO:emaiil@fjchurch.com
END:VEVENT
BEGIN:VEVENT
DTSTART;TZID=America/New_York:20240319T180000
DTEND;TZID=America/New_York:20240319T180000
DTSTAMP:20260422T072940
CREATED:20210405T175001Z
LAST-MODIFIED:20210405T175001Z
UID:3164-1710871200-1710871200@fmbcbiloxi.com
SUMMARY:Usher’s Ministry
DESCRIPTION:
URL:https://fmbcbiloxi.com/event/ushers-ministry-2024-03-19/
LOCATION:FMBC Fellowship Hall\, 658 Esters Boulevard Biloxi.\, Mississippi\, 39530\, United States
CATEGORIES:Ministry
ORGANIZER;CN="First Missionary Baptist Church":MAILTO:emaiil@fjchurch.com
END:VEVENT
BEGIN:VEVENT
DTSTART;TZID=America/New_York:20240312T180000
DTEND;TZID=America/New_York:20240312T180000
DTSTAMP:20260422T072940
CREATED:20210405T174910Z
LAST-MODIFIED:20210405T174910Z
UID:3127-1710266400-1710266400@fmbcbiloxi.com
SUMMARY:Married Couples Ministry
DESCRIPTION:
URL:https://fmbcbiloxi.com/event/married-couples-ministry-2024-03-12/
LOCATION:FMBC Fellowship Hall\, 658 Esters Boulevard Biloxi.\, Mississippi\, 39530\, United States
CATEGORIES:Ministry
ORGANIZER;CN="First Missionary Baptist Church":MAILTO:emaiil@fjchurch.com
END:VEVENT
BEGIN:VEVENT
DTSTART;TZID=America/New_York:20240305T180000
DTEND;TZID=America/New_York:20240305T180000
DTSTAMP:20260422T072940
CREATED:20210405T174800Z
LAST-MODIFIED:20210405T174800Z
UID:3096-1709661600-1709661600@fmbcbiloxi.com
SUMMARY:Julia Moore Women’s Ministry
DESCRIPTION:
URL:https://fmbcbiloxi.com/event/julia-moore-womens-ministry-2024-03-05/
LOCATION:FMBC Fellowship Hall\, 658 Esters Boulevard Biloxi.\, Mississippi\, 39530\, United States
CATEGORIES:Ministry
ORGANIZER;CN="First Missionary Baptist Church":MAILTO:emaiil@fjchurch.com
END:VEVENT
BEGIN:VEVENT
DTSTART;TZID=America/New_York:20240227T180000
DTEND;TZID=America/New_York:20240227T180000
DTSTAMP:20260422T072940
CREATED:20210405T174910Z
LAST-MODIFIED:20210405T174910Z
UID:3128-1709056800-1709056800@fmbcbiloxi.com
SUMMARY:Married Couples Ministry
DESCRIPTION:
URL:https://fmbcbiloxi.com/event/married-couples-ministry-2024-02-27/
LOCATION:FMBC Fellowship Hall\, 658 Esters Boulevard Biloxi.\, Mississippi\, 39530\, United States
CATEGORIES:Ministry
ORGANIZER;CN="First Missionary Baptist Church":MAILTO:emaiil@fjchurch.com
END:VEVENT
BEGIN:VEVENT
DTSTART;TZID=America/New_York:20240220T180000
DTEND;TZID=America/New_York:20240220T180000
DTSTAMP:20260422T072940
CREATED:20210405T175001Z
LAST-MODIFIED:20210405T175001Z
UID:3014-1708452000-1708452000@fmbcbiloxi.com
SUMMARY:Usher’s Ministry
DESCRIPTION:
URL:https://fmbcbiloxi.com/event/ushers-ministry-2024-02-20/
LOCATION:FMBC Fellowship Hall\, 658 Esters Boulevard Biloxi.\, Mississippi\, 39530\, United States
CATEGORIES:Ministry
ORGANIZER;CN="First Missionary Baptist Church":MAILTO:emaiil@fjchurch.com
END:VEVENT
BEGIN:VEVENT
DTSTART;TZID=America/New_York:20240213T180000
DTEND;TZID=America/New_York:20240213T180000
DTSTAMP:20260422T072940
CREATED:20210405T174910Z
LAST-MODIFIED:20210405T174910Z
UID:2961-1707847200-1707847200@fmbcbiloxi.com
SUMMARY:Married Couples Ministry
DESCRIPTION:
URL:https://fmbcbiloxi.com/event/married-couples-ministry-2024-02-13/
LOCATION:FMBC Fellowship Hall\, 658 Esters Boulevard Biloxi.\, Mississippi\, 39530\, United States
CATEGORIES:Ministry
ORGANIZER;CN="First Missionary Baptist Church":MAILTO:emaiil@fjchurch.com
END:VEVENT
BEGIN:VEVENT
DTSTART;TZID=America/New_York:20240206T180000
DTEND;TZID=America/New_York:20240206T180000
DTSTAMP:20260422T072940
CREATED:20210405T174800Z
LAST-MODIFIED:20210405T174800Z
UID:2937-1707242400-1707242400@fmbcbiloxi.com
SUMMARY:Julia Moore Women’s Ministry
DESCRIPTION:
URL:https://fmbcbiloxi.com/event/julia-moore-womens-ministry-2024-02-06/
LOCATION:FMBC Fellowship Hall\, 658 Esters Boulevard Biloxi.\, Mississippi\, 39530\, United States
CATEGORIES:Ministry
ORGANIZER;CN="First Missionary Baptist Church":MAILTO:emaiil@fjchurch.com
END:VEVENT
BEGIN:VEVENT
DTSTART;TZID=America/New_York:20240123T180000
DTEND;TZID=America/New_York:20240123T180000
DTSTAMP:20260422T072940
CREATED:20210405T174910Z
LAST-MODIFIED:20210405T174910Z
UID:2962-1706032800-1706032800@fmbcbiloxi.com
SUMMARY:Married Couples Ministry
DESCRIPTION:
URL:https://fmbcbiloxi.com/event/married-couples-ministry-2024-01-23/
LOCATION:FMBC Fellowship Hall\, 658 Esters Boulevard Biloxi.\, Mississippi\, 39530\, United States
CATEGORIES:Ministry
ORGANIZER;CN="First Missionary Baptist Church":MAILTO:emaiil@fjchurch.com
END:VEVENT
BEGIN:VEVENT
DTSTART;TZID=America/New_York:20240116T180000
DTEND;TZID=America/New_York:20240116T180000
DTSTAMP:20260422T072940
CREATED:20210405T175001Z
LAST-MODIFIED:20210405T175001Z
UID:2860-1705428000-1705428000@fmbcbiloxi.com
SUMMARY:Usher’s Ministry
DESCRIPTION:
URL:https://fmbcbiloxi.com/event/ushers-ministry-2024-01-16/
LOCATION:FMBC Fellowship Hall\, 658 Esters Boulevard Biloxi.\, Mississippi\, 39530\, United States
CATEGORIES:Ministry
ORGANIZER;CN="First Missionary Baptist Church":MAILTO:emaiil@fjchurch.com
END:VEVENT
BEGIN:VEVENT
DTSTART;TZID=America/New_York:20240109T180000
DTEND;TZID=America/New_York:20240109T180000
DTSTAMP:20260422T072940
CREATED:20210405T174910Z
LAST-MODIFIED:20210405T174910Z
UID:2810-1704823200-1704823200@fmbcbiloxi.com
SUMMARY:Married Couples Ministry
DESCRIPTION:
URL:https://fmbcbiloxi.com/event/married-couples-ministry-2024-01-09/
LOCATION:FMBC Fellowship Hall\, 658 Esters Boulevard Biloxi.\, Mississippi\, 39530\, United States
CATEGORIES:Ministry
ORGANIZER;CN="First Missionary Baptist Church":MAILTO:emaiil@fjchurch.com
END:VEVENT
BEGIN:VEVENT
DTSTART;TZID=America/New_York:20240102T180000
DTEND;TZID=America/New_York:20240102T180000
DTSTAMP:20260422T072940
CREATED:20210405T174800Z
LAST-MODIFIED:20210405T174800Z
UID:2809-1704218400-1704218400@fmbcbiloxi.com
SUMMARY:Julia Moore Women’s Ministry
DESCRIPTION:
URL:https://fmbcbiloxi.com/event/julia-moore-womens-ministry-2024-01-02/
LOCATION:FMBC Fellowship Hall\, 658 Esters Boulevard Biloxi.\, Mississippi\, 39530\, United States
CATEGORIES:Ministry
ORGANIZER;CN="First Missionary Baptist Church":MAILTO:emaiil@fjchurch.com
END:VEVENT
BEGIN:VEVENT
DTSTART;TZID=America/New_York:20231226T180000
DTEND;TZID=America/New_York:20231226T180000
DTSTAMP:20260422T072940
CREATED:20210405T174910Z
LAST-MODIFIED:20210405T174910Z
UID:2811-1703613600-1703613600@fmbcbiloxi.com
SUMMARY:Married Couples Ministry
DESCRIPTION:
URL:https://fmbcbiloxi.com/event/married-couples-ministry-2023-12-26/
LOCATION:FMBC Fellowship Hall\, 658 Esters Boulevard Biloxi.\, Mississippi\, 39530\, United States
CATEGORIES:Ministry
ORGANIZER;CN="First Missionary Baptist Church":MAILTO:emaiil@fjchurch.com
END:VEVENT
BEGIN:VEVENT
DTSTART;TZID=America/New_York:20231219T180000
DTEND;TZID=America/New_York:20231219T180000
DTSTAMP:20260422T072940
CREATED:20210405T175001Z
LAST-MODIFIED:20210405T175001Z
UID:2711-1703008800-1703008800@fmbcbiloxi.com
SUMMARY:Usher’s Ministry
DESCRIPTION:
URL:https://fmbcbiloxi.com/event/ushers-ministry-2023-12-19/
LOCATION:FMBC Fellowship Hall\, 658 Esters Boulevard Biloxi.\, Mississippi\, 39530\, United States
CATEGORIES:Ministry
ORGANIZER;CN="First Missionary Baptist Church":MAILTO:emaiil@fjchurch.com
END:VEVENT
BEGIN:VEVENT
DTSTART;TZID=America/New_York:20231212T180000
DTEND;TZID=America/New_York:20231212T180000
DTSTAMP:20260422T072940
CREATED:20210405T174910Z
LAST-MODIFIED:20210405T174910Z
UID:2646-1702404000-1702404000@fmbcbiloxi.com
SUMMARY:Married Couples Ministry
DESCRIPTION:
URL:https://fmbcbiloxi.com/event/married-couples-ministry-2023-12-12/
LOCATION:FMBC Fellowship Hall\, 658 Esters Boulevard Biloxi.\, Mississippi\, 39530\, United States
CATEGORIES:Ministry
ORGANIZER;CN="First Missionary Baptist Church":MAILTO:emaiil@fjchurch.com
END:VEVENT
BEGIN:VEVENT
DTSTART;TZID=America/New_York:20231205T180000
DTEND;TZID=America/New_York:20231205T180000
DTSTAMP:20260422T072940
CREATED:20210405T174800Z
LAST-MODIFIED:20210405T174800Z
UID:2455-1701799200-1701799200@fmbcbiloxi.com
SUMMARY:Julia Moore Women’s Ministry
DESCRIPTION:
URL:https://fmbcbiloxi.com/event/julia-moore-womens-ministry-2023-12-05/
LOCATION:FMBC Fellowship Hall\, 658 Esters Boulevard Biloxi.\, Mississippi\, 39530\, United States
CATEGORIES:Ministry
ORGANIZER;CN="First Missionary Baptist Church":MAILTO:emaiil@fjchurch.com
END:VEVENT
BEGIN:VEVENT
DTSTART;TZID=America/New_York:20231128T180000
DTEND;TZID=America/New_York:20231128T180000
DTSTAMP:20260422T072940
CREATED:20210405T174910Z
LAST-MODIFIED:20210405T174910Z
UID:2647-1701194400-1701194400@fmbcbiloxi.com
SUMMARY:Married Couples Ministry
DESCRIPTION:
URL:https://fmbcbiloxi.com/event/married-couples-ministry-2023-11-28/
LOCATION:FMBC Fellowship Hall\, 658 Esters Boulevard Biloxi.\, Mississippi\, 39530\, United States
CATEGORIES:Ministry
ORGANIZER;CN="First Missionary Baptist Church":MAILTO:emaiil@fjchurch.com
END:VEVENT
BEGIN:VEVENT
DTSTART;TZID=America/New_York:20231121T180000
DTEND;TZID=America/New_York:20231121T180000
DTSTAMP:20260422T072940
CREATED:20210405T175001Z
LAST-MODIFIED:20210405T175001Z
UID:2352-1700589600-1700589600@fmbcbiloxi.com
SUMMARY:Usher’s Ministry
DESCRIPTION:
URL:https://fmbcbiloxi.com/event/ushers-ministry-2023-11-21/
LOCATION:FMBC Fellowship Hall\, 658 Esters Boulevard Biloxi.\, Mississippi\, 39530\, United States
CATEGORIES:Ministry
ORGANIZER;CN="First Missionary Baptist Church":MAILTO:emaiil@fjchurch.com
END:VEVENT
BEGIN:VEVENT
DTSTART;TZID=America/New_York:20231114T180000
DTEND;TZID=America/New_York:20231114T180000
DTSTAMP:20260422T072941
CREATED:20210405T174910Z
LAST-MODIFIED:20210405T174910Z
UID:2348-1699984800-1699984800@fmbcbiloxi.com
SUMMARY:Married Couples Ministry
DESCRIPTION:
URL:https://fmbcbiloxi.com/event/married-couples-ministry-2023-11-14/
LOCATION:FMBC Fellowship Hall\, 658 Esters Boulevard Biloxi.\, Mississippi\, 39530\, United States
CATEGORIES:Ministry
ORGANIZER;CN="First Missionary Baptist Church":MAILTO:emaiil@fjchurch.com
END:VEVENT
BEGIN:VEVENT
DTSTART;TZID=America/New_York:20231107T180000
DTEND;TZID=America/New_York:20231107T180000
DTSTAMP:20260422T072941
CREATED:20210405T174800Z
LAST-MODIFIED:20210405T174800Z
UID:2270-1699380000-1699380000@fmbcbiloxi.com
SUMMARY:Julia Moore Women’s Ministry
DESCRIPTION:
URL:https://fmbcbiloxi.com/event/julia-moore-womens-ministry-2023-11-07/
LOCATION:FMBC Fellowship Hall\, 658 Esters Boulevard Biloxi.\, Mississippi\, 39530\, United States
CATEGORIES:Ministry
ORGANIZER;CN="First Missionary Baptist Church":MAILTO:emaiil@fjchurch.com
END:VEVENT
BEGIN:VEVENT
DTSTART;TZID=America/New_York:20231024T180000
DTEND;TZID=America/New_York:20231024T180000
DTSTAMP:20260422T072941
CREATED:20210405T174910Z
LAST-MODIFIED:20210405T174910Z
UID:2349-1698170400-1698170400@fmbcbiloxi.com
SUMMARY:Married Couples Ministry
DESCRIPTION:
URL:https://fmbcbiloxi.com/event/married-couples-ministry-2023-10-24/
LOCATION:FMBC Fellowship Hall\, 658 Esters Boulevard Biloxi.\, Mississippi\, 39530\, United States
CATEGORIES:Ministry
ORGANIZER;CN="First Missionary Baptist Church":MAILTO:emaiil@fjchurch.com
END:VEVENT
BEGIN:VEVENT
DTSTART;TZID=America/New_York:20231017T180000
DTEND;TZID=America/New_York:20231017T180000
DTSTAMP:20260422T072941
CREATED:20210405T175001Z
LAST-MODIFIED:20210405T175001Z
UID:2160-1697565600-1697565600@fmbcbiloxi.com
SUMMARY:Usher’s Ministry
DESCRIPTION:
URL:https://fmbcbiloxi.com/event/ushers-ministry-2023-10-17/
LOCATION:FMBC Fellowship Hall\, 658 Esters Boulevard Biloxi.\, Mississippi\, 39530\, United States
CATEGORIES:Ministry
ORGANIZER;CN="First Missionary Baptist Church":MAILTO:emaiil@fjchurch.com
END:VEVENT
BEGIN:VEVENT
DTSTART;TZID=America/New_York:20231010T180000
DTEND;TZID=America/New_York:20231010T180000
DTSTAMP:20260422T072941
CREATED:20210405T174910Z
LAST-MODIFIED:20210405T174910Z
UID:1835-1696960800-1696960800@fmbcbiloxi.com
SUMMARY:Married Couples Ministry
DESCRIPTION:
URL:https://fmbcbiloxi.com/event/married-couples-ministry-2023-10-10/
LOCATION:FMBC Fellowship Hall\, 658 Esters Boulevard Biloxi.\, Mississippi\, 39530\, United States
CATEGORIES:Ministry
ORGANIZER;CN="First Missionary Baptist Church":MAILTO:emaiil@fjchurch.com
END:VEVENT
BEGIN:VEVENT
DTSTART;TZID=America/New_York:20231003T180000
DTEND;TZID=America/New_York:20231003T180000
DTSTAMP:20260422T072941
CREATED:20210405T174800Z
LAST-MODIFIED:20210405T174800Z
UID:1837-1696356000-1696356000@fmbcbiloxi.com
SUMMARY:Julia Moore Women’s Ministry
DESCRIPTION:
URL:https://fmbcbiloxi.com/event/julia-moore-womens-ministry-2023-10-03/
LOCATION:FMBC Fellowship Hall\, 658 Esters Boulevard Biloxi.\, Mississippi\, 39530\, United States
CATEGORIES:Ministry
ORGANIZER;CN="First Missionary Baptist Church":MAILTO:emaiil@fjchurch.com
END:VEVENT
BEGIN:VEVENT
DTSTART;TZID=America/New_York:20230926T180000
DTEND;TZID=America/New_York:20230926T180000
DTSTAMP:20260422T072941
CREATED:20210405T174910Z
LAST-MODIFIED:20210405T174910Z
UID:1836-1695751200-1695751200@fmbcbiloxi.com
SUMMARY:Married Couples Ministry
DESCRIPTION:
URL:https://fmbcbiloxi.com/event/married-couples-ministry-2023-09-26/
LOCATION:FMBC Fellowship Hall\, 658 Esters Boulevard Biloxi.\, Mississippi\, 39530\, United States
CATEGORIES:Ministry
ORGANIZER;CN="First Missionary Baptist Church":MAILTO:emaiil@fjchurch.com
END:VEVENT
BEGIN:VEVENT
DTSTART;TZID=America/New_York:20230919T180000
DTEND;TZID=America/New_York:20230919T180000
DTSTAMP:20260422T072941
CREATED:20210405T175001Z
LAST-MODIFIED:20210405T175001Z
UID:1662-1695146400-1695146400@fmbcbiloxi.com
SUMMARY:Usher’s Ministry
DESCRIPTION:
URL:https://fmbcbiloxi.com/event/ushers-ministry-2023-09-19/
LOCATION:FMBC Fellowship Hall\, 658 Esters Boulevard Biloxi.\, Mississippi\, 39530\, United States
CATEGORIES:Ministry
ORGANIZER;CN="First Missionary Baptist Church":MAILTO:emaiil@fjchurch.com
END:VEVENT
BEGIN:VEVENT
DTSTART;TZID=America/New_York:20230912T180000
DTEND;TZID=America/New_York:20230912T180000
DTSTAMP:20260422T072941
CREATED:20210405T174910Z
LAST-MODIFIED:20210405T174910Z
UID:1587-1694541600-1694541600@fmbcbiloxi.com
SUMMARY:Married Couples Ministry
DESCRIPTION:
URL:https://fmbcbiloxi.com/event/married-couples-ministry-2023-09-12/
LOCATION:FMBC Fellowship Hall\, 658 Esters Boulevard Biloxi.\, Mississippi\, 39530\, United States
CATEGORIES:Ministry
ORGANIZER;CN="First Missionary Baptist Church":MAILTO:emaiil@fjchurch.com
END:VEVENT
END:VCALENDAR