BEGIN:VCALENDAR
VERSION:2.0
PRODID:-//First Missionary Baptist Church of Biloxi - ECPv6.15.20//NONSGML v1.0//EN
CALSCALE:GREGORIAN
METHOD:PUBLISH
X-ORIGINAL-URL:https://fmbcbiloxi.com
X-WR-CALDESC:Events for First Missionary Baptist Church of Biloxi
REFRESH-INTERVAL;VALUE=DURATION:PT1H
X-Robots-Tag:noindex
X-PUBLISHED-TTL:PT1H
BEGIN:VTIMEZONE
TZID:America/New_York
BEGIN:DAYLIGHT
TZOFFSETFROM:-0500
TZOFFSETTO:-0400
TZNAME:EDT
DTSTART:20210314T070000
END:DAYLIGHT
BEGIN:STANDARD
TZOFFSETFROM:-0400
TZOFFSETTO:-0500
TZNAME:EST
DTSTART:20211107T060000
END:STANDARD
BEGIN:DAYLIGHT
TZOFFSETFROM:-0500
TZOFFSETTO:-0400
TZNAME:EDT
DTSTART:20220313T070000
END:DAYLIGHT
BEGIN:STANDARD
TZOFFSETFROM:-0400
TZOFFSETTO:-0500
TZNAME:EST
DTSTART:20221106T060000
END:STANDARD
BEGIN:DAYLIGHT
TZOFFSETFROM:-0500
TZOFFSETTO:-0400
TZNAME:EDT
DTSTART:20230312T070000
END:DAYLIGHT
BEGIN:STANDARD
TZOFFSETFROM:-0400
TZOFFSETTO:-0500
TZNAME:EST
DTSTART:20231105T060000
END:STANDARD
BEGIN:DAYLIGHT
TZOFFSETFROM:-0500
TZOFFSETTO:-0400
TZNAME:EDT
DTSTART:20240310T070000
END:DAYLIGHT
BEGIN:STANDARD
TZOFFSETFROM:-0400
TZOFFSETTO:-0500
TZNAME:EST
DTSTART:20241103T060000
END:STANDARD
BEGIN:DAYLIGHT
TZOFFSETFROM:-0500
TZOFFSETTO:-0400
TZNAME:EDT
DTSTART:20250309T070000
END:DAYLIGHT
BEGIN:STANDARD
TZOFFSETFROM:-0400
TZOFFSETTO:-0500
TZNAME:EST
DTSTART:20251102T060000
END:STANDARD
BEGIN:DAYLIGHT
TZOFFSETFROM:-0500
TZOFFSETTO:-0400
TZNAME:EDT
DTSTART:20260308T070000
END:DAYLIGHT
BEGIN:STANDARD
TZOFFSETFROM:-0400
TZOFFSETTO:-0500
TZNAME:EST
DTSTART:20261101T060000
END:STANDARD
END:VTIMEZONE
BEGIN:VEVENT
DTSTART;TZID=America/New_York:20250412T100000
DTEND;TZID=America/New_York:20250412T100000
DTSTAMP:20260419T233158
CREATED:20210405T175820Z
LAST-MODIFIED:20210405T175820Z
UID:3999-1744452000-1744452000@fmbcbiloxi.com
SUMMARY:Youth Choir Rehearsal
DESCRIPTION:
URL:https://fmbcbiloxi.com/event/youth-choir-rehearsal-2025-04-12/
LOCATION:First Missionary Baptist Church\, 658 Esters Blvd\, Biloxi\, MS 39530.\, Missouri\, 39530\, United States
CATEGORIES:Rehearsal
ORGANIZER;CN="First Missionary Baptist Church":MAILTO:emaiil@fjchurch.com
END:VEVENT
BEGIN:VEVENT
DTSTART;TZID=America/New_York:20250308T100000
DTEND;TZID=America/New_York:20250308T100000
DTSTAMP:20260419T233158
CREATED:20210405T175820Z
LAST-MODIFIED:20210405T175820Z
UID:3965-1741428000-1741428000@fmbcbiloxi.com
SUMMARY:Youth Choir Rehearsal
DESCRIPTION:
URL:https://fmbcbiloxi.com/event/youth-choir-rehearsal-2025-03-08/
LOCATION:First Missionary Baptist Church\, 658 Esters Blvd\, Biloxi\, MS 39530.\, Missouri\, 39530\, United States
CATEGORIES:Rehearsal
ORGANIZER;CN="First Missionary Baptist Church":MAILTO:emaiil@fjchurch.com
END:VEVENT
BEGIN:VEVENT
DTSTART;TZID=America/New_York:20250208T100000
DTEND;TZID=America/New_York:20250208T100000
DTSTAMP:20260419T233158
CREATED:20210405T175820Z
LAST-MODIFIED:20210405T175820Z
UID:3893-1739008800-1739008800@fmbcbiloxi.com
SUMMARY:Youth Choir Rehearsal
DESCRIPTION:
URL:https://fmbcbiloxi.com/event/youth-choir-rehearsal-2025-02-08/
LOCATION:First Missionary Baptist Church\, 658 Esters Blvd\, Biloxi\, MS 39530.\, Missouri\, 39530\, United States
CATEGORIES:Rehearsal
ORGANIZER;CN="First Missionary Baptist Church":MAILTO:emaiil@fjchurch.com
END:VEVENT
BEGIN:VEVENT
DTSTART;TZID=America/New_York:20250111T100000
DTEND;TZID=America/New_York:20250111T100000
DTSTAMP:20260419T233158
CREATED:20210405T175820Z
LAST-MODIFIED:20210405T175820Z
UID:3857-1736589600-1736589600@fmbcbiloxi.com
SUMMARY:Youth Choir Rehearsal
DESCRIPTION:
URL:https://fmbcbiloxi.com/event/youth-choir-rehearsal-2025-01-11/
LOCATION:First Missionary Baptist Church\, 658 Esters Blvd\, Biloxi\, MS 39530.\, Missouri\, 39530\, United States
CATEGORIES:Rehearsal
ORGANIZER;CN="First Missionary Baptist Church":MAILTO:emaiil@fjchurch.com
END:VEVENT
BEGIN:VEVENT
DTSTART;TZID=America/New_York:20241214T100000
DTEND;TZID=America/New_York:20241214T100000
DTSTAMP:20260419T233158
CREATED:20210405T175820Z
LAST-MODIFIED:20210405T175820Z
UID:3838-1734170400-1734170400@fmbcbiloxi.com
SUMMARY:Youth Choir Rehearsal
DESCRIPTION:
URL:https://fmbcbiloxi.com/event/youth-choir-rehearsal-2024-12-14/
LOCATION:First Missionary Baptist Church\, 658 Esters Blvd\, Biloxi\, MS 39530.\, Missouri\, 39530\, United States
CATEGORIES:Rehearsal
ORGANIZER;CN="First Missionary Baptist Church":MAILTO:emaiil@fjchurch.com
END:VEVENT
BEGIN:VEVENT
DTSTART;TZID=America/New_York:20241109T100000
DTEND;TZID=America/New_York:20241109T100000
DTSTAMP:20260419T233158
CREATED:20210405T175820Z
LAST-MODIFIED:20210405T175820Z
UID:3810-1731146400-1731146400@fmbcbiloxi.com
SUMMARY:Youth Choir Rehearsal
DESCRIPTION:
URL:https://fmbcbiloxi.com/event/youth-choir-rehearsal-2024-11-09/
LOCATION:First Missionary Baptist Church\, 658 Esters Blvd\, Biloxi\, MS 39530.\, Missouri\, 39530\, United States
CATEGORIES:Rehearsal
ORGANIZER;CN="First Missionary Baptist Church":MAILTO:emaiil@fjchurch.com
END:VEVENT
BEGIN:VEVENT
DTSTART;TZID=America/New_York:20241012T100000
DTEND;TZID=America/New_York:20241012T100000
DTSTAMP:20260419T233158
CREATED:20210405T175820Z
LAST-MODIFIED:20210405T175820Z
UID:3790-1728727200-1728727200@fmbcbiloxi.com
SUMMARY:Youth Choir Rehearsal
DESCRIPTION:
URL:https://fmbcbiloxi.com/event/youth-choir-rehearsal-2024-10-12/
LOCATION:First Missionary Baptist Church\, 658 Esters Blvd\, Biloxi\, MS 39530.\, Missouri\, 39530\, United States
CATEGORIES:Rehearsal
ORGANIZER;CN="First Missionary Baptist Church":MAILTO:emaiil@fjchurch.com
END:VEVENT
BEGIN:VEVENT
DTSTART;TZID=America/New_York:20240914T100000
DTEND;TZID=America/New_York:20240914T100000
DTSTAMP:20260419T233158
CREATED:20210405T175820Z
LAST-MODIFIED:20210405T175820Z
UID:3721-1726308000-1726308000@fmbcbiloxi.com
SUMMARY:Youth Choir Rehearsal
DESCRIPTION:
URL:https://fmbcbiloxi.com/event/youth-choir-rehearsal-2024-09-14/
LOCATION:First Missionary Baptist Church\, 658 Esters Blvd\, Biloxi\, MS 39530.\, Missouri\, 39530\, United States
CATEGORIES:Rehearsal
ORGANIZER;CN="First Missionary Baptist Church":MAILTO:emaiil@fjchurch.com
END:VEVENT
BEGIN:VEVENT
DTSTART;TZID=America/New_York:20240810T100000
DTEND;TZID=America/New_York:20240810T100000
DTSTAMP:20260419T233158
CREATED:20210405T175820Z
LAST-MODIFIED:20210405T175820Z
UID:3607-1723284000-1723284000@fmbcbiloxi.com
SUMMARY:Youth Choir Rehearsal
DESCRIPTION:
URL:https://fmbcbiloxi.com/event/youth-choir-rehearsal-2024-08-10/
LOCATION:First Missionary Baptist Church\, 658 Esters Blvd\, Biloxi\, MS 39530.\, Missouri\, 39530\, United States
CATEGORIES:Rehearsal
ORGANIZER;CN="First Missionary Baptist Church":MAILTO:emaiil@fjchurch.com
END:VEVENT
BEGIN:VEVENT
DTSTART;TZID=America/New_York:20240713T100000
DTEND;TZID=America/New_York:20240713T100000
DTSTAMP:20260419T233158
CREATED:20210405T175820Z
LAST-MODIFIED:20210405T175820Z
UID:3554-1720864800-1720864800@fmbcbiloxi.com
SUMMARY:Youth Choir Rehearsal
DESCRIPTION:
URL:https://fmbcbiloxi.com/event/youth-choir-rehearsal-2024-07-13/
LOCATION:First Missionary Baptist Church\, 658 Esters Blvd\, Biloxi\, MS 39530.\, Missouri\, 39530\, United States
CATEGORIES:Rehearsal
ORGANIZER;CN="First Missionary Baptist Church":MAILTO:emaiil@fjchurch.com
END:VEVENT
BEGIN:VEVENT
DTSTART;TZID=America/New_York:20240608T100000
DTEND;TZID=America/New_York:20240608T100000
DTSTAMP:20260419T233158
CREATED:20210405T175820Z
LAST-MODIFIED:20210405T175820Z
UID:3478-1717840800-1717840800@fmbcbiloxi.com
SUMMARY:Youth Choir Rehearsal
DESCRIPTION:
URL:https://fmbcbiloxi.com/event/youth-choir-rehearsal-2024-06-08/
LOCATION:First Missionary Baptist Church\, 658 Esters Blvd\, Biloxi\, MS 39530.\, Missouri\, 39530\, United States
CATEGORIES:Rehearsal
ORGANIZER;CN="First Missionary Baptist Church":MAILTO:emaiil@fjchurch.com
END:VEVENT
BEGIN:VEVENT
DTSTART;TZID=America/New_York:20240511T100000
DTEND;TZID=America/New_York:20240511T100000
DTSTAMP:20260419T233158
CREATED:20210405T175820Z
LAST-MODIFIED:20210405T175820Z
UID:3352-1715421600-1715421600@fmbcbiloxi.com
SUMMARY:Youth Choir Rehearsal
DESCRIPTION:
URL:https://fmbcbiloxi.com/event/youth-choir-rehearsal-2024-05-11/
LOCATION:First Missionary Baptist Church\, 658 Esters Blvd\, Biloxi\, MS 39530.\, Missouri\, 39530\, United States
CATEGORIES:Rehearsal
ORGANIZER;CN="First Missionary Baptist Church":MAILTO:emaiil@fjchurch.com
END:VEVENT
BEGIN:VEVENT
DTSTART;TZID=America/New_York:20240413T100000
DTEND;TZID=America/New_York:20240413T100000
DTSTAMP:20260419T233158
CREATED:20210405T175820Z
LAST-MODIFIED:20210405T175820Z
UID:3242-1713002400-1713002400@fmbcbiloxi.com
SUMMARY:Youth Choir Rehearsal
DESCRIPTION:
URL:https://fmbcbiloxi.com/event/youth-choir-rehearsal-2024-04-13/
LOCATION:First Missionary Baptist Church\, 658 Esters Blvd\, Biloxi\, MS 39530.\, Missouri\, 39530\, United States
CATEGORIES:Rehearsal
ORGANIZER;CN="First Missionary Baptist Church":MAILTO:emaiil@fjchurch.com
END:VEVENT
BEGIN:VEVENT
DTSTART;TZID=America/New_York:20240309T100000
DTEND;TZID=America/New_York:20240309T100000
DTSTAMP:20260419T233158
CREATED:20210405T175820Z
LAST-MODIFIED:20210405T175820Z
UID:3099-1709978400-1709978400@fmbcbiloxi.com
SUMMARY:Youth Choir Rehearsal
DESCRIPTION:
URL:https://fmbcbiloxi.com/event/youth-choir-rehearsal-2024-03-09/
LOCATION:First Missionary Baptist Church\, 658 Esters Blvd\, Biloxi\, MS 39530.\, Missouri\, 39530\, United States
CATEGORIES:Rehearsal
ORGANIZER;CN="First Missionary Baptist Church":MAILTO:emaiil@fjchurch.com
END:VEVENT
BEGIN:VEVENT
DTSTART;TZID=America/New_York:20240210T100000
DTEND;TZID=America/New_York:20240210T100000
DTSTAMP:20260419T233158
CREATED:20210405T175820Z
LAST-MODIFIED:20210405T175820Z
UID:2955-1707559200-1707559200@fmbcbiloxi.com
SUMMARY:Youth Choir Rehearsal
DESCRIPTION:
URL:https://fmbcbiloxi.com/event/youth-choir-rehearsal-2024-02-10/
LOCATION:First Missionary Baptist Church\, 658 Esters Blvd\, Biloxi\, MS 39530.\, Missouri\, 39530\, United States
CATEGORIES:Rehearsal
ORGANIZER;CN="First Missionary Baptist Church":MAILTO:emaiil@fjchurch.com
END:VEVENT
BEGIN:VEVENT
DTSTART;TZID=America/New_York:20240113T100000
DTEND;TZID=America/New_York:20240113T100000
DTSTAMP:20260419T233158
CREATED:20210405T175820Z
LAST-MODIFIED:20210405T175820Z
UID:2858-1705140000-1705140000@fmbcbiloxi.com
SUMMARY:Youth Choir Rehearsal
DESCRIPTION:
URL:https://fmbcbiloxi.com/event/youth-choir-rehearsal-2024-01-13/
LOCATION:First Missionary Baptist Church\, 658 Esters Blvd\, Biloxi\, MS 39530.\, Missouri\, 39530\, United States
CATEGORIES:Rehearsal
ORGANIZER;CN="First Missionary Baptist Church":MAILTO:emaiil@fjchurch.com
END:VEVENT
BEGIN:VEVENT
DTSTART;TZID=America/New_York:20231209T100000
DTEND;TZID=America/New_York:20231209T100000
DTSTAMP:20260419T233158
CREATED:20210405T175820Z
LAST-MODIFIED:20210405T175820Z
UID:2645-1702116000-1702116000@fmbcbiloxi.com
SUMMARY:Youth Choir Rehearsal
DESCRIPTION:
URL:https://fmbcbiloxi.com/event/youth-choir-rehearsal-2023-12-09/
LOCATION:First Missionary Baptist Church\, 658 Esters Blvd\, Biloxi\, MS 39530.\, Missouri\, 39530\, United States
CATEGORIES:Rehearsal
ORGANIZER;CN="First Missionary Baptist Church":MAILTO:emaiil@fjchurch.com
END:VEVENT
BEGIN:VEVENT
DTSTART;TZID=America/New_York:20231111T100000
DTEND;TZID=America/New_York:20231111T100000
DTSTAMP:20260419T233158
CREATED:20210405T175820Z
LAST-MODIFIED:20210405T175820Z
UID:2271-1699696800-1699696800@fmbcbiloxi.com
SUMMARY:Youth Choir Rehearsal
DESCRIPTION:
URL:https://fmbcbiloxi.com/event/youth-choir-rehearsal-2023-11-11/
LOCATION:First Missionary Baptist Church\, 658 Esters Blvd\, Biloxi\, MS 39530.\, Missouri\, 39530\, United States
CATEGORIES:Rehearsal
ORGANIZER;CN="First Missionary Baptist Church":MAILTO:emaiil@fjchurch.com
END:VEVENT
BEGIN:VEVENT
DTSTART;TZID=America/New_York:20231014T100000
DTEND;TZID=America/New_York:20231014T100000
DTSTAMP:20260419T233158
CREATED:20210405T175820Z
LAST-MODIFIED:20210405T175820Z
UID:2158-1697277600-1697277600@fmbcbiloxi.com
SUMMARY:Youth Choir Rehearsal
DESCRIPTION:
URL:https://fmbcbiloxi.com/event/youth-choir-rehearsal-2023-10-14/
LOCATION:First Missionary Baptist Church\, 658 Esters Blvd\, Biloxi\, MS 39530.\, Missouri\, 39530\, United States
CATEGORIES:Rehearsal
ORGANIZER;CN="First Missionary Baptist Church":MAILTO:emaiil@fjchurch.com
END:VEVENT
BEGIN:VEVENT
DTSTART;TZID=America/New_York:20230909T100000
DTEND;TZID=America/New_York:20230909T100000
DTSTAMP:20260419T233158
CREATED:20210405T175820Z
LAST-MODIFIED:20210405T175820Z
UID:1593-1694253600-1694253600@fmbcbiloxi.com
SUMMARY:Youth Choir Rehearsal
DESCRIPTION:
URL:https://fmbcbiloxi.com/event/youth-choir-rehearsal-2023-09-09/
LOCATION:First Missionary Baptist Church\, 658 Esters Blvd\, Biloxi\, MS 39530.\, Missouri\, 39530\, United States
CATEGORIES:Rehearsal
ORGANIZER;CN="First Missionary Baptist Church":MAILTO:emaiil@fjchurch.com
END:VEVENT
BEGIN:VEVENT
DTSTART;TZID=America/New_York:20230812T100000
DTEND;TZID=America/New_York:20230812T100000
DTSTAMP:20260419T233158
CREATED:20210405T175820Z
LAST-MODIFIED:20210405T175820Z
UID:1550-1691834400-1691834400@fmbcbiloxi.com
SUMMARY:Youth Choir Rehearsal
DESCRIPTION:
URL:https://fmbcbiloxi.com/event/youth-choir-rehearsal-2023-08-12/
LOCATION:First Missionary Baptist Church\, 658 Esters Blvd\, Biloxi\, MS 39530.\, Missouri\, 39530\, United States
CATEGORIES:Rehearsal
ORGANIZER;CN="First Missionary Baptist Church":MAILTO:emaiil@fjchurch.com
END:VEVENT
BEGIN:VEVENT
DTSTART;TZID=America/New_York:20230708T100000
DTEND;TZID=America/New_York:20230708T100000
DTSTAMP:20260419T233158
CREATED:20210405T175820Z
LAST-MODIFIED:20210405T175820Z
UID:1324-1688810400-1688810400@fmbcbiloxi.com
SUMMARY:Youth Choir Rehearsal
DESCRIPTION:
URL:https://fmbcbiloxi.com/event/youth-choir-rehearsal-2023-07-08/
LOCATION:First Missionary Baptist Church\, 658 Esters Blvd\, Biloxi\, MS 39530.\, Missouri\, 39530\, United States
CATEGORIES:Rehearsal
ORGANIZER;CN="First Missionary Baptist Church":MAILTO:emaiil@fjchurch.com
END:VEVENT
BEGIN:VEVENT
DTSTART;TZID=America/New_York:20230610T100000
DTEND;TZID=America/New_York:20230610T100000
DTSTAMP:20260419T233158
CREATED:20210405T175820Z
LAST-MODIFIED:20210405T175820Z
UID:1288-1686391200-1686391200@fmbcbiloxi.com
SUMMARY:Youth Choir Rehearsal
DESCRIPTION:
URL:https://fmbcbiloxi.com/event/youth-choir-rehearsal-2023-06-10/
LOCATION:First Missionary Baptist Church\, 658 Esters Blvd\, Biloxi\, MS 39530.\, Missouri\, 39530\, United States
CATEGORIES:Rehearsal
ORGANIZER;CN="First Missionary Baptist Church":MAILTO:emaiil@fjchurch.com
END:VEVENT
BEGIN:VEVENT
DTSTART;TZID=America/New_York:20230513T100000
DTEND;TZID=America/New_York:20230513T100000
DTSTAMP:20260419T233158
CREATED:20210405T175820Z
LAST-MODIFIED:20210405T175820Z
UID:1237-1683972000-1683972000@fmbcbiloxi.com
SUMMARY:Youth Choir Rehearsal
DESCRIPTION:
URL:https://fmbcbiloxi.com/event/youth-choir-rehearsal-2023-05-13/
LOCATION:First Missionary Baptist Church\, 658 Esters Blvd\, Biloxi\, MS 39530.\, Missouri\, 39530\, United States
CATEGORIES:Rehearsal
ORGANIZER;CN="First Missionary Baptist Church":MAILTO:emaiil@fjchurch.com
END:VEVENT
BEGIN:VEVENT
DTSTART;TZID=America/New_York:20230408T100000
DTEND;TZID=America/New_York:20230408T100000
DTSTAMP:20260419T233158
CREATED:20210405T175820Z
LAST-MODIFIED:20210405T175820Z
UID:1165-1680948000-1680948000@fmbcbiloxi.com
SUMMARY:Youth Choir Rehearsal
DESCRIPTION:
URL:https://fmbcbiloxi.com/event/youth-choir-rehearsal-2023-04-08/
LOCATION:First Missionary Baptist Church\, 658 Esters Blvd\, Biloxi\, MS 39530.\, Missouri\, 39530\, United States
CATEGORIES:Rehearsal
ORGANIZER;CN="First Missionary Baptist Church":MAILTO:emaiil@fjchurch.com
END:VEVENT
BEGIN:VEVENT
DTSTART;TZID=America/New_York:20230311T100000
DTEND;TZID=America/New_York:20230311T100000
DTSTAMP:20260419T233158
CREATED:20210405T175820Z
LAST-MODIFIED:20210405T175820Z
UID:1164-1678528800-1678528800@fmbcbiloxi.com
SUMMARY:Youth Choir Rehearsal
DESCRIPTION:
URL:https://fmbcbiloxi.com/event/youth-choir-rehearsal-2023-03-11/
LOCATION:First Missionary Baptist Church\, 658 Esters Blvd\, Biloxi\, MS 39530.\, Missouri\, 39530\, United States
CATEGORIES:Rehearsal
ORGANIZER;CN="First Missionary Baptist Church":MAILTO:emaiil@fjchurch.com
END:VEVENT
BEGIN:VEVENT
DTSTART;TZID=America/New_York:20230211T100000
DTEND;TZID=America/New_York:20230211T100000
DTSTAMP:20260419T233158
CREATED:20210405T175820Z
LAST-MODIFIED:20210405T175820Z
UID:1163-1676109600-1676109600@fmbcbiloxi.com
SUMMARY:Youth Choir Rehearsal
DESCRIPTION:
URL:https://fmbcbiloxi.com/event/youth-choir-rehearsal-2023-02-11/
LOCATION:First Missionary Baptist Church\, 658 Esters Blvd\, Biloxi\, MS 39530.\, Missouri\, 39530\, United States
CATEGORIES:Rehearsal
ORGANIZER;CN="First Missionary Baptist Church":MAILTO:emaiil@fjchurch.com
END:VEVENT
BEGIN:VEVENT
DTSTART;TZID=America/New_York:20230114T100000
DTEND;TZID=America/New_York:20230114T100000
DTSTAMP:20260419T233158
CREATED:20210405T175820Z
LAST-MODIFIED:20210405T175820Z
UID:1162-1673690400-1673690400@fmbcbiloxi.com
SUMMARY:Youth Choir Rehearsal
DESCRIPTION:
URL:https://fmbcbiloxi.com/event/youth-choir-rehearsal-2023-01-14/
LOCATION:First Missionary Baptist Church\, 658 Esters Blvd\, Biloxi\, MS 39530.\, Missouri\, 39530\, United States
CATEGORIES:Rehearsal
ORGANIZER;CN="First Missionary Baptist Church":MAILTO:emaiil@fjchurch.com
END:VEVENT
BEGIN:VEVENT
DTSTART;TZID=America/New_York:20221210T100000
DTEND;TZID=America/New_York:20221210T100000
DTSTAMP:20260419T233158
CREATED:20210405T175820Z
LAST-MODIFIED:20210405T175820Z
UID:1161-1670666400-1670666400@fmbcbiloxi.com
SUMMARY:Youth Choir Rehearsal
DESCRIPTION:
URL:https://fmbcbiloxi.com/event/youth-choir-rehearsal-2022-12-10/
LOCATION:First Missionary Baptist Church\, 658 Esters Blvd\, Biloxi\, MS 39530.\, Missouri\, 39530\, United States
CATEGORIES:Rehearsal
ORGANIZER;CN="First Missionary Baptist Church":MAILTO:emaiil@fjchurch.com
END:VEVENT
BEGIN:VEVENT
DTSTART;TZID=America/New_York:20221112T100000
DTEND;TZID=America/New_York:20221112T100000
DTSTAMP:20260419T233158
CREATED:20210405T175820Z
LAST-MODIFIED:20210405T175820Z
UID:1160-1668247200-1668247200@fmbcbiloxi.com
SUMMARY:Youth Choir Rehearsal
DESCRIPTION:
URL:https://fmbcbiloxi.com/event/youth-choir-rehearsal-2022-11-12/
LOCATION:First Missionary Baptist Church\, 658 Esters Blvd\, Biloxi\, MS 39530.\, Missouri\, 39530\, United States
CATEGORIES:Rehearsal
ORGANIZER;CN="First Missionary Baptist Church":MAILTO:emaiil@fjchurch.com
END:VEVENT
END:VCALENDAR