BEGIN:VCALENDAR
VERSION:2.0
PRODID:-//First Missionary Baptist Church of Biloxi - ECPv6.15.20//NONSGML v1.0//EN
CALSCALE:GREGORIAN
METHOD:PUBLISH
X-ORIGINAL-URL:https://fmbcbiloxi.com
X-WR-CALDESC:Events for First Missionary Baptist Church of Biloxi
REFRESH-INTERVAL;VALUE=DURATION:PT1H
X-Robots-Tag:noindex
X-PUBLISHED-TTL:PT1H
BEGIN:VTIMEZONE
TZID:America/New_York
BEGIN:DAYLIGHT
TZOFFSETFROM:-0500
TZOFFSETTO:-0400
TZNAME:EDT
DTSTART:20240310T070000
END:DAYLIGHT
BEGIN:STANDARD
TZOFFSETFROM:-0400
TZOFFSETTO:-0500
TZNAME:EST
DTSTART:20241103T060000
END:STANDARD
BEGIN:DAYLIGHT
TZOFFSETFROM:-0500
TZOFFSETTO:-0400
TZNAME:EDT
DTSTART:20250309T070000
END:DAYLIGHT
BEGIN:STANDARD
TZOFFSETFROM:-0400
TZOFFSETTO:-0500
TZNAME:EST
DTSTART:20251102T060000
END:STANDARD
BEGIN:DAYLIGHT
TZOFFSETFROM:-0500
TZOFFSETTO:-0400
TZNAME:EDT
DTSTART:20260308T070000
END:DAYLIGHT
BEGIN:STANDARD
TZOFFSETFROM:-0400
TZOFFSETTO:-0500
TZNAME:EST
DTSTART:20261101T060000
END:STANDARD
END:VTIMEZONE
BEGIN:VEVENT
DTSTART;TZID=America/New_York:20251203T180000
DTEND;TZID=America/New_York:20251203T180000
DTSTAMP:20260423T070855
CREATED:20210405T175451Z
LAST-MODIFIED:20210405T175451Z
UID:4285-1764784800-1764784800@fmbcbiloxi.com
SUMMARY:Mid - Week Service
DESCRIPTION:
URL:https://fmbcbiloxi.com/event/mid-week-service-2025-12-03/
LOCATION:FMBC Sanctuary\, 658 Esters Boulevard Biloxi.\, Mississippi\, 39530\, United States
CATEGORIES:Service
ORGANIZER;CN="First Missionary Baptist Church":MAILTO:emaiil@fjchurch.com
END:VEVENT
BEGIN:VEVENT
DTSTART;TZID=America/New_York:20251210T180000
DTEND;TZID=America/New_York:20251210T180000
DTSTAMP:20260423T070855
CREATED:20210405T175451Z
LAST-MODIFIED:20210405T175451Z
UID:4290-1765389600-1765389600@fmbcbiloxi.com
SUMMARY:Mid - Week Service
DESCRIPTION:
URL:https://fmbcbiloxi.com/event/mid-week-service-2025-12-10/
LOCATION:FMBC Sanctuary\, 658 Esters Boulevard Biloxi.\, Mississippi\, 39530\, United States
CATEGORIES:Service
ORGANIZER;CN="First Missionary Baptist Church":MAILTO:emaiil@fjchurch.com
END:VEVENT
BEGIN:VEVENT
DTSTART;TZID=America/New_York:20251217T180000
DTEND;TZID=America/New_York:20251217T180000
DTSTAMP:20260423T070855
CREATED:20210405T175451Z
LAST-MODIFIED:20210405T175451Z
UID:4299-1765994400-1765994400@fmbcbiloxi.com
SUMMARY:Mid - Week Service
DESCRIPTION:
URL:https://fmbcbiloxi.com/event/mid-week-service-2025-12-17/
LOCATION:FMBC Sanctuary\, 658 Esters Boulevard Biloxi.\, Mississippi\, 39530\, United States
CATEGORIES:Service
ORGANIZER;CN="First Missionary Baptist Church":MAILTO:emaiil@fjchurch.com
END:VEVENT
BEGIN:VEVENT
DTSTART;TZID=America/New_York:20251224T180000
DTEND;TZID=America/New_York:20251224T180000
DTSTAMP:20260423T070855
CREATED:20210405T175451Z
LAST-MODIFIED:20210405T175451Z
UID:4303-1766599200-1766599200@fmbcbiloxi.com
SUMMARY:Mid - Week Service
DESCRIPTION:
URL:https://fmbcbiloxi.com/event/mid-week-service-2025-12-24/
LOCATION:FMBC Sanctuary\, 658 Esters Boulevard Biloxi.\, Mississippi\, 39530\, United States
CATEGORIES:Service
ORGANIZER;CN="First Missionary Baptist Church":MAILTO:emaiil@fjchurch.com
END:VEVENT
BEGIN:VEVENT
DTSTART;TZID=America/New_York:20251231T180000
DTEND;TZID=America/New_York:20251231T180000
DTSTAMP:20260423T070855
CREATED:20210405T175451Z
LAST-MODIFIED:20210405T175451Z
UID:4307-1767204000-1767204000@fmbcbiloxi.com
SUMMARY:Mid - Week Service
DESCRIPTION:
URL:https://fmbcbiloxi.com/event/mid-week-service-2025-12-31/
LOCATION:FMBC Sanctuary\, 658 Esters Boulevard Biloxi.\, Mississippi\, 39530\, United States
CATEGORIES:Service
ORGANIZER;CN="First Missionary Baptist Church":MAILTO:emaiil@fjchurch.com
END:VEVENT
END:VCALENDAR