BEGIN:VCALENDAR
VERSION:2.0
PRODID:-//First Missionary Baptist Church of Biloxi - ECPv6.15.20//NONSGML v1.0//EN
CALSCALE:GREGORIAN
METHOD:PUBLISH
X-WR-CALNAME:First Missionary Baptist Church of Biloxi
X-ORIGINAL-URL:https://fmbcbiloxi.com
X-WR-CALDESC:Events for First Missionary Baptist Church of Biloxi
REFRESH-INTERVAL;VALUE=DURATION:PT1H
X-Robots-Tag:noindex
X-PUBLISHED-TTL:PT1H
BEGIN:VTIMEZONE
TZID:America/New_York
BEGIN:DAYLIGHT
TZOFFSETFROM:-0500
TZOFFSETTO:-0400
TZNAME:EDT
DTSTART:20230312T070000
END:DAYLIGHT
BEGIN:STANDARD
TZOFFSETFROM:-0400
TZOFFSETTO:-0500
TZNAME:EST
DTSTART:20231105T060000
END:STANDARD
BEGIN:DAYLIGHT
TZOFFSETFROM:-0500
TZOFFSETTO:-0400
TZNAME:EDT
DTSTART:20240310T070000
END:DAYLIGHT
BEGIN:STANDARD
TZOFFSETFROM:-0400
TZOFFSETTO:-0500
TZNAME:EST
DTSTART:20241103T060000
END:STANDARD
BEGIN:DAYLIGHT
TZOFFSETFROM:-0500
TZOFFSETTO:-0400
TZNAME:EDT
DTSTART:20250309T070000
END:DAYLIGHT
BEGIN:STANDARD
TZOFFSETFROM:-0400
TZOFFSETTO:-0500
TZNAME:EST
DTSTART:20251102T060000
END:STANDARD
BEGIN:DAYLIGHT
TZOFFSETFROM:-0500
TZOFFSETTO:-0400
TZNAME:EDT
DTSTART:20260308T070000
END:DAYLIGHT
BEGIN:STANDARD
TZOFFSETFROM:-0400
TZOFFSETTO:-0500
TZNAME:EST
DTSTART:20261101T060000
END:STANDARD
END:VTIMEZONE
BEGIN:VEVENT
DTSTART;TZID=America/New_York:20240828T180000
DTEND;TZID=America/New_York:20240828T180000
DTSTAMP:20260424T190057
CREATED:20210405T175451Z
LAST-MODIFIED:20210405T175451Z
UID:3634-1724868000-1724868000@fmbcbiloxi.com
SUMMARY:Mid - Week Service
DESCRIPTION:
URL:https://fmbcbiloxi.com/event/mid-week-service-2024-08-28/
LOCATION:FMBC Sanctuary\, 658 Esters Boulevard Biloxi.\, Mississippi\, 39530\, United States
CATEGORIES:Service
ORGANIZER;CN="First Missionary Baptist Church":MAILTO:emaiil@fjchurch.com
END:VEVENT
BEGIN:VEVENT
DTSTART;TZID=America/New_York:20240904T180000
DTEND;TZID=America/New_York:20240904T180000
DTSTAMP:20260424T190057
CREATED:20210405T175451Z
LAST-MODIFIED:20210405T175451Z
UID:3638-1725472800-1725472800@fmbcbiloxi.com
SUMMARY:Mid - Week Service
DESCRIPTION:
URL:https://fmbcbiloxi.com/event/mid-week-service-2024-09-04/
LOCATION:FMBC Sanctuary\, 658 Esters Boulevard Biloxi.\, Mississippi\, 39530\, United States
CATEGORIES:Service
ORGANIZER;CN="First Missionary Baptist Church":MAILTO:emaiil@fjchurch.com
END:VEVENT
BEGIN:VEVENT
DTSTART;TZID=America/New_York:20240911T180000
DTEND;TZID=America/New_York:20240911T180000
DTSTAMP:20260424T190057
CREATED:20210405T175451Z
LAST-MODIFIED:20210405T175451Z
UID:3693-1726077600-1726077600@fmbcbiloxi.com
SUMMARY:Mid - Week Service
DESCRIPTION:
URL:https://fmbcbiloxi.com/event/mid-week-service-2024-09-11/
LOCATION:FMBC Sanctuary\, 658 Esters Boulevard Biloxi.\, Mississippi\, 39530\, United States
CATEGORIES:Service
ORGANIZER;CN="First Missionary Baptist Church":MAILTO:emaiil@fjchurch.com
END:VEVENT
BEGIN:VEVENT
DTSTART;TZID=America/New_York:20240918T180000
DTEND;TZID=America/New_York:20240918T180000
DTSTAMP:20260424T190057
CREATED:20210405T175451Z
LAST-MODIFIED:20210405T175451Z
UID:3741-1726682400-1726682400@fmbcbiloxi.com
SUMMARY:Mid - Week Service
DESCRIPTION:
URL:https://fmbcbiloxi.com/event/mid-week-service-2024-09-18/
LOCATION:FMBC Sanctuary\, 658 Esters Boulevard Biloxi.\, Mississippi\, 39530\, United States
CATEGORIES:Service
ORGANIZER;CN="First Missionary Baptist Church":MAILTO:emaiil@fjchurch.com
END:VEVENT
BEGIN:VEVENT
DTSTART;TZID=America/New_York:20240925T180000
DTEND;TZID=America/New_York:20240925T180000
DTSTAMP:20260424T190057
CREATED:20210405T175451Z
LAST-MODIFIED:20210405T175451Z
UID:3747-1727287200-1727287200@fmbcbiloxi.com
SUMMARY:Mid - Week Service
DESCRIPTION:
URL:https://fmbcbiloxi.com/event/mid-week-service-2024-09-25/
LOCATION:FMBC Sanctuary\, 658 Esters Boulevard Biloxi.\, Mississippi\, 39530\, United States
CATEGORIES:Service
ORGANIZER;CN="First Missionary Baptist Church":MAILTO:emaiil@fjchurch.com
END:VEVENT
BEGIN:VEVENT
DTSTART;TZID=America/New_York:20241002T180000
DTEND;TZID=America/New_York:20241002T180000
DTSTAMP:20260424T190057
CREATED:20210405T175451Z
LAST-MODIFIED:20210405T175451Z
UID:3754-1727892000-1727892000@fmbcbiloxi.com
SUMMARY:Mid - Week Service
DESCRIPTION:
URL:https://fmbcbiloxi.com/event/mid-week-service-2024-10-02/
LOCATION:FMBC Sanctuary\, 658 Esters Boulevard Biloxi.\, Mississippi\, 39530\, United States
CATEGORIES:Service
ORGANIZER;CN="First Missionary Baptist Church":MAILTO:emaiil@fjchurch.com
END:VEVENT
BEGIN:VEVENT
DTSTART;TZID=America/New_York:20241009T180000
DTEND;TZID=America/New_York:20241009T180000
DTSTAMP:20260424T190057
CREATED:20210405T175451Z
LAST-MODIFIED:20210405T175451Z
UID:3787-1728496800-1728496800@fmbcbiloxi.com
SUMMARY:Mid - Week Service
DESCRIPTION:
URL:https://fmbcbiloxi.com/event/mid-week-service-2024-10-09/
LOCATION:FMBC Sanctuary\, 658 Esters Boulevard Biloxi.\, Mississippi\, 39530\, United States
CATEGORIES:Service
ORGANIZER;CN="First Missionary Baptist Church":MAILTO:emaiil@fjchurch.com
END:VEVENT
BEGIN:VEVENT
DTSTART;TZID=America/New_York:20241016T180000
DTEND;TZID=America/New_York:20241016T180000
DTSTAMP:20260424T190057
CREATED:20210405T175451Z
LAST-MODIFIED:20210405T175451Z
UID:3797-1729101600-1729101600@fmbcbiloxi.com
SUMMARY:Mid - Week Service
DESCRIPTION:
URL:https://fmbcbiloxi.com/event/mid-week-service-2024-10-16/
LOCATION:FMBC Sanctuary\, 658 Esters Boulevard Biloxi.\, Mississippi\, 39530\, United States
CATEGORIES:Service
ORGANIZER;CN="First Missionary Baptist Church":MAILTO:emaiil@fjchurch.com
END:VEVENT
BEGIN:VEVENT
DTSTART;TZID=America/New_York:20241023T180000
DTEND;TZID=America/New_York:20241023T180000
DTSTAMP:20260424T190057
CREATED:20210405T175451Z
LAST-MODIFIED:20210405T175451Z
UID:3800-1729706400-1729706400@fmbcbiloxi.com
SUMMARY:Mid - Week Service
DESCRIPTION:
URL:https://fmbcbiloxi.com/event/mid-week-service-2024-10-23/
LOCATION:FMBC Sanctuary\, 658 Esters Boulevard Biloxi.\, Mississippi\, 39530\, United States
CATEGORIES:Service
ORGANIZER;CN="First Missionary Baptist Church":MAILTO:emaiil@fjchurch.com
END:VEVENT
BEGIN:VEVENT
DTSTART;TZID=America/New_York:20241030T180000
DTEND;TZID=America/New_York:20241030T180000
DTSTAMP:20260424T190057
CREATED:20210405T175451Z
LAST-MODIFIED:20210405T175451Z
UID:3803-1730311200-1730311200@fmbcbiloxi.com
SUMMARY:Mid - Week Service
DESCRIPTION:
URL:https://fmbcbiloxi.com/event/mid-week-service-2024-10-30/
LOCATION:FMBC Sanctuary\, 658 Esters Boulevard Biloxi.\, Mississippi\, 39530\, United States
CATEGORIES:Service
ORGANIZER;CN="First Missionary Baptist Church":MAILTO:emaiil@fjchurch.com
END:VEVENT
BEGIN:VEVENT
DTSTART;TZID=America/New_York:20241106T180000
DTEND;TZID=America/New_York:20241106T180000
DTSTAMP:20260424T190057
CREATED:20210405T175451Z
LAST-MODIFIED:20210405T175451Z
UID:3807-1730916000-1730916000@fmbcbiloxi.com
SUMMARY:Mid - Week Service
DESCRIPTION:
URL:https://fmbcbiloxi.com/event/mid-week-service-2024-11-06/
LOCATION:FMBC Sanctuary\, 658 Esters Boulevard Biloxi.\, Mississippi\, 39530\, United States
CATEGORIES:Service
ORGANIZER;CN="First Missionary Baptist Church":MAILTO:emaiil@fjchurch.com
END:VEVENT
BEGIN:VEVENT
DTSTART;TZID=America/New_York:20241113T180000
DTEND;TZID=America/New_York:20241113T180000
DTSTAMP:20260424T190057
CREATED:20210405T175451Z
LAST-MODIFIED:20210405T175451Z
UID:3816-1731520800-1731520800@fmbcbiloxi.com
SUMMARY:Mid - Week Service
DESCRIPTION:
URL:https://fmbcbiloxi.com/event/mid-week-service-2024-11-13/
LOCATION:FMBC Sanctuary\, 658 Esters Boulevard Biloxi.\, Mississippi\, 39530\, United States
CATEGORIES:Service
ORGANIZER;CN="First Missionary Baptist Church":MAILTO:emaiil@fjchurch.com
END:VEVENT
BEGIN:VEVENT
DTSTART;TZID=America/New_York:20241120T180000
DTEND;TZID=America/New_York:20241120T180000
DTSTAMP:20260424T190057
CREATED:20210405T175451Z
LAST-MODIFIED:20210405T175451Z
UID:3822-1732125600-1732125600@fmbcbiloxi.com
SUMMARY:Mid - Week Service
DESCRIPTION:
URL:https://fmbcbiloxi.com/event/mid-week-service-2024-11-20/
LOCATION:FMBC Sanctuary\, 658 Esters Boulevard Biloxi.\, Mississippi\, 39530\, United States
CATEGORIES:Service
ORGANIZER;CN="First Missionary Baptist Church":MAILTO:emaiil@fjchurch.com
END:VEVENT
BEGIN:VEVENT
DTSTART;TZID=America/New_York:20241127T180000
DTEND;TZID=America/New_York:20241127T180000
DTSTAMP:20260424T190057
CREATED:20210405T175451Z
LAST-MODIFIED:20210405T175451Z
UID:3825-1732730400-1732730400@fmbcbiloxi.com
SUMMARY:Mid - Week Service
DESCRIPTION:
URL:https://fmbcbiloxi.com/event/mid-week-service-2024-11-27/
LOCATION:FMBC Sanctuary\, 658 Esters Boulevard Biloxi.\, Mississippi\, 39530\, United States
CATEGORIES:Service
ORGANIZER;CN="First Missionary Baptist Church":MAILTO:emaiil@fjchurch.com
END:VEVENT
BEGIN:VEVENT
DTSTART;TZID=America/New_York:20241204T180000
DTEND;TZID=America/New_York:20241204T180000
DTSTAMP:20260424T190057
CREATED:20210405T175451Z
LAST-MODIFIED:20210405T175451Z
UID:3829-1733335200-1733335200@fmbcbiloxi.com
SUMMARY:Mid - Week Service
DESCRIPTION:
URL:https://fmbcbiloxi.com/event/mid-week-service-2024-12-04/
LOCATION:FMBC Sanctuary\, 658 Esters Boulevard Biloxi.\, Mississippi\, 39530\, United States
CATEGORIES:Service
ORGANIZER;CN="First Missionary Baptist Church":MAILTO:emaiil@fjchurch.com
END:VEVENT
BEGIN:VEVENT
DTSTART;TZID=America/New_York:20241211T180000
DTEND;TZID=America/New_York:20241211T180000
DTSTAMP:20260424T190057
CREATED:20210405T175451Z
LAST-MODIFIED:20210405T175451Z
UID:3835-1733940000-1733940000@fmbcbiloxi.com
SUMMARY:Mid - Week Service
DESCRIPTION:
URL:https://fmbcbiloxi.com/event/mid-week-service-2024-12-11/
LOCATION:FMBC Sanctuary\, 658 Esters Boulevard Biloxi.\, Mississippi\, 39530\, United States
CATEGORIES:Service
ORGANIZER;CN="First Missionary Baptist Church":MAILTO:emaiil@fjchurch.com
END:VEVENT
BEGIN:VEVENT
DTSTART;TZID=America/New_York:20241218T180000
DTEND;TZID=America/New_York:20241218T180000
DTSTAMP:20260424T190057
CREATED:20210405T175451Z
LAST-MODIFIED:20210405T175451Z
UID:3844-1734544800-1734544800@fmbcbiloxi.com
SUMMARY:Mid - Week Service
DESCRIPTION:
URL:https://fmbcbiloxi.com/event/mid-week-service-2024-12-18/
LOCATION:FMBC Sanctuary\, 658 Esters Boulevard Biloxi.\, Mississippi\, 39530\, United States
CATEGORIES:Service
ORGANIZER;CN="First Missionary Baptist Church":MAILTO:emaiil@fjchurch.com
END:VEVENT
BEGIN:VEVENT
DTSTART;TZID=America/New_York:20241225T180000
DTEND;TZID=America/New_York:20241225T180000
DTSTAMP:20260424T190057
CREATED:20210405T175451Z
LAST-MODIFIED:20210405T175451Z
UID:3847-1735149600-1735149600@fmbcbiloxi.com
SUMMARY:Mid - Week Service
DESCRIPTION:
URL:https://fmbcbiloxi.com/event/mid-week-service-2024-12-25/
LOCATION:FMBC Sanctuary\, 658 Esters Boulevard Biloxi.\, Mississippi\, 39530\, United States
CATEGORIES:Service
ORGANIZER;CN="First Missionary Baptist Church":MAILTO:emaiil@fjchurch.com
END:VEVENT
BEGIN:VEVENT
DTSTART;TZID=America/New_York:20250101T180000
DTEND;TZID=America/New_York:20250101T180000
DTSTAMP:20260424T190057
CREATED:20210405T175451Z
LAST-MODIFIED:20210405T175451Z
UID:3850-1735754400-1735754400@fmbcbiloxi.com
SUMMARY:Mid - Week Service
DESCRIPTION:
URL:https://fmbcbiloxi.com/event/mid-week-service-2025-01-01/
LOCATION:FMBC Sanctuary\, 658 Esters Boulevard Biloxi.\, Mississippi\, 39530\, United States
CATEGORIES:Service
ORGANIZER;CN="First Missionary Baptist Church":MAILTO:emaiil@fjchurch.com
END:VEVENT
BEGIN:VEVENT
DTSTART;TZID=America/New_York:20250108T180000
DTEND;TZID=America/New_York:20250108T180000
DTSTAMP:20260424T190057
CREATED:20210405T175451Z
LAST-MODIFIED:20210405T175451Z
UID:3854-1736359200-1736359200@fmbcbiloxi.com
SUMMARY:Mid - Week Service
DESCRIPTION:
URL:https://fmbcbiloxi.com/event/mid-week-service-2025-01-08/
LOCATION:FMBC Sanctuary\, 658 Esters Boulevard Biloxi.\, Mississippi\, 39530\, United States
CATEGORIES:Service
ORGANIZER;CN="First Missionary Baptist Church":MAILTO:emaiil@fjchurch.com
END:VEVENT
BEGIN:VEVENT
DTSTART;TZID=America/New_York:20250115T180000
DTEND;TZID=America/New_York:20250115T180000
DTSTAMP:20260424T190057
CREATED:20210405T175451Z
LAST-MODIFIED:20210405T175451Z
UID:3864-1736964000-1736964000@fmbcbiloxi.com
SUMMARY:Mid - Week Service
DESCRIPTION:
URL:https://fmbcbiloxi.com/event/mid-week-service-2025-01-15/
LOCATION:FMBC Sanctuary\, 658 Esters Boulevard Biloxi.\, Mississippi\, 39530\, United States
CATEGORIES:Service
ORGANIZER;CN="First Missionary Baptist Church":MAILTO:emaiil@fjchurch.com
END:VEVENT
BEGIN:VEVENT
DTSTART;TZID=America/New_York:20250122T180000
DTEND;TZID=America/New_York:20250122T180000
DTSTAMP:20260424T190057
CREATED:20210405T175451Z
LAST-MODIFIED:20210405T175451Z
UID:3879-1737568800-1737568800@fmbcbiloxi.com
SUMMARY:Mid - Week Service
DESCRIPTION:
URL:https://fmbcbiloxi.com/event/mid-week-service-2025-01-22/
LOCATION:FMBC Sanctuary\, 658 Esters Boulevard Biloxi.\, Mississippi\, 39530\, United States
CATEGORIES:Service
ORGANIZER;CN="First Missionary Baptist Church":MAILTO:emaiil@fjchurch.com
END:VEVENT
BEGIN:VEVENT
DTSTART;TZID=America/New_York:20250129T180000
DTEND;TZID=America/New_York:20250129T180000
DTSTAMP:20260424T190057
CREATED:20210405T175451Z
LAST-MODIFIED:20210405T175451Z
UID:3885-1738173600-1738173600@fmbcbiloxi.com
SUMMARY:Mid - Week Service
DESCRIPTION:
URL:https://fmbcbiloxi.com/event/mid-week-service-2025-01-29/
LOCATION:FMBC Sanctuary\, 658 Esters Boulevard Biloxi.\, Mississippi\, 39530\, United States
CATEGORIES:Service
ORGANIZER;CN="First Missionary Baptist Church":MAILTO:emaiil@fjchurch.com
END:VEVENT
BEGIN:VEVENT
DTSTART;TZID=America/New_York:20250205T180000
DTEND;TZID=America/New_York:20250205T180000
DTSTAMP:20260424T190057
CREATED:20210405T175451Z
LAST-MODIFIED:20210405T175451Z
UID:3890-1738778400-1738778400@fmbcbiloxi.com
SUMMARY:Mid - Week Service
DESCRIPTION:
URL:https://fmbcbiloxi.com/event/mid-week-service-2025-02-05/
LOCATION:FMBC Sanctuary\, 658 Esters Boulevard Biloxi.\, Mississippi\, 39530\, United States
CATEGORIES:Service
ORGANIZER;CN="First Missionary Baptist Church":MAILTO:emaiil@fjchurch.com
END:VEVENT
BEGIN:VEVENT
DTSTART;TZID=America/New_York:20250212T180000
DTEND;TZID=America/New_York:20250212T180000
DTSTAMP:20260424T190057
CREATED:20210405T175451Z
LAST-MODIFIED:20210405T175451Z
UID:3912-1739383200-1739383200@fmbcbiloxi.com
SUMMARY:Mid - Week Service
DESCRIPTION:
URL:https://fmbcbiloxi.com/event/mid-week-service-2025-02-12/
LOCATION:FMBC Sanctuary\, 658 Esters Boulevard Biloxi.\, Mississippi\, 39530\, United States
CATEGORIES:Service
ORGANIZER;CN="First Missionary Baptist Church":MAILTO:emaiil@fjchurch.com
END:VEVENT
BEGIN:VEVENT
DTSTART;TZID=America/New_York:20250219T180000
DTEND;TZID=America/New_York:20250219T180000
DTSTAMP:20260424T190057
CREATED:20210405T175451Z
LAST-MODIFIED:20210405T175451Z
UID:3923-1739988000-1739988000@fmbcbiloxi.com
SUMMARY:Mid - Week Service
DESCRIPTION:
URL:https://fmbcbiloxi.com/event/mid-week-service-2025-02-19/
LOCATION:FMBC Sanctuary\, 658 Esters Boulevard Biloxi.\, Mississippi\, 39530\, United States
CATEGORIES:Service
ORGANIZER;CN="First Missionary Baptist Church":MAILTO:emaiil@fjchurch.com
END:VEVENT
BEGIN:VEVENT
DTSTART;TZID=America/New_York:20250226T180000
DTEND;TZID=America/New_York:20250226T180000
DTSTAMP:20260424T190057
CREATED:20210405T175451Z
LAST-MODIFIED:20210405T175451Z
UID:3935-1740592800-1740592800@fmbcbiloxi.com
SUMMARY:Mid - Week Service
DESCRIPTION:
URL:https://fmbcbiloxi.com/event/mid-week-service-2025-02-26/
LOCATION:FMBC Sanctuary\, 658 Esters Boulevard Biloxi.\, Mississippi\, 39530\, United States
CATEGORIES:Service
ORGANIZER;CN="First Missionary Baptist Church":MAILTO:emaiil@fjchurch.com
END:VEVENT
BEGIN:VEVENT
DTSTART;TZID=America/New_York:20250305T180000
DTEND;TZID=America/New_York:20250305T180000
DTSTAMP:20260424T190057
CREATED:20210405T175451Z
LAST-MODIFIED:20210405T175451Z
UID:3939-1741197600-1741197600@fmbcbiloxi.com
SUMMARY:Mid - Week Service
DESCRIPTION:
URL:https://fmbcbiloxi.com/event/mid-week-service-2025-03-05/
LOCATION:FMBC Sanctuary\, 658 Esters Boulevard Biloxi.\, Mississippi\, 39530\, United States
CATEGORIES:Service
ORGANIZER;CN="First Missionary Baptist Church":MAILTO:emaiil@fjchurch.com
END:VEVENT
BEGIN:VEVENT
DTSTART;TZID=America/New_York:20250312T180000
DTEND;TZID=America/New_York:20250312T180000
DTSTAMP:20260424T190057
CREATED:20210405T175451Z
LAST-MODIFIED:20210405T175451Z
UID:3971-1741802400-1741802400@fmbcbiloxi.com
SUMMARY:Mid - Week Service
DESCRIPTION:
URL:https://fmbcbiloxi.com/event/mid-week-service-2025-03-12/
LOCATION:FMBC Sanctuary\, 658 Esters Boulevard Biloxi.\, Mississippi\, 39530\, United States
CATEGORIES:Service
ORGANIZER;CN="First Missionary Baptist Church":MAILTO:emaiil@fjchurch.com
END:VEVENT
BEGIN:VEVENT
DTSTART;TZID=America/New_York:20250319T180000
DTEND;TZID=America/New_York:20250319T180000
DTSTAMP:20260424T190057
CREATED:20210405T175451Z
LAST-MODIFIED:20210405T175451Z
UID:3977-1742407200-1742407200@fmbcbiloxi.com
SUMMARY:Mid - Week Service
DESCRIPTION:
URL:https://fmbcbiloxi.com/event/mid-week-service-2025-03-19/
LOCATION:FMBC Sanctuary\, 658 Esters Boulevard Biloxi.\, Mississippi\, 39530\, United States
CATEGORIES:Service
ORGANIZER;CN="First Missionary Baptist Church":MAILTO:emaiil@fjchurch.com
END:VEVENT
END:VCALENDAR