BEGIN:VCALENDAR
VERSION:2.0
PRODID:-//First Missionary Baptist Church of Biloxi - ECPv6.15.20//NONSGML v1.0//EN
CALSCALE:GREGORIAN
METHOD:PUBLISH
X-ORIGINAL-URL:https://fmbcbiloxi.com
X-WR-CALDESC:Events for First Missionary Baptist Church of Biloxi
REFRESH-INTERVAL;VALUE=DURATION:PT1H
X-Robots-Tag:noindex
X-PUBLISHED-TTL:PT1H
BEGIN:VTIMEZONE
TZID:America/New_York
BEGIN:DAYLIGHT
TZOFFSETFROM:-0500
TZOFFSETTO:-0400
TZNAME:EDT
DTSTART:20250309T070000
END:DAYLIGHT
BEGIN:STANDARD
TZOFFSETFROM:-0400
TZOFFSETTO:-0500
TZNAME:EST
DTSTART:20251102T060000
END:STANDARD
BEGIN:DAYLIGHT
TZOFFSETFROM:-0500
TZOFFSETTO:-0400
TZNAME:EDT
DTSTART:20260308T070000
END:DAYLIGHT
BEGIN:STANDARD
TZOFFSETFROM:-0400
TZOFFSETTO:-0500
TZNAME:EST
DTSTART:20261101T060000
END:STANDARD
BEGIN:DAYLIGHT
TZOFFSETFROM:-0500
TZOFFSETTO:-0400
TZNAME:EDT
DTSTART:20270314T070000
END:DAYLIGHT
BEGIN:STANDARD
TZOFFSETFROM:-0400
TZOFFSETTO:-0500
TZNAME:EST
DTSTART:20271107T060000
END:STANDARD
END:VTIMEZONE
BEGIN:VEVENT
DTSTART;TZID=America/New_York:20260415T180000
DTEND;TZID=America/New_York:20260415T180000
DTSTAMP:20260421T201922
CREATED:20210405T175451Z
LAST-MODIFIED:20210405T175451Z
UID:4436-1776276000-1776276000@fmbcbiloxi.com
SUMMARY:Mid - Week Service
DESCRIPTION:
URL:https://fmbcbiloxi.com/event/mid-week-service-2026-04-15/
LOCATION:FMBC Sanctuary\, 658 Esters Boulevard Biloxi.\, Mississippi\, 39530\, United States
CATEGORIES:Service
ORGANIZER;CN="First Missionary Baptist Church":MAILTO:emaiil@fjchurch.com
END:VEVENT
BEGIN:VEVENT
DTSTART;TZID=America/New_York:20260422T180000
DTEND;TZID=America/New_York:20260422T180000
DTSTAMP:20260421T201922
CREATED:20210405T175451Z
LAST-MODIFIED:20210405T175451Z
UID:4441-1776880800-1776880800@fmbcbiloxi.com
SUMMARY:Mid - Week Service
DESCRIPTION:
URL:https://fmbcbiloxi.com/event/mid-week-service-2026-04-22/
LOCATION:FMBC Sanctuary\, 658 Esters Boulevard Biloxi.\, Mississippi\, 39530\, United States
CATEGORIES:Service
ORGANIZER;CN="First Missionary Baptist Church":MAILTO:emaiil@fjchurch.com
END:VEVENT
BEGIN:VEVENT
DTSTART;TZID=America/New_York:20260429T180000
DTEND;TZID=America/New_York:20260429T180000
DTSTAMP:20260421T201922
CREATED:20210405T175451Z
LAST-MODIFIED:20210405T175451Z
UID:4454-1777485600-1777485600@fmbcbiloxi.com
SUMMARY:Mid - Week Service
DESCRIPTION:
URL:https://fmbcbiloxi.com/event/mid-week-service-2026-04-29/
LOCATION:FMBC Sanctuary\, 658 Esters Boulevard Biloxi.\, Mississippi\, 39530\, United States
CATEGORIES:Service
ORGANIZER;CN="First Missionary Baptist Church":MAILTO:emaiil@fjchurch.com
END:VEVENT
BEGIN:VEVENT
DTSTART;TZID=America/New_York:20260506T180000
DTEND;TZID=America/New_York:20260506T180000
DTSTAMP:20260421T201922
CREATED:20210405T175451Z
LAST-MODIFIED:20210405T175451Z
UID:4458-1778090400-1778090400@fmbcbiloxi.com
SUMMARY:Mid - Week Service
DESCRIPTION:
URL:https://fmbcbiloxi.com/event/mid-week-service-2026-05-06/
LOCATION:FMBC Sanctuary\, 658 Esters Boulevard Biloxi.\, Mississippi\, 39530\, United States
CATEGORIES:Service
ORGANIZER;CN="First Missionary Baptist Church":MAILTO:emaiil@fjchurch.com
END:VEVENT
BEGIN:VEVENT
DTSTART;TZID=America/New_York:20260513T180000
DTEND;TZID=America/New_York:20260513T180000
DTSTAMP:20260421T201922
CREATED:20210405T175451Z
LAST-MODIFIED:20210405T175451Z
UID:4467-1778695200-1778695200@fmbcbiloxi.com
SUMMARY:Mid - Week Service
DESCRIPTION:
URL:https://fmbcbiloxi.com/event/mid-week-service-2026-05-13/
LOCATION:FMBC Sanctuary\, 658 Esters Boulevard Biloxi.\, Mississippi\, 39530\, United States
CATEGORIES:Service
ORGANIZER;CN="First Missionary Baptist Church":MAILTO:emaiil@fjchurch.com
END:VEVENT
END:VCALENDAR